Back to Multiple platform build/check report for BioC 3.19:   simplified   long
A[B]CDEFGHIJKLMNOPQRSTUVWXYZ

This page was generated on 2024-07-24 09:05 -0400 (Wed, 24 Jul 2024).

HostnameOSArch (*)R versionInstalled pkgs
nebbiolo1Linux (Ubuntu 22.04.3 LTS)x86_644.4.1 (2024-06-14) -- "Race for Your Life" 4747
palomino7Windows Server 2022 Datacenterx644.4.1 (2024-06-14 ucrt) -- "Race for Your Life" 4489
merida1macOS 12.7.5 Montereyx86_644.4.1 (2024-06-14) -- "Race for Your Life" 4518
kjohnson1macOS 13.6.6 Venturaarm644.4.1 (2024-06-14) -- "Race for Your Life" 4467
Click on any hostname to see more info about the system (e.g. compilers)      (*) as reported by 'uname -p', except on Windows and Mac OS X

Package 213/2300HostnameOS / ArchINSTALLBUILDCHECKBUILD BIN
BioNAR 1.6.1  (landing page)
Anatoly Sorokin
Snapshot Date: 2024-07-21 14:00 -0400 (Sun, 21 Jul 2024)
git_url: https://git.bioconductor.org/packages/BioNAR
git_branch: RELEASE_3_19
git_last_commit: cdbb37f
git_last_commit_date: 2024-07-12 03:14:31 -0400 (Fri, 12 Jul 2024)
nebbiolo1Linux (Ubuntu 22.04.3 LTS) / x86_64  OK    OK    OK  UNNEEDED, same version is already published
palomino7Windows Server 2022 Datacenter / x64  OK    OK    OK    OK  YES
merida1macOS 12.7.5 Monterey / x86_64  OK    OK    OK    OK  UNNEEDED, same version is already published
kjohnson1macOS 13.6.6 Ventura / arm64  OK    OK    OK    OK  UNNEEDED, same version is already published


BUILD results for BioNAR on merida1

To the developers/maintainers of the BioNAR package:
- Allow up to 24 hours (and sometimes 48 hours) for your latest push to git@git.bioconductor.org:packages/BioNAR.git to reflect on this report. See Troubleshooting Build Report for more information.
- Use the following Renviron settings to reproduce errors and warnings.
- If 'R CMD check' started to fail recently on the Linux builder(s) over a missing dependency, add the missing dependency to 'Suggests:' in your DESCRIPTION file. See Renviron.bioc for more information.

raw results


Summary

Package: BioNAR
Version: 1.6.1
Command: /Library/Frameworks/R.framework/Resources/bin/R CMD build --keep-empty-dirs --no-resave-data BioNAR
StartedAt: 2024-07-21 17:30:46 -0400 (Sun, 21 Jul 2024)
EndedAt: 2024-07-21 17:35:20 -0400 (Sun, 21 Jul 2024)
EllapsedTime: 273.9 seconds
RetCode: 0
Status:   OK  
PackageFile: BioNAR_1.6.1.tar.gz
PackageFileSize: 3.535 MiB

Command output

##############################################################################
##############################################################################
###
### Running command:
###
###   /Library/Frameworks/R.framework/Resources/bin/R CMD build --keep-empty-dirs --no-resave-data BioNAR
###
##############################################################################
##############################################################################


* checking for file ‘BioNAR/DESCRIPTION’ ... OK
* preparing ‘BioNAR’:
* checking DESCRIPTION meta-information ... OK
* installing the package to build vignettes
* creating vignettes ... OK
* checking for LF line-endings in source and make files and shell scripts
* checking for empty or unneeded directories
* building ‘BioNAR_1.6.1.tar.gz’