Back to Multiple platform build/check report for BioC 3.13
A[B]CDEFGHIJKLMNOPQRSTUVWXYZ

This page was generated on 2021-07-21 15:05:15 -0400 (Wed, 21 Jul 2021).

CHECK results for BioMVCClass on tokay2

To the developers/maintainers of the BioMVCClass package:
- Please allow up to 24 hours (and sometimes 48 hours) for your latest push to git@git.bioconductor.org:packages/BioMVCClass.git to
reflect on this report. See How and When does the builder pull? When will my changes propagate? here for more information.
- Make sure to use the following settings in order to reproduce any error or warning you see on this page.

raw results

Package 183/2041HostnameOS / ArchINSTALLBUILDCHECKBUILD BIN
BioMVCClass 1.60.0  (landing page)
Elizabeth Whalen
Snapshot Date: 2021-07-20 04:50:13 -0400 (Tue, 20 Jul 2021)
URL: https://git.bioconductor.org/packages/BioMVCClass
Branch: RELEASE_3_13
Last Commit: b626fb8
Last Changed Date: 2021-05-19 11:37:57 -0400 (Wed, 19 May 2021)
nebbiolo1Linux (Ubuntu 20.04.2 LTS) / x86_64  OK    OK    OK  UNNEEDED, same version is already published
tokay2Windows Server 2012 R2 Standard / x64  OK    OK    OK    OK  UNNEEDED, same version is already published
machv2macOS 10.14.6 Mojave / x86_64  OK    OK    OK    OK  UNNEEDED, same version is already published

Summary

Package: BioMVCClass
Version: 1.60.0
Command: C:\Users\biocbuild\bbs-3.13-bioc\R\bin\R.exe CMD check --force-multiarch --install=check:BioMVCClass.install-out.txt --library=C:\Users\biocbuild\bbs-3.13-bioc\R\library --no-vignettes --timings BioMVCClass_1.60.0.tar.gz
StartedAt: 2021-07-20 21:01:52 -0400 (Tue, 20 Jul 2021)
EndedAt: 2021-07-20 21:02:58 -0400 (Tue, 20 Jul 2021)
EllapsedTime: 66.2 seconds
RetCode: 0
Status:   OK  
CheckDir: BioMVCClass.Rcheck
Warnings: 0

Command output

##############################################################################
##############################################################################
###
### Running command:
###
###   C:\Users\biocbuild\bbs-3.13-bioc\R\bin\R.exe CMD check --force-multiarch --install=check:BioMVCClass.install-out.txt --library=C:\Users\biocbuild\bbs-3.13-bioc\R\library --no-vignettes --timings BioMVCClass_1.60.0.tar.gz
###
##############################################################################
##############################################################################


* using log directory 'C:/Users/biocbuild/bbs-3.13-bioc/meat/BioMVCClass.Rcheck'
* using R version 4.1.0 (2021-05-18)
* using platform: x86_64-w64-mingw32 (64-bit)
* using session charset: ISO8859-1
* using option '--no-vignettes'
* checking for file 'BioMVCClass/DESCRIPTION' ... OK
* this is package 'BioMVCClass' version '1.60.0'
* checking package namespace information ... OK
* checking package dependencies ... OK
* checking if this is a source package ... OK
* checking if there is a namespace ... OK
* checking for hidden files and directories ... OK
* checking for portable file names ... OK
* checking whether package 'BioMVCClass' can be installed ... OK
* checking installed package size ... OK
* checking package directory ... OK
* checking 'build' directory ... OK
* checking DESCRIPTION meta-information ... NOTE
Malformed Description field: should contain one or more complete sentences.
* checking top-level files ... OK
* checking for left-over files ... OK
* checking index information ... OK
* checking package subdirectories ... OK
* checking R files for non-ASCII characters ... OK
* checking R files for syntax errors ... OK
* loading checks for arch 'i386'
** checking whether the package can be loaded ... OK
** checking whether the package can be loaded with stated dependencies ... OK
** checking whether the package can be unloaded cleanly ... OK
** checking whether the namespace can be loaded with stated dependencies ... OK
** checking whether the namespace can be unloaded cleanly ... OK
* loading checks for arch 'x64'
** checking whether the package can be loaded ... OK
** checking whether the package can be loaded with stated dependencies ... OK
** checking whether the package can be unloaded cleanly ... OK
** checking whether the namespace can be loaded with stated dependencies ... OK
** checking whether the namespace can be unloaded cleanly ... OK
* checking dependencies in R code ... NOTE
Package in Depends field not imported from: 'methods'
  These packages need to be imported from (in the NAMESPACE file)
  for when this namespace is loaded but not attached.
* checking S3 generic/method consistency ... OK
* checking replacement functions ... OK
* checking foreign function calls ... OK
* checking R code for possible problems ... OK
* checking Rd files ... NOTE
prepare_Rd: GSE-class.Rd:63-64: Dropping empty section \examples
prepare_Rd: exprModel-class.Rd:42-43: Dropping empty section \examples
prepare_Rd: graphModel-class.Rd:41-42: Dropping empty section \examples
prepare_Rd: graphView-class.Rd:44-45: Dropping empty section \examples
prepare_Rd: gseModel-class.Rd:43-44: Dropping empty section \examples
prepare_Rd: heatmapView-class.Rd:56-57: Dropping empty section \examples
* checking Rd metadata ... OK
* checking Rd cross-references ... OK
* checking for missing documentation entries ... OK
* checking for code/documentation mismatches ... OK
* checking Rd \usage sections ... OK
* checking Rd contents ... OK
* checking for unstated dependencies in examples ... OK
* checking files in 'vignettes' ... OK
* checking examples ... NONE
* checking for unstated dependencies in vignettes ... OK
* checking package vignettes in 'inst/doc' ... OK
* checking running R code from vignettes ... SKIPPED
* checking re-building of vignette outputs ... SKIPPED
* checking PDF version of manual ... OK
* DONE

Status: 3 NOTEs
See
  'C:/Users/biocbuild/bbs-3.13-bioc/meat/BioMVCClass.Rcheck/00check.log'
for details.



Installation output

BioMVCClass.Rcheck/00install.out

##############################################################################
##############################################################################
###
### Running command:
###
###   C:\cygwin\bin\curl.exe -O http://155.52.207.165/BBS/3.13/bioc/src/contrib/BioMVCClass_1.60.0.tar.gz && rm -rf BioMVCClass.buildbin-libdir && mkdir BioMVCClass.buildbin-libdir && C:\Users\biocbuild\bbs-3.13-bioc\R\bin\R.exe CMD INSTALL --merge-multiarch --build --library=BioMVCClass.buildbin-libdir BioMVCClass_1.60.0.tar.gz && C:\Users\biocbuild\bbs-3.13-bioc\R\bin\R.exe CMD INSTALL BioMVCClass_1.60.0.zip && rm BioMVCClass_1.60.0.tar.gz BioMVCClass_1.60.0.zip
###
##############################################################################
##############################################################################


  % Total    % Received % Xferd  Average Speed   Time    Time     Time  Current
                                 Dload  Upload   Total   Spent    Left  Speed

  0     0    0     0    0     0      0      0 --:--:-- --:--:-- --:--:--     0
100 39808  100 39808    0     0   231k      0 --:--:-- --:--:-- --:--:--  232k

install for i386

* installing *source* package 'BioMVCClass' ...
** using staged installation
** R
** byte-compile and prepare package for lazy loading
** help
*** installing help indices
  converting help for package 'BioMVCClass'
    finding HTML links ... done
    GSE-class                               html  
REDIRECT:topic	 incidMat<-,GSE-method -> GSE-class.html [ FAIL ]
REDIRECT:topic	 incidMat<- -> GSE-class.html [ FAIL ]
REDIRECT:topic	 gTestStat<-,GSE-method -> GSE-class.html [ FAIL ]
REDIRECT:topic	 gTestStat<- -> GSE-class.html [ FAIL ]
REDIRECT:topic	 gsTestStat<-,GSE-method -> GSE-class.html [ FAIL ]
REDIRECT:topic	 gsTestStat<- -> GSE-class.html [ FAIL ]
REDIRECT:topic	 expData<-,GSE-method -> GSE-class.html [ FAIL ]
REDIRECT:topic	 expData<- -> GSE-class.html [ FAIL ]
REDIRECT:topic	 descr<-,GSE-method -> GSE-class.html [ FAIL ]
REDIRECT:topic	 descr<- -> GSE-class.html [ FAIL ]
    exprModel-class                         html  
    graphModel-class                        html  
    graphView-class                         html  
REDIRECT:topic	 grLayout<-,graphView-method -> graphView-class.html [ FAIL ]
REDIRECT:topic	 grLayout<- -> graphView-class.html [ FAIL ]
    gseModel-class                          html  
    heatmapView-class                       html  
REDIRECT:topic	 ordering<-,heatmapView-method -> heatmapView-class.html [ FAIL ]
REDIRECT:topic	 ordering<- -> heatmapView-class.html [ FAIL ]
REDIRECT:topic	 rNames<-,heatmapView-method -> heatmapView-class.html [ FAIL ]
REDIRECT:topic	 rNames<- -> heatmapView-class.html [ FAIL ]
** building package indices
** installing vignettes
** testing if installed package can be loaded from temporary location
** testing if installed package can be loaded from final location
** testing if installed package keeps a record of temporary installation path

install for x64

* installing *source* package 'BioMVCClass' ...
** testing if installed package can be loaded
* MD5 sums
packaged installation of 'BioMVCClass' as BioMVCClass_1.60.0.zip
* DONE (BioMVCClass)
* installing to library 'C:/Users/biocbuild/bbs-3.13-bioc/R/library'
package 'BioMVCClass' successfully unpacked and MD5 sums checked

Tests output


Example timings