Index of /checkResults/release/bioc-LATEST/BioMVCClass/raw-results/nebbiolo1

[ICO]NameLast modifiedSizeDescription

[DIR]Parent Directory  -  
[TXT]buildsrc-out.txt16-Oct-2021 04:05 822  
[   ]buildsrc-summary.dcf16-Oct-2021 04:05 428  
[TXT]checksrc-out.txt16-Oct-2021 04:05 3.6K 
[   ]checksrc-summary.dcf16-Oct-2021 04:05 439  
[TXT]install-out.txt16-Oct-2021 04:05 951  
[   ]install-summary.dcf16-Oct-2021 04:05 266