Index of /checkResults/release/bioc-LATEST/BioMVCClass/raw-results/machv2

[ICO]NameLast modifiedSizeDescription

[DIR]Parent Directory  -  
[TXT]buildbin-out.txt16-Oct-2021 04:06 1.2K 
[   ]buildbin-summary.dcf16-Oct-2021 04:06 571  
[TXT]buildsrc-out.txt16-Oct-2021 04:06 849  
[   ]buildsrc-summary.dcf16-Oct-2021 04:06 454  
[TXT]checksrc-out.txt16-Oct-2021 04:06 3.9K 
[   ]checksrc-summary.dcf16-Oct-2021 04:06 493  
[TXT]install-out.txt16-Oct-2021 04:06 1.0K 
[   ]install-summary.dcf16-Oct-2021 04:06 294