Index of /checkResults/release/bioc-LATEST/BioCor/raw-results/palomino3

[ICO]NameLast modifiedSizeDescription

[DIR]Parent Directory  -  
[   ]install-summary.dcf29-Jun-2024 06:41 266  
[   ]checksrc-summary.dcf29-Jun-2024 06:41 443  
[   ]buildsrc-summary.dcf29-Jun-2024 06:41 449  
[   ]buildbin-summary.dcf29-Jun-2024 06:41 509  
[TXT]buildsrc-out.txt29-Jun-2024 06:41 834  
[TXT]install-out.txt29-Jun-2024 06:41 1.6K 
[TXT]buildbin-out.txt29-Jun-2024 06:41 1.7K 
[TXT]checksrc-out.txt29-Jun-2024 06:41 3.5K