Index of /checkResults/release/bioc-LATEST/BioCor/raw-results/palomino3

[ICO]NameLast modifiedSizeDescription

[DIR]Parent Directory  -  
[TXT]buildbin-out.txt22-Jun-2024 06:39 1.7K 
[   ]buildbin-summary.dcf22-Jun-2024 06:39 509  
[TXT]buildsrc-out.txt22-Jun-2024 06:39 834  
[   ]buildsrc-summary.dcf22-Jun-2024 06:39 449  
[TXT]checksrc-out.txt22-Jun-2024 06:39 3.7K 
[   ]checksrc-summary.dcf22-Jun-2024 06:39 443  
[TXT]install-out.txt22-Jun-2024 06:39 1.6K 
[   ]install-summary.dcf22-Jun-2024 06:39 266