Index of /checkResults/release/bioc-LATEST/BioCor/raw-results/nebbiolo1

[ICO]NameLast modifiedSizeDescription

[DIR]Parent Directory  -  
[TXT]buildsrc-out.txt22-Jun-2024 06:38 802  
[   ]buildsrc-summary.dcf22-Jun-2024 06:38 415  
[TXT]checksrc-out.txt22-Jun-2024 06:38 3.3K 
[   ]checksrc-summary.dcf22-Jun-2024 06:38 410  
[TXT]install-out.txt22-Jun-2024 06:38 1.6K 
[   ]install-summary.dcf22-Jun-2024 06:38 257