Index of /checkResults/release/bioc-LATEST/BioCor/raw-results/kjohnson1

[ICO]NameLast modifiedSizeDescription

[DIR]Parent Directory  -  
[TXT]buildbin-out.txt17-Jul-2024 06:42 1.8K 
[   ]buildbin-summary.dcf17-Jul-2024 06:42 524  
[TXT]buildsrc-out.txt17-Jul-2024 06:42 812  
[   ]buildsrc-summary.dcf17-Jul-2024 06:42 425  
[TXT]checksrc-out.txt17-Jul-2024 06:42 3.5K 
[   ]checksrc-summary.dcf17-Jul-2024 06:42 440  
[TXT]install-out.txt17-Jul-2024 06:42 1.6K 
[   ]install-summary.dcf17-Jul-2024 06:42 267