Back to Multiple platform build/check report for BioC 3.13
A[B]CDEFGHIJKLMNOPQRSTUVWXYZ

This page was generated on 2021-09-13 15:06:51 -0400 (Mon, 13 Sep 2021).

CHECK results for BiSeq on machv2

To the developers/maintainers of the BiSeq package:
- Please allow up to 24 hours (and sometimes 48 hours) for your latest push to git@git.bioconductor.org:packages/BiSeq.git to
reflect on this report. See How and When does the builder pull? When will my changes propagate? here for more information.
- Make sure to use the following settings in order to reproduce any error or warning you see on this page.

raw results

Package 196/2041HostnameOS / ArchINSTALLBUILDCHECKBUILD BIN
BiSeq 1.32.0  (landing page)
Katja Hebestreit
Snapshot Date: 2021-09-12 04:50:10 -0400 (Sun, 12 Sep 2021)
git_url: https://git.bioconductor.org/packages/BiSeq
git_branch: RELEASE_3_13
git_last_commit: d5b9175
git_last_commit_date: 2021-05-19 11:58:45 -0400 (Wed, 19 May 2021)
nebbiolo1Linux (Ubuntu 20.04.2 LTS) / x86_64  OK    OK    OK  UNNEEDED, same version is already published
tokay2Windows Server 2012 R2 Standard / x64  OK    OK    OK    OK  UNNEEDED, same version is already published
machv2macOS 10.14.6 Mojave / x86_64  OK    OK    OK    OK  UNNEEDED, same version is already published

Summary

Package: BiSeq
Version: 1.32.0
Command: /Library/Frameworks/R.framework/Versions/Current/Resources/bin/R CMD check --install=check:BiSeq.install-out.txt --library=/Library/Frameworks/R.framework/Versions/Current/Resources/library --no-vignettes --timings BiSeq_1.32.0.tar.gz
StartedAt: 2021-09-12 16:47:12 -0400 (Sun, 12 Sep 2021)
EndedAt: 2021-09-12 16:54:11 -0400 (Sun, 12 Sep 2021)
EllapsedTime: 419.2 seconds
RetCode: 0
Status:   OK  
CheckDir: BiSeq.Rcheck
Warnings: 0

Command output

##############################################################################
##############################################################################
###
### Running command:
###
###   /Library/Frameworks/R.framework/Versions/Current/Resources/bin/R CMD check --install=check:BiSeq.install-out.txt --library=/Library/Frameworks/R.framework/Versions/Current/Resources/library --no-vignettes --timings BiSeq_1.32.0.tar.gz
###
##############################################################################
##############################################################################


* using log directory ‘/Users/biocbuild/bbs-3.13-bioc/meat/BiSeq.Rcheck’
* using R version 4.1.1 (2021-08-10)
* using platform: x86_64-apple-darwin17.0 (64-bit)
* using session charset: UTF-8
* using option ‘--no-vignettes’
* checking for file ‘BiSeq/DESCRIPTION’ ... OK
* checking extension type ... Package
* this is package ‘BiSeq’ version ‘1.32.0’
* checking package namespace information ... OK
* checking package dependencies ... OK
* checking if this is a source package ... OK
* checking if there is a namespace ... OK
* checking for hidden files and directories ... NOTE
Found the following hidden files and directories:
  .BBSoptions
  .git_fetch_output.txt
  .git_merge_output.txt
These were most likely included in error. See section ‘Package
structure’ in the ‘Writing R Extensions’ manual.
* checking for portable file names ... OK
* checking for sufficient/correct file permissions ... OK
* checking whether package ‘BiSeq’ can be installed ... OK
* checking installed package size ... OK
* checking package directory ... OK
* checking ‘build’ directory ... OK
* checking DESCRIPTION meta-information ... NOTE
Packages listed in more than one of Depends, Imports, Suggests, Enhances:
  ‘methods’ ‘S4Vectors’ ‘IRanges’ ‘GenomicRanges’ ‘SummarizedExperiment’ ‘Formula’
A package should be listed in only one of these fields.
* checking top-level files ... OK
* checking for left-over files ... OK
* checking index information ... OK
* checking package subdirectories ... OK
* checking R files for non-ASCII characters ... OK
* checking R files for syntax errors ... OK
* checking whether the package can be loaded ... OK
* checking whether the package can be loaded with stated dependencies ... OK
* checking whether the package can be unloaded cleanly ... OK
* checking whether the namespace can be loaded with stated dependencies ... OK
* checking whether the namespace can be unloaded cleanly ... OK
* checking dependencies in R code ... NOTE
Namespace in Imports field not imported from: ‘Formula’
  All declared Imports should be used.
Package in Depends field not imported from: ‘Formula’
  These packages need to be imported from (in the NAMESPACE file)
  for when this namespace is loaded but not attached.
* checking S3 generic/method consistency ... OK
* checking replacement functions ... OK
* checking foreign function calls ... OK
* checking R code for possible problems ... NOTE
.betaRegression : inv.link: no visible global function definition for
  ‘pnorm’
.betaRegression : beta.regr: no visible global function definition for
  ‘as.formula’
.categorialColors: no visible global function definition for ‘colors’
.estLocCor: no visible global function definition for ‘combn’
.logisticRegression : inv.link: no visible global function definition
  for ‘pnorm’
.logisticRegression : logistic.regr: no visible global function
  definition for ‘lm’
.logisticRegression : logistic.regr: no visible global function
  definition for ‘as.formula’
.makeVariogram: no visible global function definition for ‘qnorm’
.plotBindingSites: no visible global function definition for
  ‘txtProgressBar’
.plotBindingSites: no visible global function definition for
  ‘setTxtProgressBar’
.plotBindingSites : <anonymous>: no visible global function definition
  for ‘ksmooth’
.plotBindingSites: no visible global function definition for ‘rainbow’
.plotBindingSites: no visible global function definition for ‘lines’
.plotBindingSites: no visible global function definition for ‘rgb’
.plotBindingSites: no visible global function definition for ‘col2rgb’
.plotMeth: no visible global function definition for ‘col2rgb’
.plotMeth: no visible global function definition for ‘rgb’
.plotMeth: no visible global function definition for ‘lines’
.plotMeth: no visible global function definition for ‘legend’
.plotMethMap: no visible global function definition for
  ‘colorRampPalette’
.plotMethMap: no visible binding for global variable ‘heatmap’
.plotSmoothMeth: no visible global function definition for ‘rainbow’
.plotSmoothMeth: no visible global function definition for ‘lines’
.predictMeth: no visible global function definition for
  ‘txtProgressBar’
.predictMeth: no visible global function definition for
  ‘setTxtProgressBar’
.testClusters: no visible global function definition for ‘pnorm’
.trimClusters : integrand: no visible global function definition for
  ‘pnorm’
.trimClusters : integrand: no visible global function definition for
  ‘qnorm’
.trimClusters : integrand: no visible global function definition for
  ‘dnorm’
.trimClusters: no visible global function definition for ‘integrate’
.trimClusters: no visible global function definition for ‘pnorm’
.trimClusters: no visible global function definition for ‘qnorm’
.variogram: no visible global function definition for ‘dist’
.variogram: no visible global function definition for ‘txtProgressBar’
.variogram: no visible global function definition for
  ‘setTxtProgressBar’
.writeBED_BSraw: no visible global function definition for ‘colorRamp’
.writeBED_BSraw: no visible global function definition for ‘rgb’
.writeBED_BSrel: no visible global function definition for ‘colorRamp’
.writeBED_BSrel: no visible global function definition for ‘rgb’
betaRegression,formula-character-BSrel-numeric : inv.link: no visible
  global function definition for ‘pnorm’
betaRegression,formula-character-BSrel-numeric : beta.regr: no visible
  global function definition for ‘as.formula’
estLocCor,list: no visible global function definition for ‘combn’
logisticRegression,formula-character-BSrel-numeric : inv.link: no
  visible global function definition for ‘pnorm’
logisticRegression,formula-character-BSrel-numeric : logistic.regr: no
  visible global function definition for ‘lm’
logisticRegression,formula-character-BSrel-numeric : logistic.regr: no
  visible global function definition for ‘as.formula’
makeVariogram,data.frame-logical-numeric-numeric: no visible global
  function definition for ‘qnorm’
plotMethMap,BSrel-GRanges-factor-logical: no visible global function
  definition for ‘colorRampPalette’
plotMethMap,BSrel-GRanges-factor-logical: no visible binding for global
  variable ‘heatmap’
plotMethMap,BSrel-GRanges-factor-missing: no visible global function
  definition for ‘colorRampPalette’
plotMethMap,BSrel-GRanges-factor-missing: no visible binding for global
  variable ‘heatmap’
plotMethMap,BSrel-GRanges-missing-logical: no visible global function
  definition for ‘colorRampPalette’
plotMethMap,BSrel-GRanges-missing-logical: no visible binding for
  global variable ‘heatmap’
plotMethMap,BSrel-GRanges-missing-missing: no visible global function
  definition for ‘colorRampPalette’
plotMethMap,BSrel-GRanges-missing-missing: no visible binding for
  global variable ‘heatmap’
predictMeth,BSraw-numeric-numeric-numeric: no visible global function
  definition for ‘txtProgressBar’
predictMeth,BSraw-numeric-numeric-numeric: no visible global function
  definition for ‘setTxtProgressBar’
testClusters,list-numeric: no visible global function definition for
  ‘pnorm’
trimClusters,list-numeric : integrand: no visible global function
  definition for ‘pnorm’
trimClusters,list-numeric : integrand: no visible global function
  definition for ‘qnorm’
trimClusters,list-numeric : integrand: no visible global function
  definition for ‘dnorm’
trimClusters,list-numeric: no visible global function definition for
  ‘integrate’
trimClusters,list-numeric: no visible global function definition for
  ‘pnorm’
trimClusters,list-numeric: no visible global function definition for
  ‘qnorm’
writeBED,BSraw-character-character: no visible global function
  definition for ‘colorRamp’
writeBED,BSraw-character-character: no visible global function
  definition for ‘rgb’
writeBED,BSrel-character-character: no visible global function
  definition for ‘colorRamp’
writeBED,BSrel-character-character: no visible global function
  definition for ‘rgb’
Undefined global functions or variables:
  as.formula col2rgb colorRamp colorRampPalette colors combn dist dnorm
  heatmap integrate ksmooth legend lines lm pnorm qnorm rainbow rgb
  setTxtProgressBar txtProgressBar
Consider adding
  importFrom("grDevices", "col2rgb", "colorRamp", "colorRampPalette",
             "colors", "rainbow", "rgb")
  importFrom("graphics", "legend", "lines")
  importFrom("stats", "as.formula", "dist", "dnorm", "heatmap",
             "integrate", "ksmooth", "lm", "pnorm", "qnorm")
  importFrom("utils", "combn", "setTxtProgressBar", "txtProgressBar")
to your NAMESPACE file.
* checking Rd files ... OK
* checking Rd metadata ... OK
* checking Rd cross-references ... OK
* checking for missing documentation entries ... OK
* checking for code/documentation mismatches ... OK
* checking Rd \usage sections ... OK
* checking Rd contents ... OK
* checking for unstated dependencies in examples ... OK
* checking contents of ‘data’ directory ... OK
* checking data for non-ASCII characters ... OK
* checking data for ASCII and uncompressed saves ... OK
* checking sizes of PDF files under ‘inst/doc’ ... OK
* checking files in ‘vignettes’ ... OK
* checking examples ... OK
Examples with CPU (user + system) or elapsed time > 5s
                    user system elapsed
betaRegression    24.849  0.464  25.331
globalTest        24.678  0.113  24.813
estLocCor          7.607  0.595   8.212
makeVariogram      7.741  0.378   8.124
summarizeRegions   7.933  0.017   7.957
compareTwoSamples  7.799  0.033   7.840
* checking for unstated dependencies in vignettes ... OK
* checking package vignettes in ‘inst/doc’ ... OK
* checking running R code from vignettes ... SKIPPED
* checking re-building of vignette outputs ... SKIPPED
* checking PDF version of manual ... OK
* DONE

Status: 4 NOTEs
See
  ‘/Users/biocbuild/bbs-3.13-bioc/meat/BiSeq.Rcheck/00check.log’
for details.



Installation output

BiSeq.Rcheck/00install.out

##############################################################################
##############################################################################
###
### Running command:
###
###   /Library/Frameworks/R.framework/Versions/Current/Resources/bin/R CMD INSTALL BiSeq
###
##############################################################################
##############################################################################


* installing to library ‘/Library/Frameworks/R.framework/Versions/4.1/Resources/library’
* installing *source* package ‘BiSeq’ ...
** using staged installation
** R
** data
** inst
** byte-compile and prepare package for lazy loading
** help
*** installing help indices
** building package indices
** installing vignettes
** testing if installed package can be loaded from temporary location
** testing if installed package can be loaded from final location
** testing if installed package keeps a record of temporary installation path
* DONE (BiSeq)

Tests output


Example timings

BiSeq.Rcheck/BiSeq-Ex.timings

nameusersystemelapsed
BSraw-class0.4770.0150.492
BSrel-class0.4250.0050.432
DMRs0.0350.0020.037
annotateGRanges0.2480.0050.253
betaRegression24.849 0.46425.331
betaResults0.0090.0030.012
betaResultsNull0.0060.0040.009
binomLikelihoodSmooth0.0040.0010.005
clusterSites1.0630.0061.070
clusterSitesToGR1.5270.0071.535
compareTwoSamples7.7990.0337.840
covBoxplots0.1300.0070.138
covStatistics0.0680.0030.070
estLocCor7.6070.5958.212
filterByCov0.2630.0020.265
filterBySharedRegions0.3850.0040.389
findDMRs0.7490.0170.771
globalTest24.678 0.11324.813
limitCov1.2900.0081.300
logisticRegression2.8620.0052.868
makeVariogram7.7410.3788.124
plotBindingSites2.9110.0232.939
plotMeth0.4200.0060.427
plotMethMap0.4720.0110.484
plotSmoothMeth0.3700.0070.377
predictMeth3.5930.0143.612
predictedMeth0.0290.0020.030
promoters0.0590.0030.062
rawToRel0.1270.0020.128
readBismark0.1610.0010.163
rrbs0.0950.0040.098
smoothVariogram0.0470.0070.053
summarizeRegions7.9330.0177.957
testClusters0.1400.0090.149
trimClusters0.4170.0180.435
vario0.0030.0030.005
writeBED0.3220.0050.328