Back to Multiple platform build/check report for BioC 3.13
A[B]CDEFGHIJKLMNOPQRSTUVWXYZ

This page was generated on 2021-09-13 15:06:18 -0400 (Mon, 13 Sep 2021).

BUILD results for BayesSpace on tokay2

To the developers/maintainers of the BayesSpace package:
- Please allow up to 24 hours (and sometimes 48 hours) for your latest push to git@git.bioconductor.org:packages/BayesSpace.git to
reflect on this report. See How and When does the builder pull? When will my changes propagate? here for more information.
- Make sure to use the following settings in order to reproduce any error or warning you see on this page.

raw results

Package 128/2041HostnameOS / ArchINSTALLBUILDCHECKBUILD BIN
BayesSpace 1.2.0  (landing page)
Matt Stone
Snapshot Date: 2021-09-12 04:50:10 -0400 (Sun, 12 Sep 2021)
git_url: https://git.bioconductor.org/packages/BayesSpace
git_branch: RELEASE_3_13
git_last_commit: 53377bd
git_last_commit_date: 2021-05-19 12:56:21 -0400 (Wed, 19 May 2021)
nebbiolo1Linux (Ubuntu 20.04.2 LTS) / x86_64  OK    OK    OK  UNNEEDED, same version is already published
tokay2Windows Server 2012 R2 Standard / x64  OK    OK    OK    OK  UNNEEDED, same version is already published
machv2macOS 10.14.6 Mojave / x86_64  OK    OK    OK    OK  UNNEEDED, same version is already published

Summary

Package: BayesSpace
Version: 1.2.0
Command: chmod a+r BayesSpace -R && C:\Users\biocbuild\bbs-3.13-bioc\R\bin\R.exe CMD build --keep-empty-dirs --no-resave-data BayesSpace
StartedAt: 2021-09-12 11:28:12 -0400 (Sun, 12 Sep 2021)
EndedAt: 2021-09-12 11:30:42 -0400 (Sun, 12 Sep 2021)
EllapsedTime: 149.7 seconds
RetCode: 0
Status:   OK  
PackageFile: BayesSpace_1.2.0.tar.gz
PackageFileSize: 990.1 KiB

Command output

##############################################################################
##############################################################################
###
### Running command:
###
###   chmod a+r BayesSpace -R && C:\Users\biocbuild\bbs-3.13-bioc\R\bin\R.exe CMD build --keep-empty-dirs --no-resave-data BayesSpace
###
##############################################################################
##############################################################################


* checking for file 'BayesSpace/DESCRIPTION' ... OK
* preparing 'BayesSpace':
* checking DESCRIPTION meta-information ... OK
* cleaning src
* installing the package to build vignettes
* creating vignettes ... OK
* cleaning src
* checking for LF line-endings in source and make files and shell scripts
* checking for empty or unneeded directories
* building 'BayesSpace_1.2.0.tar.gz'