Index of /checkResults/release/bioc-LATEST/BasicSTARRseq/raw-results/tokay2

[ICO]NameLast modifiedSizeDescription

[DIR]Parent Directory  -  
[TXT]buildbin-out.txt02-Dec-2021 07:17 1.6K 
[   ]buildbin-summary.dcf02-Dec-2021 07:17 575  
[TXT]buildsrc-out.txt02-Dec-2021 07:17 912  
[   ]buildsrc-summary.dcf02-Dec-2021 07:17 482  
[TXT]checksrc-out.txt02-Dec-2021 07:17 3.7K 
[   ]checksrc-summary.dcf02-Dec-2021 07:17 486  
[TXT]install-out.txt02-Dec-2021 07:17 2.3K 
[   ]install-summary.dcf02-Dec-2021 07:17 694