Index of /checkResults/release/bioc-LATEST/BasicSTARRseq/raw-results/machv2

[ICO]NameLast modifiedSizeDescription

[DIR]Parent Directory  -  
[TXT]buildbin-out.txt04-Dec-2021 03:05 1.3K 
[   ]buildbin-summary.dcf04-Dec-2021 03:05 566  
[TXT]buildsrc-out.txt04-Dec-2021 03:05 880  
[   ]buildsrc-summary.dcf04-Dec-2021 03:05 445  
[TXT]checksrc-out.txt04-Dec-2021 03:05 3.3K 
[   ]checksrc-summary.dcf04-Dec-2021 03:05 468  
[TXT]install-out.txt04-Dec-2021 03:05 1.1K 
[   ]install-summary.dcf04-Dec-2021 03:05 281