Back to Multiple platform build/check report for BioC 3.13
A[B]CDEFGHIJKLMNOPQRSTUVWXYZ

This page was generated on 2021-09-17 15:05:35 -0400 (Fri, 17 Sep 2021).

BUILD results for BadRegionFinder on nebbiolo1

To the developers/maintainers of the BadRegionFinder package:
- Please allow up to 24 hours (and sometimes 48 hours) for your latest push to git@git.bioconductor.org:packages/BadRegionFinder.git to
reflect on this report. See How and When does the builder pull? When will my changes propagate? here for more information.
- Make sure to use the following settings in order to reproduce any error or warning you see on this page.

raw results

Package 110/2041HostnameOS / ArchINSTALLBUILDCHECKBUILD BIN
BadRegionFinder 1.20.0  (landing page)
Sarah Sandmann
Snapshot Date: 2021-09-16 04:50:11 -0400 (Thu, 16 Sep 2021)
git_url: https://git.bioconductor.org/packages/BadRegionFinder
git_branch: RELEASE_3_13
git_last_commit: 833821c
git_last_commit_date: 2021-05-19 12:19:30 -0400 (Wed, 19 May 2021)
nebbiolo1Linux (Ubuntu 20.04.2 LTS) / x86_64  OK    OK    OK  UNNEEDED, same version is already published
tokay2Windows Server 2012 R2 Standard / x64  OK    OK    OK    OK  UNNEEDED, same version is already published
machv2macOS 10.14.6 Mojave / x86_64  OK    OK    OK    OK  UNNEEDED, same version is already published

Summary

Package: BadRegionFinder
Version: 1.20.0
Command: /home/biocbuild/bbs-3.13-bioc/R/bin/R CMD build --keep-empty-dirs --no-resave-data BadRegionFinder
StartedAt: 2021-09-16 06:43:36 -0400 (Thu, 16 Sep 2021)
EndedAt: 2021-09-16 06:44:46 -0400 (Thu, 16 Sep 2021)
EllapsedTime: 69.8 seconds
RetCode: 0
Status:   OK  
PackageFile: BadRegionFinder_1.20.0.tar.gz
PackageFileSize: 750.6 KiB

Command output

##############################################################################
##############################################################################
###
### Running command:
###
###   /home/biocbuild/bbs-3.13-bioc/R/bin/R CMD build --keep-empty-dirs --no-resave-data BadRegionFinder
###
##############################################################################
##############################################################################


* checking for file ‘BadRegionFinder/DESCRIPTION’ ... OK
* preparing ‘BadRegionFinder’:
* checking DESCRIPTION meta-information ... OK
* installing the package to process help pages
* saving partial Rd database
* creating vignettes ... OK
* checking for LF line-endings in source and make files and shell scripts
* checking for empty or unneeded directories
* building ‘BadRegionFinder_1.20.0.tar.gz’