Index of /checkResults/release/bioc-LATEST/BSgenome/raw-results/tokay2

[ICO]NameLast modifiedSizeDescription

[DIR]Parent Directory  -  
[TXT]buildbin-out.txt02-Dec-2021 07:17 2.1K 
[   ]buildbin-summary.dcf02-Dec-2021 07:17 545  
[TXT]buildsrc-out.txt02-Dec-2021 07:17 1.3K 
[   ]buildsrc-summary.dcf02-Dec-2021 07:17 463  
[TXT]checksrc-out.txt02-Dec-2021 07:17 9.3K 
[   ]checksrc-summary.dcf02-Dec-2021 07:17 472  
[TXT]install-out.txt02-Dec-2021 07:17 3.1K 
[   ]install-summary.dcf02-Dec-2021 07:17 650