Index of /checkResults/release/bioc-LATEST/BSgenome/raw-results/palomino4

[ICO]NameLast modifiedSizeDescription

[DIR]Parent Directory  -  
[TXT]buildbin-out.txt31-Jan-2023 01:06 1.1K 
[   ]buildbin-summary.dcf31-Jan-2023 01:06 521  
[TXT]buildsrc-out.txt31-Jan-2023 01:06 1.3K 
[   ]buildsrc-summary.dcf31-Jan-2023 01:06 457  
[TXT]checksrc-out.txt31-Jan-2023 01:06 13K 
[   ]checksrc-summary.dcf31-Jan-2023 01:06 455  
[TXT]install-out.txt31-Jan-2023 01:06 965  
[   ]install-summary.dcf31-Jan-2023 01:06 270