![]() | Name | Last modified | Size | Description |
---|---|---|---|---|
![]() | Parent Directory | - | ||
![]() | install-summary.dcf | 25-Mar-2023 00:05 | 261 | |
![]() | install-out.txt | 25-Mar-2023 00:05 | 955 | |
![]() | checksrc-summary.dcf | 25-Mar-2023 00:05 | 424 | |
![]() | checksrc-out.txt | 25-Mar-2023 00:05 | 7.8K | |
![]() | buildsrc-summary.dcf | 25-Mar-2023 00:05 | 420 | |
![]() | buildsrc-out.txt | 25-Mar-2023 00:05 | 1.2K | |