Index of /checkResults/release/bioc-LATEST/BSgenome/raw-results/nebbiolo2

[ICO]NameLast modifiedSizeDescription

[DIR]Parent Directory  -  
[TXT]buildsrc-out.txt05-Feb-2023 01:04 10K 
[   ]buildsrc-summary.dcf05-Feb-2023 01:04 335  
[TXT]checksrc-out.txt04-Feb-2023 01:05 7.8K 
[   ]checksrc-summary.dcf04-Feb-2023 01:05 419  
[TXT]install-out.txt05-Feb-2023 01:04 950  
[   ]install-summary.dcf05-Feb-2023 01:04 261