Index of /checkResults/release/bioc-LATEST/BSgenome/raw-results/nebbiolo1

[ICO]NameLast modifiedSizeDescription

[DIR]Parent Directory  -  
[TXT]buildsrc-out.txt01-Oct-2023 00:35 1.2K 
[   ]buildsrc-summary.dcf01-Oct-2023 00:35 420  
[TXT]checksrc-out.txt01-Oct-2023 00:35 9.4K 
[   ]checksrc-summary.dcf01-Oct-2023 00:35 424  
[TXT]install-out.txt01-Oct-2023 00:35 955  
[   ]install-summary.dcf01-Oct-2023 00:35 261