Index of /checkResults/release/bioc-LATEST/BSgenome/raw-results/lconway

[ICO]NameLast modifiedSizeDescription

[DIR]Parent Directory  -  
[   ]install-summary.dcf12-Jun-2024 03:42 271  
[TXT]install-out.txt12-Jun-2024 03:42 1.0K 
[   ]checksrc-summary.dcf12-Jun-2024 03:42 454  
[TXT]checksrc-out.txt12-Jun-2024 03:42 6.7K 
[   ]buildsrc-summary.dcf12-Jun-2024 03:42 430  
[TXT]buildsrc-out.txt12-Jun-2024 03:42 820  
[   ]buildbin-summary.dcf12-Jun-2024 03:42 536  
[TXT]buildbin-out.txt12-Jun-2024 03:42 1.2K