Index of /checkResults/release/bioc-LATEST/BSgenome/raw-results/lconway

[ICO]NameLast modifiedSizeDescription

[DIR]Parent Directory  -  
[TXT]buildbin-out.txt22-May-2024 00:37 1.2K 
[   ]buildbin-summary.dcf22-May-2024 00:37 536  
[TXT]buildsrc-out.txt23-May-2024 00:36 899  
[   ]buildsrc-summary.dcf23-May-2024 00:36 344  
[TXT]checksrc-out.txt22-May-2024 00:37 6.7K 
[   ]checksrc-summary.dcf22-May-2024 00:37 454  
[TXT]install-out.txt23-May-2024 00:36 702  
[   ]install-summary.dcf23-May-2024 00:36 274