Index of /checkResults/release/bioc-LATEST/BSgenome/raw-results

[ICO]NameLast modifiedSizeDescription

[DIR]Parent Directory  -  
[   ]info.dcf07-Feb-2023 01:05 280  
[DIR]kjohnson/12-Jul-2022 00:06 -  
[DIR]lconway/07-Feb-2023 01:05 -  
[DIR]nebbiolo2/07-Feb-2023 01:04 -  
[DIR]palomino4/07-Feb-2023 01:05 -