Back to Multiple platform build/check report for BioC 3.13
A[B]CDEFGHIJKLMNOPQRSTUVWXYZ

This page was generated on 2021-09-22 15:05:38 -0400 (Wed, 22 Sep 2021).

INSTALL results for BSgenome on machv2

To the developers/maintainers of the BSgenome package:
- Please allow up to 24 hours (and sometimes 48 hours) for your latest push to git@git.bioconductor.org:packages/BSgenome.git to
reflect on this report. See How and When does the builder pull? When will my changes propagate? here for more information.
- Make sure to use the following settings in order to reproduce any error or warning you see on this page.

raw results

Package 217/2041HostnameOS / ArchINSTALLBUILDCHECKBUILD BIN
BSgenome 1.60.0  (landing page)
H. Pagès
Snapshot Date: 2021-09-21 04:50:12 -0400 (Tue, 21 Sep 2021)
git_url: https://git.bioconductor.org/packages/BSgenome
git_branch: RELEASE_3_13
git_last_commit: 6643064
git_last_commit_date: 2021-05-19 11:37:32 -0400 (Wed, 19 May 2021)
nebbiolo1Linux (Ubuntu 20.04.2 LTS) / x86_64  OK    OK    WARNINGS  UNNEEDED, same version is already published
tokay2Windows Server 2012 R2 Standard / x64  OK    OK    WARNINGS    OK  UNNEEDED, same version is already published
machv2macOS 10.14.6 Mojave / x86_64  OK    OK    WARNINGS    OK  UNNEEDED, same version is already published

Summary

Package: BSgenome
Version: 1.60.0
Command: /Library/Frameworks/R.framework/Versions/Current/Resources/bin/R CMD INSTALL BSgenome
StartedAt: 2021-09-21 09:54:14 -0400 (Tue, 21 Sep 2021)
EndedAt: 2021-09-21 09:54:59 -0400 (Tue, 21 Sep 2021)
EllapsedTime: 44.8 seconds
RetCode: 0
Status:   OK  

Command output

##############################################################################
##############################################################################
###
### Running command:
###
###   /Library/Frameworks/R.framework/Versions/Current/Resources/bin/R CMD INSTALL BSgenome
###
##############################################################################
##############################################################################


* installing to library ‘/Library/Frameworks/R.framework/Versions/4.1/Resources/library’
* installing *source* package ‘BSgenome’ ...
** using staged installation
** R
** inst
** byte-compile and prepare package for lazy loading
** help
*** installing help indices
** building package indices
** installing vignettes
** testing if installed package can be loaded from temporary location
** testing if installed package can be loaded from final location
** testing if installed package keeps a record of temporary installation path
* DONE (BSgenome)