Back to Multiple platform build/check report for BioC 3.16
A[B]CDEFGHIJKLMNOPQRSTUVWXYZ

This page was generated on 2022-11-26 11:04:21 -0500 (Sat, 26 Nov 2022).

HostnameOSArch (*)R versionInstalled pkgs
nebbiolo2Linux (Ubuntu 20.04.5 LTS)x86_644.2.2 (2022-10-31) -- "Innocent and Trusting" 4503
palomino4Windows Server 2022 Datacenterx644.2.2 (2022-10-31 ucrt) -- "Innocent and Trusting" 4277
lconwaymacOS 12.5.1 Montereyx86_644.2.2 (2022-10-31) -- "Innocent and Trusting" 4309
Click on any hostname to see more info about the system (e.g. compilers)      (*) as reported by 'uname -p', except on Windows and Mac OS X

All results for package BSgenome


To the developers/maintainers of the BSgenome package:
- Please allow up to 24 hours (and sometimes 48 hours) for your latest push to git@git.bioconductor.org:packages/BSgenome.git to
reflect on this report. See How and When does the builder pull? When will my changes propagate? for more information.
- Make sure to use the following settings in order to reproduce any error or warning you see on this page.

raw results

Package 229/2183HostnameOS / ArchINSTALLBUILDCHECKBUILD BIN
BSgenome 1.66.1  (landing page)
Hervé Pagès
Snapshot Date: 2022-11-25 14:00:04 -0500 (Fri, 25 Nov 2022)
git_url: https://git.bioconductor.org/packages/BSgenome
git_branch: RELEASE_3_16
git_last_commit: d1efdfa
git_last_commit_date: 2022-11-03 05:14:53 -0500 (Thu, 03 Nov 2022)
nebbiolo2Linux (Ubuntu 20.04.5 LTS) / x86_64  OK    OK    WARNINGS  UNNEEDED, same version is already published
palomino4Windows Server 2022 Datacenter / x64  OK    OK    WARNINGS    OK  UNNEEDED, same version is already published
lconwaymacOS 12.5.1 Monterey / x86_64  OK    OK    WARNINGS    OK  UNNEEDED, same version is already published

Results for Bioconductor software packages that depend directly on package BSgenome

QUICK STATSOS / ArchINSTALLBUILDCHECKBUILD BIN
nebbiolo2Linux (Ubuntu 20.04.5 LTS) / x86_64
0097
0295
011282
palomino4Windows Server 2022 Datacenter / x64
0095
01778
021165
0078
lconwaymacOS 12.5.1 Monterey / x86_64
0196
0394
021082
0094
Package 1/97HostnameOS / ArchINSTALLBUILDCHECKBUILD BIN
AllelicImbalance 1.36.0  (landing page)
Jesper R Gadin
git_last_commit: cb4910c
git_last_commit_date: 2022-11-01 11:08:46 -0500
nebbiolo2Linux (Ubuntu 20.04.5 LTS) / x86_64  OK    OK    OK  UNNEEDED, same version is already published
palomino4Windows Server 2022 Datacenter / x64  OK    ERROR  skippedskipped
lconwaymacOS 12.5.1 Monterey / x86_64  OK    OK    OK    OK  UNNEEDED, same version is already published
Package 2/97HostnameOS / ArchINSTALLBUILDCHECKBUILD BIN
appreci8R 1.16.0  (landing page)
Sarah Sandmann
git_last_commit: e035de3
git_last_commit_date: 2022-11-01 11:18:06 -0500
nebbiolo2Linux (Ubuntu 20.04.5 LTS) / x86_64  OK    OK    OK  UNNEEDED, same version is already published
palomino4Windows Server 2022 Datacenter / x64  OK    ERROR  skippedskipped
lconwaymacOS 12.5.1 Monterey / x86_64  OK    OK    OK    OK  UNNEEDED, same version is already published
Package 3/97HostnameOS / ArchINSTALLBUILDCHECKBUILD BIN
ATACseqQC 1.22.0  (landing page)
Jianhong Ou
git_last_commit: be03c44
git_last_commit_date: 2022-11-01 11:15:41 -0500
nebbiolo2Linux (Ubuntu 20.04.5 LTS) / x86_64  OK    OK    OK  UNNEEDED, same version is already published
palomino4Windows Server 2022 Datacenter / x64  OK    OK    OK    OK  UNNEEDED, same version is already published
lconwaymacOS 12.5.1 Monterey / x86_64  OK    OK    OK    OK  UNNEEDED, same version is already published
Package 4/97HostnameOS / ArchINSTALLBUILDCHECKBUILD BIN
atSNP 1.14.0  (landing page)
Sunyoung Shin
git_last_commit: a71f2c5
git_last_commit_date: 2022-11-01 11:19:16 -0500
nebbiolo2Linux (Ubuntu 20.04.5 LTS) / x86_64  OK    OK    OK  UNNEEDED, same version is already published
palomino4Windows Server 2022 Datacenter / x64  OK    OK    OK    OK  UNNEEDED, same version is already published
lconwaymacOS 12.5.1 Monterey / x86_64  OK    OK    OK    OK  UNNEEDED, same version is already published
Package 5/97HostnameOS / ArchINSTALLBUILDCHECKBUILD BIN
bambu 3.0.2  (landing page)
Ying Chen
git_last_commit: 2ef650d
git_last_commit_date: 2022-11-16 22:57:38 -0500
nebbiolo2Linux (Ubuntu 20.04.5 LTS) / x86_64  OK    OK    OK  UNNEEDED, same version is already published
palomino4Windows Server 2022 Datacenter / x64  OK    ERROR  skippedskipped
lconwaymacOS 12.5.1 Monterey / x86_64  OK    OK    OK    OK  UNNEEDED, same version is already published
Package 6/97HostnameOS / ArchINSTALLBUILDCHECKBUILD BIN
BEAT 1.36.0  (landing page)
Kemal Akman
git_last_commit: 4ad65bd
git_last_commit_date: 2022-11-01 11:09:07 -0500
nebbiolo2Linux (Ubuntu 20.04.5 LTS) / x86_64  OK    OK    OK  UNNEEDED, same version is already published
palomino4Windows Server 2022 Datacenter / x64  OK    OK    OK    OK  UNNEEDED, same version is already published
lconwaymacOS 12.5.1 Monterey / x86_64  OK    OK    OK    OK  UNNEEDED, same version is already published
Package 7/97HostnameOS / ArchINSTALLBUILDCHECKBUILD BIN
bsseq 1.34.0  (landing page)
Kasper Daniel Hansen
git_last_commit: 98239c0
git_last_commit_date: 2022-11-01 11:07:09 -0500
nebbiolo2Linux (Ubuntu 20.04.5 LTS) / x86_64  OK    OK    OK  UNNEEDED, same version is already published
palomino4Windows Server 2022 Datacenter / x64  OK    OK    OK    OK  UNNEEDED, same version is already published
lconwaymacOS 12.5.1 Monterey / x86_64  OK    OK    OK    OK  UNNEEDED, same version is already published
Package 8/97HostnameOS / ArchINSTALLBUILDCHECKBUILD BIN
BUSpaRse 1.12.0  (landing page)
Lambda Moses
git_last_commit: b90a896
git_last_commit_date: 2022-11-01 11:20:24 -0500
nebbiolo2Linux (Ubuntu 20.04.5 LTS) / x86_64  OK    OK    OK  UNNEEDED, same version is already published
palomino4Windows Server 2022 Datacenter / x64  OK    OK    OK    OK  UNNEEDED, same version is already published
lconwaymacOS 12.5.1 Monterey / x86_64  OK    OK    OK    OK  UNNEEDED, same version is already published
Package 9/97HostnameOS / ArchINSTALLBUILDCHECKBUILD BIN
CAGEr 2.4.0  (landing page)
Charles Plessy
git_last_commit: 4ce371f
git_last_commit_date: 2022-11-01 11:07:54 -0500
nebbiolo2Linux (Ubuntu 20.04.5 LTS) / x86_64  OK    OK    OK  UNNEEDED, same version is already published
palomino4Windows Server 2022 Datacenter / x64  OK    OK    OK    OK  UNNEEDED, same version is already published
lconwaymacOS 12.5.1 Monterey / x86_64  OK    OK    OK    OK  UNNEEDED, same version is already published
Package 10/97HostnameOS / ArchINSTALLBUILDCHECKBUILD BIN
ChIPanalyser 1.20.0  (landing page)
Patrick C.N. Martin
git_last_commit: ca0ec5c
git_last_commit_date: 2022-11-01 11:16:15 -0500
nebbiolo2Linux (Ubuntu 20.04.5 LTS) / x86_64  OK    OK    OK  UNNEEDED, same version is already published
palomino4Windows Server 2022 Datacenter / x64  OK    OK    OK    OK  UNNEEDED, same version is already published
lconwaymacOS 12.5.1 Monterey / x86_64  OK    OK    OK    OK  UNNEEDED, same version is already published
Package 11/97HostnameOS / ArchINSTALLBUILDCHECKBUILD BIN
chromVAR 1.20.0  (landing page)
Alicia Schep
git_last_commit: f74a527
git_last_commit_date: 2022-11-01 11:16:29 -0500
nebbiolo2Linux (Ubuntu 20.04.5 LTS) / x86_64  OK    OK    OK  UNNEEDED, same version is already published
palomino4Windows Server 2022 Datacenter / x64  OK    OK    OK    OK  UNNEEDED, same version is already published
lconwaymacOS 12.5.1 Monterey / x86_64  OK    OK    OK    OK  UNNEEDED, same version is already published
Package 12/97HostnameOS / ArchINSTALLBUILDCHECKBUILD BIN
circRNAprofiler 1.12.0  (landing page)
Simona Aufiero
git_last_commit: 0d6028a
git_last_commit_date: 2022-11-01 11:20:12 -0500
nebbiolo2Linux (Ubuntu 20.04.5 LTS) / x86_64  OK    OK    OK  UNNEEDED, same version is already published
palomino4Windows Server 2022 Datacenter / x64  OK    OK    OK    OK  UNNEEDED, same version is already published
lconwaymacOS 12.5.1 Monterey / x86_64  OK    OK    OK    OK  UNNEEDED, same version is already published
Package 13/97HostnameOS / ArchINSTALLBUILDCHECKBUILD BIN
cleanUpdTSeq 1.36.0  (landing page)
Jianhong Ou ; Lihua Julie Zhu
git_last_commit: 324eb5c
git_last_commit_date: 2022-11-01 11:08:25 -0500
nebbiolo2Linux (Ubuntu 20.04.5 LTS) / x86_64  OK    OK    OK  UNNEEDED, same version is already published
palomino4Windows Server 2022 Datacenter / x64  OK    OK    OK    OK  UNNEEDED, same version is already published
lconwaymacOS 12.5.1 Monterey / x86_64  OK    OK    OK    OK  UNNEEDED, same version is already published
Package 14/97HostnameOS / ArchINSTALLBUILDCHECKBUILD BIN
cliProfiler 1.4.0  (landing page)
You Zhou
git_last_commit: 39988d3
git_last_commit_date: 2022-11-01 11:25:52 -0500
nebbiolo2Linux (Ubuntu 20.04.5 LTS) / x86_64  OK    OK    OK  UNNEEDED, same version is already published
palomino4Windows Server 2022 Datacenter / x64  OK    OK    OK    OK  UNNEEDED, same version is already published
lconwaymacOS 12.5.1 Monterey / x86_64  OK    OK    OK    OK  UNNEEDED, same version is already published
Package 15/97HostnameOS / ArchINSTALLBUILDCHECKBUILD BIN
crisprBowtie 1.2.0  (landing page)
Jean-Philippe Fortin
git_last_commit: 9f9868b
git_last_commit_date: 2022-11-01 11:26:28 -0500
nebbiolo2Linux (Ubuntu 20.04.5 LTS) / x86_64  OK    OK    OK  UNNEEDED, same version is already published
palomino4Windows Server 2022 Datacenter / x64  OK    OK    OK    OK  UNNEEDED, same version is already published
lconwaymacOS 12.5.1 Monterey / x86_64  OK    OK    OK    OK  UNNEEDED, same version is already published
Package 16/97HostnameOS / ArchINSTALLBUILDCHECKBUILD BIN
crisprBwa 1.2.0  (landing page)
Jean-Philippe Fortin
git_last_commit: b5b6442
git_last_commit_date: 2022-11-01 11:26:58 -0500
nebbiolo2Linux (Ubuntu 20.04.5 LTS) / x86_64  OK    OK    OK  UNNEEDED, same version is already published
palomino4Windows Server 2022 Datacenter / x64... NOT SUPPORTED ...
lconwaymacOS 12.5.1 Monterey / x86_64  OK    OK    OK    OK  UNNEEDED, same version is already published
Package 17/97HostnameOS / ArchINSTALLBUILDCHECKBUILD BIN
crisprDesign 1.0.0  (landing page)
Jean-Philippe Fortin
git_last_commit: cd58577
git_last_commit_date: 2022-11-01 11:27:20 -0500
nebbiolo2Linux (Ubuntu 20.04.5 LTS) / x86_64  OK    OK    OK  UNNEEDED, same version is already published
palomino4Windows Server 2022 Datacenter / x64  OK    OK    OK    OK  UNNEEDED, same version is already published
lconwaymacOS 12.5.1 Monterey / x86_64  OK    OK    OK    OK  UNNEEDED, same version is already published
Package 18/97HostnameOS / ArchINSTALLBUILDCHECKBUILD BIN
CRISPRseek 1.38.0  (landing page)
Lihua Julie Zhu
git_last_commit: 9f03208
git_last_commit_date: 2022-11-01 11:09:00 -0500
nebbiolo2Linux (Ubuntu 20.04.5 LTS) / x86_64  OK    OK    OK  UNNEEDED, same version is already published
palomino4Windows Server 2022 Datacenter / x64  OK    OK    OK    OK  UNNEEDED, same version is already published
lconwaymacOS 12.5.1 Monterey / x86_64  OK    OK    OK    OK  UNNEEDED, same version is already published
Package 19/97HostnameOS / ArchINSTALLBUILDCHECKBUILD BIN
crisprseekplus 1.24.0  (landing page)
Alper Kucukural
git_last_commit: 95b4b22
git_last_commit_date: 2022-11-01 11:14:42 -0500
nebbiolo2Linux (Ubuntu 20.04.5 LTS) / x86_64  OK    OK    OK  UNNEEDED, same version is already published
palomino4Windows Server 2022 Datacenter / x64  OK    OK    OK    OK  UNNEEDED, same version is already published
lconwaymacOS 12.5.1 Monterey / x86_64  OK    OK    OK    OK  UNNEEDED, same version is already published
Package 20/97HostnameOS / ArchINSTALLBUILDCHECKBUILD BIN
crisprViz 1.0.0  (landing page)
Jean-Philippe Fortin
git_last_commit: 8295fb6
git_last_commit_date: 2022-11-01 11:27:33 -0500
nebbiolo2Linux (Ubuntu 20.04.5 LTS) / x86_64  OK    OK    OK  UNNEEDED, same version is already published
palomino4Windows Server 2022 Datacenter / x64  OK    OK    OK    OK  UNNEEDED, same version is already published
lconwaymacOS 12.5.1 Monterey / x86_64  OK    OK    OK    OK  UNNEEDED, same version is already published
Package 21/97HostnameOS / ArchINSTALLBUILDCHECKBUILD BIN
diffHic 1.30.0  (landing page)
Aaron Lun
git_last_commit: c42accb
git_last_commit_date: 2022-11-01 11:11:37 -0500
nebbiolo2Linux (Ubuntu 20.04.5 LTS) / x86_64  OK    OK    OK  UNNEEDED, same version is already published
palomino4Windows Server 2022 Datacenter / x64  OK    ERROR  skippedskipped
lconwaymacOS 12.5.1 Monterey / x86_64  OK    OK    OK    OK  UNNEEDED, same version is already published
Package 22/97HostnameOS / ArchINSTALLBUILDCHECKBUILD BIN
dpeak 1.10.0  (landing page)
Dongjun Chung
git_last_commit: 602b8c4
git_last_commit_date: 2022-11-01 11:21:59 -0500
nebbiolo2Linux (Ubuntu 20.04.5 LTS) / x86_64  OK    OK    OK  UNNEEDED, same version is already published
palomino4Windows Server 2022 Datacenter / x64  OK    ERROR  skippedskipped
lconwaymacOS 12.5.1 Monterey / x86_64  OK    OK    OK    OK  UNNEEDED, same version is already published
Package 23/97HostnameOS / ArchINSTALLBUILDCHECKBUILD BIN
enhancerHomologSearch 1.4.0  (landing page)
Jianhong Ou
git_last_commit: aa6b39b
git_last_commit_date: 2022-11-01 11:25:27 -0500
nebbiolo2Linux (Ubuntu 20.04.5 LTS) / x86_64  OK    OK    OK  UNNEEDED, same version is already published
palomino4Windows Server 2022 Datacenter / x64  OK    OK    OK    OK  UNNEEDED, same version is already published
lconwaymacOS 12.5.1 Monterey / x86_64  OK    OK    OK    OK  UNNEEDED, same version is already published
Package 24/97HostnameOS / ArchINSTALLBUILDCHECKBUILD BIN
enrichTF 1.14.0  (landing page)
Zheng Wei
git_last_commit: 7aa6e22
git_last_commit_date: 2022-11-01 11:19:51 -0500
nebbiolo2Linux (Ubuntu 20.04.5 LTS) / x86_64  OK    OK    OK  UNNEEDED, same version is already published
palomino4Windows Server 2022 Datacenter / x64  OK    OK    OK    OK  UNNEEDED, same version is already published
lconwaymacOS 12.5.1 Monterey / x86_64  OK    OK    OK    OK  UNNEEDED, same version is already published
Package 25/97HostnameOS / ArchINSTALLBUILDCHECKBUILD BIN
esATAC 1.20.0  (landing page)
Zheng Wei
git_last_commit: 6c9fe81
git_last_commit_date: 2022-11-01 11:16:47 -0500
nebbiolo2Linux (Ubuntu 20.04.5 LTS) / x86_64  OK    OK    WARNINGS  UNNEEDED, same version is already published
palomino4Windows Server 2022 Datacenter / x64  OK    OK    WARNINGS    OK  UNNEEDED, same version is already published
lconwaymacOS 12.5.1 Monterey / x86_64  OK    OK    WARNINGS    OK  UNNEEDED, same version is already published
Package 26/97HostnameOS / ArchINSTALLBUILDCHECKBUILD BIN
EventPointer 3.6.0  (landing page)
Juan A. Ferrer-Bonsoms
git_last_commit: a3a397b
git_last_commit_date: 2022-11-01 11:15:15 -0500
nebbiolo2Linux (Ubuntu 20.04.5 LTS) / x86_64  OK    ERROR  skipped
palomino4Windows Server 2022 Datacenter / x64  OK    ERROR  skippedskipped
lconwaymacOS 12.5.1 Monterey / x86_64  OK    ERROR  skippedskipped
Package 27/97HostnameOS / ArchINSTALLBUILDCHECKBUILD BIN
exomePeak2 1.10.0  (landing page)
Zhen Wei
git_last_commit: ca31d66
git_last_commit_date: 2022-11-01 11:21:28 -0500
nebbiolo2Linux (Ubuntu 20.04.5 LTS) / x86_64  OK    OK    OK  UNNEEDED, same version is already published
palomino4Windows Server 2022 Datacenter / x64  OK    OK    OK    OK  UNNEEDED, same version is already published
lconwaymacOS 12.5.1 Monterey / x86_64  OK    OK    OK    OK  UNNEEDED, same version is already published
Package 28/97HostnameOS / ArchINSTALLBUILDCHECKBUILD BIN
FRASER 1.10.0  (landing page)
Christian Mertes
git_last_commit: 302dc12
git_last_commit_date: 2022-11-01 11:21:56 -0500
nebbiolo2Linux (Ubuntu 20.04.5 LTS) / x86_64  OK    OK    OK  UNNEEDED, same version is already published
palomino4Windows Server 2022 Datacenter / x64  OK    ERROR  skippedskipped
lconwaymacOS 12.5.1 Monterey / x86_64  OK    OK    OK    OK  UNNEEDED, same version is already published
Package 29/97HostnameOS / ArchINSTALLBUILDCHECKBUILD BIN
gcapc 1.22.0  (landing page)
Mingxiang Teng
git_last_commit: 968eb62
git_last_commit_date: 2022-11-01 11:14:56 -0500
nebbiolo2Linux (Ubuntu 20.04.5 LTS) / x86_64  OK    OK    OK  UNNEEDED, same version is already published
palomino4Windows Server 2022 Datacenter / x64  OK    OK    OK    OK  UNNEEDED, same version is already published
lconwaymacOS 12.5.1 Monterey / x86_64  OK    OK    OK    OK  UNNEEDED, same version is already published
Package 30/97HostnameOS / ArchINSTALLBUILDCHECKBUILD BIN
genomation 1.30.0  (landing page)
Altuna Akalin , Vedran Franke
git_last_commit: 99239c1
git_last_commit_date: 2022-11-01 11:10:49 -0500
nebbiolo2Linux (Ubuntu 20.04.5 LTS) / x86_64  OK    OK    WARNINGS  UNNEEDED, same version is already published
palomino4Windows Server 2022 Datacenter / x64  OK    OK    WARNINGS    OK  UNNEEDED, same version is already published
lconwaymacOS 12.5.1 Monterey / x86_64  OK    OK    WARNINGS    OK  UNNEEDED, same version is already published
Package 31/97HostnameOS / ArchINSTALLBUILDCHECKBUILD BIN
GenVisR 1.30.0  (landing page)
Zachary Skidmore
git_last_commit: ad1791a
git_last_commit_date: 2022-11-01 11:12:48 -0500
nebbiolo2Linux (Ubuntu 20.04.5 LTS) / x86_64  OK    OK    ERROR  
palomino4Windows Server 2022 Datacenter / x64  OK    OK    ERROR    OK  
lconwaymacOS 12.5.1 Monterey / x86_64  OK    OK    ERROR    OK  
Package 32/97HostnameOS / ArchINSTALLBUILDCHECKBUILD BIN
ggbio 1.46.0  (landing page)
Michael Lawrence
git_last_commit: d9c6cb4
git_last_commit_date: 2022-11-01 11:06:25 -0500
nebbiolo2Linux (Ubuntu 20.04.5 LTS) / x86_64  OK    OK    WARNINGS  UNNEEDED, same version is already published
palomino4Windows Server 2022 Datacenter / x64  OK    OK    WARNINGS    OK  UNNEEDED, same version is already published
lconwaymacOS 12.5.1 Monterey / x86_64  OK    OK    WARNINGS    OK  UNNEEDED, same version is already published
Package 33/97HostnameOS / ArchINSTALLBUILDCHECKBUILD BIN
gmapR 1.40.0  (landing page)
Michael Lawrence
git_last_commit: ba9a187
git_last_commit_date: 2022-11-01 11:07:10 -0500
nebbiolo2Linux (Ubuntu 20.04.5 LTS) / x86_64  OK    OK    WARNINGS  UNNEEDED, same version is already published
palomino4Windows Server 2022 Datacenter / x64... NOT SUPPORTED ...
lconwaymacOS 12.5.1 Monterey / x86_64  ERROR    ERROR  skippedskipped
Package 34/97HostnameOS / ArchINSTALLBUILDCHECKBUILD BIN
GOTHiC 1.34.0  (landing page)
Borbala Mifsud
git_last_commit: 58e54f9
git_last_commit_date: 2022-11-01 11:20:09 -0500
nebbiolo2Linux (Ubuntu 20.04.5 LTS) / x86_64  OK    OK    OK  UNNEEDED, same version is already published
palomino4Windows Server 2022 Datacenter / x64  OK    OK    OK    OK  UNNEEDED, same version is already published
lconwaymacOS 12.5.1 Monterey / x86_64  OK    OK    OK    OK  UNNEEDED, same version is already published
Package 35/97HostnameOS / ArchINSTALLBUILDCHECKBUILD BIN
GreyListChIP 1.30.0  (landing page)
Rory Stark
git_last_commit: 9d65d34
git_last_commit_date: 2022-11-01 11:11:03 -0500
nebbiolo2Linux (Ubuntu 20.04.5 LTS) / x86_64  OK    OK    OK  UNNEEDED, same version is already published
palomino4Windows Server 2022 Datacenter / x64  OK    ERROR  skippedskipped
lconwaymacOS 12.5.1 Monterey / x86_64  OK    OK    OK    OK  UNNEEDED, same version is already published
Package 36/97HostnameOS / ArchINSTALLBUILDCHECKBUILD BIN
GUIDEseq 1.28.0  (landing page)
Lihua Julie Zhu
git_last_commit: e29dcac
git_last_commit_date: 2022-11-01 11:12:23 -0500
nebbiolo2Linux (Ubuntu 20.04.5 LTS) / x86_64  OK    OK    OK  UNNEEDED, same version is already published
palomino4Windows Server 2022 Datacenter / x64  OK    ERROR  skippedskipped
lconwaymacOS 12.5.1 Monterey / x86_64  OK    OK    OK    OK  UNNEEDED, same version is already published
Package 37/97HostnameOS / ArchINSTALLBUILDCHECKBUILD BIN
Gviz 1.42.0  (landing page)
Robert Ivanek
git_last_commit: 4eddb68
git_last_commit_date: 2022-11-01 11:06:41 -0500
nebbiolo2Linux (Ubuntu 20.04.5 LTS) / x86_64  OK    OK    OK  UNNEEDED, same version is already published
palomino4Windows Server 2022 Datacenter / x64  OK    OK    OK    OK  UNNEEDED, same version is already published
lconwaymacOS 12.5.1 Monterey / x86_64  OK    OK    OK    OK  UNNEEDED, same version is already published
Package 38/97HostnameOS / ArchINSTALLBUILDCHECKBUILD BIN
HelloRanges 1.24.0  (landing page)
Michael Lawrence
git_last_commit: b43be74
git_last_commit_date: 2022-11-01 11:14:42 -0500
nebbiolo2Linux (Ubuntu 20.04.5 LTS) / x86_64  OK    OK    OK  UNNEEDED, same version is already published
palomino4Windows Server 2022 Datacenter / x64  OK    OK    OK    OK  UNNEEDED, same version is already published
lconwaymacOS 12.5.1 Monterey / x86_64  OK    OK    OK    OK  UNNEEDED, same version is already published
Package 39/97HostnameOS / ArchINSTALLBUILDCHECKBUILD BIN
hiAnnotator 1.32.0  (landing page)
Nirav V Malani
git_last_commit: 146822c
git_last_commit_date: 2022-11-01 11:09:42 -0500
nebbiolo2Linux (Ubuntu 20.04.5 LTS) / x86_64  OK    OK    OK  UNNEEDED, same version is already published
palomino4Windows Server 2022 Datacenter / x64  OK    OK    OK    OK  UNNEEDED, same version is already published
lconwaymacOS 12.5.1 Monterey / x86_64  OK    OK    OK    OK  UNNEEDED, same version is already published
Package 40/97HostnameOS / ArchINSTALLBUILDCHECKBUILD BIN
HiCDCPlus 1.6.0  (landing page)
Merve Sahin
git_last_commit: 65cf744
git_last_commit_date: 2022-11-01 11:24:01 -0500
nebbiolo2Linux (Ubuntu 20.04.5 LTS) / x86_64  OK    OK    OK  UNNEEDED, same version is already published
palomino4Windows Server 2022 Datacenter / x64  OK    OK    OK    OK  UNNEEDED, same version is already published
lconwaymacOS 12.5.1 Monterey / x86_64  OK    OK    OK    OK  UNNEEDED, same version is already published
Package 41/97HostnameOS / ArchINSTALLBUILDCHECKBUILD BIN
InPAS 2.6.0  (landing page)
Jianhong Ou
git_last_commit: 69d5e3b
git_last_commit_date: 2022-11-01 11:11:19 -0500
nebbiolo2Linux (Ubuntu 20.04.5 LTS) / x86_64  OK    OK    OK  UNNEEDED, same version is already published
palomino4Windows Server 2022 Datacenter / x64  OK    OK    OK    OK  UNNEEDED, same version is already published
lconwaymacOS 12.5.1 Monterey / x86_64  OK    OK    OK    OK  UNNEEDED, same version is already published
Package 42/97HostnameOS / ArchINSTALLBUILDCHECKBUILD BIN
IsoformSwitchAnalyzeR 1.20.0  (landing page)
Kristoffer Vitting-Seerup
git_last_commit: bde4595
git_last_commit_date: 2022-11-01 11:15:48 -0500
nebbiolo2Linux (Ubuntu 20.04.5 LTS) / x86_64  OK    OK    OK  UNNEEDED, same version is already published
palomino4Windows Server 2022 Datacenter / x64  OK    OK    OK    OK  UNNEEDED, same version is already published
lconwaymacOS 12.5.1 Monterey / x86_64  OK    OK    OK    OK  UNNEEDED, same version is already published
Package 43/97HostnameOS / ArchINSTALLBUILDCHECKBUILD BIN
katdetectr 1.0.0  (landing page)
Daan Hazelaar
git_last_commit: 6401f53
git_last_commit_date: 2022-11-01 11:27:11 -0500
nebbiolo2Linux (Ubuntu 20.04.5 LTS) / x86_64  OK    OK    OK  UNNEEDED, same version is already published
palomino4Windows Server 2022 Datacenter / x64  OK    OK    OK    OK  UNNEEDED, same version is already published
lconwaymacOS 12.5.1 Monterey / x86_64  OK    OK    OK    OK  UNNEEDED, same version is already published
Package 44/97HostnameOS / ArchINSTALLBUILDCHECKBUILD BIN
m6Aboost 1.4.0  (landing page)
You Zhou
git_last_commit: 3b70603
git_last_commit_date: 2022-11-01 11:25:12 -0500
nebbiolo2Linux (Ubuntu 20.04.5 LTS) / x86_64  OK    OK    OK  UNNEEDED, same version is already published
palomino4Windows Server 2022 Datacenter / x64  OK    OK    OK    OK  UNNEEDED, same version is already published
lconwaymacOS 12.5.1 Monterey / x86_64  OK    OK    OK    OK  UNNEEDED, same version is already published
Package 45/97HostnameOS / ArchINSTALLBUILDCHECKBUILD BIN
MADSEQ 1.24.0  (landing page)
Yu Kong
git_last_commit: 698f059
git_last_commit_date: 2022-11-01 11:13:50 -0500
nebbiolo2Linux (Ubuntu 20.04.5 LTS) / x86_64  OK    OK    OK  UNNEEDED, same version is already published
palomino4Windows Server 2022 Datacenter / x64  OK    OK    OK    OK  UNNEEDED, same version is already published
lconwaymacOS 12.5.1 Monterey / x86_64  OK    OK    OK    OK  UNNEEDED, same version is already published
Package 46/97HostnameOS / ArchINSTALLBUILDCHECKBUILD BIN
MEDIPS 1.50.0  (landing page)
Lukas Chavez
git_last_commit: 04e00ee
git_last_commit_date: 2022-11-01 11:05:24 -0500
nebbiolo2Linux (Ubuntu 20.04.5 LTS) / x86_64  OK    OK    OK  UNNEEDED, same version is already published
palomino4Windows Server 2022 Datacenter / x64  OK    OK    OK    OK  UNNEEDED, same version is already published
lconwaymacOS 12.5.1 Monterey / x86_64  OK    OK    OK    OK  UNNEEDED, same version is already published
Package 47/97HostnameOS / ArchINSTALLBUILDCHECKBUILD BIN
methrix 1.12.0  (landing page)
Anand Mayakonda
git_last_commit: c93ba71
git_last_commit_date: 2022-11-01 11:20:54 -0500
nebbiolo2Linux (Ubuntu 20.04.5 LTS) / x86_64  OK    OK    OK  UNNEEDED, same version is already published
palomino4Windows Server 2022 Datacenter / x64  OK    OK    OK    OK  UNNEEDED, same version is already published
lconwaymacOS 12.5.1 Monterey / x86_64  OK    OK    OK    OK  UNNEEDED, same version is already published
Package 48/97HostnameOS / ArchINSTALLBUILDCHECKBUILD BIN
MethylSeekR 1.38.0  (landing page)
Lukas Burger
git_last_commit: 376a349
git_last_commit_date: 2022-11-01 11:07:49 -0500
nebbiolo2Linux (Ubuntu 20.04.5 LTS) / x86_64  OK    OK    OK  UNNEEDED, same version is already published
palomino4Windows Server 2022 Datacenter / x64  OK    OK    OK    OK  UNNEEDED, same version is already published
lconwaymacOS 12.5.1 Monterey / x86_64  OK    OK    OK    OK  UNNEEDED, same version is already published
Package 49/97HostnameOS / ArchINSTALLBUILDCHECKBUILD BIN
MMDiff2 1.26.0  (landing page)
Gabriele Schweikert
git_last_commit: 662ecc9
git_last_commit_date: 2022-11-01 11:13:41 -0500
nebbiolo2Linux (Ubuntu 20.04.5 LTS) / x86_64  OK    OK    OK  UNNEEDED, same version is already published
palomino4Windows Server 2022 Datacenter / x64  OK    OK    WARNINGS    OK  UNNEEDED, same version is already published
lconwaymacOS 12.5.1 Monterey / x86_64  OK    OK    OK    OK  UNNEEDED, same version is already published
Package 50/97HostnameOS / ArchINSTALLBUILDCHECKBUILD BIN
monaLisa 1.4.0  (landing page)
Michael Stadler
git_last_commit: 337acef
git_last_commit_date: 2022-11-01 11:25:44 -0500
nebbiolo2Linux (Ubuntu 20.04.5 LTS) / x86_64  OK    OK    OK  UNNEEDED, same version is already published
palomino4Windows Server 2022 Datacenter / x64  OK    OK    OK    OK  UNNEEDED, same version is already published
lconwaymacOS 12.5.1 Monterey / x86_64  OK    OK    OK    OK  UNNEEDED, same version is already published
Package 51/97HostnameOS / ArchINSTALLBUILDCHECKBUILD BIN
Motif2Site 1.2.0  (landing page)
Peyman Zarrineh
git_last_commit: 6015b74
git_last_commit_date: 2022-11-01 11:26:28 -0500
nebbiolo2Linux (Ubuntu 20.04.5 LTS) / x86_64  OK    OK    OK  UNNEEDED, same version is already published
palomino4Windows Server 2022 Datacenter / x64  OK    OK    OK    OK  UNNEEDED, same version is already published
lconwaymacOS 12.5.1 Monterey / x86_64  OK    OK    OK    OK  UNNEEDED, same version is already published
Package 52/97HostnameOS / ArchINSTALLBUILDCHECKBUILD BIN
motifbreakR 2.12.0  (landing page)
Simon Gert Coetzee
git_last_commit: c0786cf
git_last_commit_date: 2022-11-01 11:12:10 -0500
nebbiolo2Linux (Ubuntu 20.04.5 LTS) / x86_64  OK    ERROR  skipped
palomino4Windows Server 2022 Datacenter / x64  OK    ERROR  skippedskipped
lconwaymacOS 12.5.1 Monterey / x86_64  OK    ERROR  skippedskipped
Package 53/97HostnameOS / ArchINSTALLBUILDCHECKBUILD BIN
motifmatchr 1.20.0  (landing page)
Alicia Schep
git_last_commit: 3a72a09
git_last_commit_date: 2022-11-01 11:15:47 -0500
nebbiolo2Linux (Ubuntu 20.04.5 LTS) / x86_64  OK    OK    OK  UNNEEDED, same version is already published
palomino4Windows Server 2022 Datacenter / x64  OK    OK    OK    OK  UNNEEDED, same version is already published
lconwaymacOS 12.5.1 Monterey / x86_64  OK    OK    OK    OK  UNNEEDED, same version is already published
Package 54/97HostnameOS / ArchINSTALLBUILDCHECKBUILD BIN
msgbsR 1.22.0  (landing page)
Benjamin Mayne
git_last_commit: a480eaf
git_last_commit_date: 2022-11-01 11:15:43 -0500
nebbiolo2Linux (Ubuntu 20.04.5 LTS) / x86_64  OK    OK    OK  UNNEEDED, same version is already published
palomino4Windows Server 2022 Datacenter / x64  OK    OK    OK    OK  UNNEEDED, same version is already published
lconwaymacOS 12.5.1 Monterey / x86_64  OK    OK    OK    OK  UNNEEDED, same version is already published
Package 55/97HostnameOS / ArchINSTALLBUILDCHECKBUILD BIN
multicrispr 1.8.0  (landing page)
Aditya Bhagwat
git_last_commit: 1f27204
git_last_commit_date: 2022-11-01 11:22:14 -0500
nebbiolo2Linux (Ubuntu 20.04.5 LTS) / x86_64  OK    OK    OK  UNNEEDED, same version is already published
palomino4Windows Server 2022 Datacenter / x64  OK    OK    ERROR    OK  
lconwaymacOS 12.5.1 Monterey / x86_64  OK    OK    OK    OK  UNNEEDED, same version is already published
Package 56/97HostnameOS / ArchINSTALLBUILDCHECKBUILD BIN
MungeSumstats 1.6.0  (landing page)
Alan Murphy
git_last_commit: 00916cd
git_last_commit_date: 2022-11-01 11:24:38 -0500
nebbiolo2Linux (Ubuntu 20.04.5 LTS) / x86_64  OK    OK    OK  UNNEEDED, same version is already published
palomino4Windows Server 2022 Datacenter / x64  OK    OK    OK    OK  UNNEEDED, same version is already published
lconwaymacOS 12.5.1 Monterey / x86_64  OK    OK    OK    OK  UNNEEDED, same version is already published
Package 57/97HostnameOS / ArchINSTALLBUILDCHECKBUILD BIN
musicatk 1.8.0  (landing page)
Aaron Chevalier
git_last_commit: a7a8454
git_last_commit_date: 2022-11-01 11:23:15 -0500
nebbiolo2Linux (Ubuntu 20.04.5 LTS) / x86_64  OK    OK    OK  UNNEEDED, same version is already published
palomino4Windows Server 2022 Datacenter / x64  OK    OK    OK    OK  UNNEEDED, same version is already published
lconwaymacOS 12.5.1 Monterey / x86_64  OK    OK    OK    OK  UNNEEDED, same version is already published
Package 58/97HostnameOS / ArchINSTALLBUILDCHECKBUILD BIN
MutationalPatterns 3.8.0  (landing page)
Mark van Roosmalen
git_last_commit: 98155a5
git_last_commit_date: 2022-11-01 11:14:41 -0500
nebbiolo2Linux (Ubuntu 20.04.5 LTS) / x86_64  OK    OK    OK  UNNEEDED, same version is already published
palomino4Windows Server 2022 Datacenter / x64  OK    OK    OK    OK  UNNEEDED, same version is already published
lconwaymacOS 12.5.1 Monterey / x86_64  OK    OK    OK    OK  UNNEEDED, same version is already published
Package 59/97HostnameOS / ArchINSTALLBUILDCHECKBUILD BIN
NxtIRFcore 1.4.0  (landing page)
Alex Chit Hei Wong
git_last_commit: c38d908
git_last_commit_date: 2022-11-01 11:26:02 -0500
nebbiolo2Linux (Ubuntu 20.04.5 LTS) / x86_64  OK    OK    OK  UNNEEDED, same version is already published
palomino4Windows Server 2022 Datacenter / x64  OK    OK    OK    OK  UNNEEDED, same version is already published
lconwaymacOS 12.5.1 Monterey / x86_64  OK    OK    OK    OK  UNNEEDED, same version is already published
Package 60/97HostnameOS / ArchINSTALLBUILDCHECKBUILD BIN
ORFik 1.18.0  (landing page)
Haakon Tjeldnes
git_last_commit: 4d961b3
git_last_commit_date: 2022-11-01 11:17:51 -0500
nebbiolo2Linux (Ubuntu 20.04.5 LTS) / x86_64  OK    OK    OK  UNNEEDED, same version is already published
palomino4Windows Server 2022 Datacenter / x64  OK    OK    OK    OK  UNNEEDED, same version is already published
lconwaymacOS 12.5.1 Monterey / x86_64  OK    OK    OK    OK  UNNEEDED, same version is already published
Package 61/97HostnameOS / ArchINSTALLBUILDCHECKBUILD BIN
periodicDNA 1.8.0  (landing page)
Jacques Serizay
git_last_commit: 270e929
git_last_commit_date: 2022-11-01 11:22:46 -0500
nebbiolo2Linux (Ubuntu 20.04.5 LTS) / x86_64  OK    OK    WARNINGS  UNNEEDED, same version is already published
palomino4Windows Server 2022 Datacenter / x64  OK    OK    WARNINGS    OK  UNNEEDED, same version is already published
lconwaymacOS 12.5.1 Monterey / x86_64  OK    OK    WARNINGS    OK  UNNEEDED, same version is already published
Package 62/97HostnameOS / ArchINSTALLBUILDCHECKBUILD BIN
PING 2.42.0  (landing page)
Renan Sauteraud
git_last_commit: 1364f14
git_last_commit_date: 2022-11-01 11:06:44 -0500
nebbiolo2Linux (Ubuntu 20.04.5 LTS) / x86_64  OK    OK    WARNINGS  UNNEEDED, same version is already published
palomino4Windows Server 2022 Datacenter / x64  OK    OK    WARNINGS    OK  UNNEEDED, same version is already published
lconwaymacOS 12.5.1 Monterey / x86_64  OK    OK    WARNINGS    OK  UNNEEDED, same version is already published
Package 63/97HostnameOS / ArchINSTALLBUILDCHECKBUILD BIN
pipeFrame 1.14.0  (landing page)
Zheng Wei
git_last_commit: 6bfd083
git_last_commit_date: 2022-11-01 11:19:48 -0500
nebbiolo2Linux (Ubuntu 20.04.5 LTS) / x86_64  OK    OK    OK  UNNEEDED, same version is already published
palomino4Windows Server 2022 Datacenter / x64  OK    OK    OK    OK  UNNEEDED, same version is already published
lconwaymacOS 12.5.1 Monterey / x86_64  OK    OK    OK    OK  UNNEEDED, same version is already published
Package 64/97HostnameOS / ArchINSTALLBUILDCHECKBUILD BIN
podkat 1.30.0  (landing page)
Ulrich Bodenhofer
git_last_commit: e58e132
git_last_commit_date: 2022-11-01 11:11:23 -0500
nebbiolo2Linux (Ubuntu 20.04.5 LTS) / x86_64  OK    OK    OK  UNNEEDED, same version is already published
palomino4Windows Server 2022 Datacenter / x64  OK    ERROR  skippedskipped
lconwaymacOS 12.5.1 Monterey / x86_64  OK    OK    OK    OK  UNNEEDED, same version is already published
Package 65/97HostnameOS / ArchINSTALLBUILDCHECKBUILD BIN
qsea 1.24.0  (landing page)
Matthias Lienhard
git_last_commit: 662ea99
git_last_commit_date: 2022-11-01 11:13:58 -0500
nebbiolo2Linux (Ubuntu 20.04.5 LTS) / x86_64  OK    OK    WARNINGS  UNNEEDED, same version is already published
palomino4Windows Server 2022 Datacenter / x64  OK    OK    WARNINGS    OK  UNNEEDED, same version is already published
lconwaymacOS 12.5.1 Monterey / x86_64  OK    OK    WARNINGS    OK  UNNEEDED, same version is already published
Package 66/97HostnameOS / ArchINSTALLBUILDCHECKBUILD BIN
QuasR 1.38.0  (landing page)
Michael Stadler
git_last_commit: 0d658f7
git_last_commit_date: 2022-11-01 11:07:45 -0500
nebbiolo2Linux (Ubuntu 20.04.5 LTS) / x86_64  OK    OK    OK  UNNEEDED, same version is already published
palomino4Windows Server 2022 Datacenter / x64  OK    OK    OK    OK  UNNEEDED, same version is already published
lconwaymacOS 12.5.1 Monterey / x86_64  OK    OK    OK    OK  UNNEEDED, same version is already published
Package 67/97HostnameOS / ArchINSTALLBUILDCHECKBUILD BIN
R453Plus1Toolbox 1.48.0  (landing page)
Hans-Ulrich Klein
git_last_commit: 93bf3f8
git_last_commit_date: 2022-11-01 11:05:23 -0500
nebbiolo2Linux (Ubuntu 20.04.5 LTS) / x86_64  OK    OK    OK  UNNEEDED, same version is already published
palomino4Windows Server 2022 Datacenter / x64  OK    ERROR  skippedskipped
lconwaymacOS 12.5.1 Monterey / x86_64  OK    OK    OK    OK  UNNEEDED, same version is already published
Package 68/97HostnameOS / ArchINSTALLBUILDCHECKBUILD BIN
RareVariantVis 2.26.0  (landing page)
Tomasz Stokowy
git_last_commit: bc98104
git_last_commit_date: 2022-11-01 11:11:46 -0500
nebbiolo2Linux (Ubuntu 20.04.5 LTS) / x86_64  OK    OK    OK  UNNEEDED, same version is already published
palomino4Windows Server 2022 Datacenter / x64  OK    ERROR  skippedskipped
lconwaymacOS 12.5.1 Monterey / x86_64  OK    OK    OK    OK  UNNEEDED, same version is already published
Package 69/97HostnameOS / ArchINSTALLBUILDCHECKBUILD BIN
RCAS 1.24.0  (landing page)
Bora Uyar
git_last_commit: 385b33e
git_last_commit_date: 2022-11-01 11:14:07 -0500
nebbiolo2Linux (Ubuntu 20.04.5 LTS) / x86_64  OK    OK    OK  UNNEEDED, same version is already published
palomino4Windows Server 2022 Datacenter / x64  OK    OK    OK    OK  UNNEEDED, same version is already published
lconwaymacOS 12.5.1 Monterey / x86_64  OK    OK    OK    OK  UNNEEDED, same version is already published
Package 70/97HostnameOS / ArchINSTALLBUILDCHECKBUILD BIN
REDseq 1.44.0  (landing page)
Lihua Julie Zhu
git_last_commit: 647d21d
git_last_commit_date: 2022-11-01 11:05:56 -0500
nebbiolo2Linux (Ubuntu 20.04.5 LTS) / x86_64  OK    OK    OK  UNNEEDED, same version is already published
palomino4Windows Server 2022 Datacenter / x64  OK    OK    OK    OK  UNNEEDED, same version is already published
lconwaymacOS 12.5.1 Monterey / x86_64  OK    OK    OK    OK  UNNEEDED, same version is already published
Package 71/97HostnameOS / ArchINSTALLBUILDCHECKBUILD BIN
regioneR 1.30.0  (landing page)
Bernat Gel
git_last_commit: 52f238d
git_last_commit_date: 2022-11-01 11:11:26 -0500
nebbiolo2Linux (Ubuntu 20.04.5 LTS) / x86_64  OK    OK    WARNINGS  UNNEEDED, same version is already published
palomino4Windows Server 2022 Datacenter / x64  OK    OK    WARNINGS    OK  UNNEEDED, same version is already published
lconwaymacOS 12.5.1 Monterey / x86_64  OK    OK    WARNINGS    OK  UNNEEDED, same version is already published
Package 72/97HostnameOS / ArchINSTALLBUILDCHECKBUILD BIN
REMP 1.22.0  (landing page)
Yinan Zheng
git_last_commit: 1312141
git_last_commit_date: 2022-11-01 11:15:10 -0500
nebbiolo2Linux (Ubuntu 20.04.5 LTS) / x86_64  OK    OK    OK  UNNEEDED, same version is already published
palomino4Windows Server 2022 Datacenter / x64  OK    OK    OK    OK  UNNEEDED, same version is already published
lconwaymacOS 12.5.1 Monterey / x86_64  OK    OK    OK    OK  UNNEEDED, same version is already published
Package 73/97HostnameOS / ArchINSTALLBUILDCHECKBUILD BIN
Repitools 1.44.0  (landing page)
Mark Robinson
git_last_commit: 5f359d2
git_last_commit_date: 2022-11-01 11:06:01 -0500
nebbiolo2Linux (Ubuntu 20.04.5 LTS) / x86_64  OK    OK    OK  UNNEEDED, same version is already published
palomino4Windows Server 2022 Datacenter / x64  OK    OK    OK    OK  UNNEEDED, same version is already published
lconwaymacOS 12.5.1 Monterey / x86_64  OK    OK    OK    OK  UNNEEDED, same version is already published
Package 74/97HostnameOS / ArchINSTALLBUILDCHECKBUILD BIN
RESOLVE 1.0.0  (landing page)
Luca De Sano
git_last_commit: 5223f8c
git_last_commit_date: 2022-11-01 11:27:44 -0500
nebbiolo2Linux (Ubuntu 20.04.5 LTS) / x86_64  OK    OK    OK  UNNEEDED, same version is already published
palomino4Windows Server 2022 Datacenter / x64  OK    OK    OK    OK  UNNEEDED, same version is already published
lconwaymacOS 12.5.1 Monterey / x86_64  OK    OK    OK    OK  UNNEEDED, same version is already published
Package 75/97HostnameOS / ArchINSTALLBUILDCHECKBUILD BIN
rGADEM 2.46.0  (landing page)
Arnaud Droit
git_last_commit: eced781
git_last_commit_date: 2022-11-01 11:04:51 -0500
nebbiolo2Linux (Ubuntu 20.04.5 LTS) / x86_64  OK    OK    OK  UNNEEDED, same version is already published
palomino4Windows Server 2022 Datacenter / x64  OK    OK    OK    OK  UNNEEDED, same version is already published
lconwaymacOS 12.5.1 Monterey / x86_64  OK    OK    OK    OK  UNNEEDED, same version is already published
Package 76/97HostnameOS / ArchINSTALLBUILDCHECKBUILD BIN
ribosomeProfilingQC 1.10.0  (landing page)
Jianhong Ou
git_last_commit: 1fb3d93
git_last_commit_date: 2022-11-01 11:21:25 -0500
nebbiolo2Linux (Ubuntu 20.04.5 LTS) / x86_64  OK    OK    OK  UNNEEDED, same version is already published
palomino4Windows Server 2022 Datacenter / x64  OK    OK    OK    OK  UNNEEDED, same version is already published
lconwaymacOS 12.5.1 Monterey / x86_64  OK    OK    OK    OK  UNNEEDED, same version is already published
Package 77/97HostnameOS / ArchINSTALLBUILDCHECKBUILD BIN
RNAmodR 1.12.0  (landing page)
Felix G.M. Ernst
git_last_commit: 6cf3f83
git_last_commit_date: 2022-11-01 11:20:02 -0500
nebbiolo2Linux (Ubuntu 20.04.5 LTS) / x86_64  OK    OK    OK  UNNEEDED, same version is already published
palomino4Windows Server 2022 Datacenter / x64  OK    OK    OK    OK  UNNEEDED, same version is already published
lconwaymacOS 12.5.1 Monterey / x86_64  OK    OK    OK    OK  UNNEEDED, same version is already published
Package 78/97HostnameOS / ArchINSTALLBUILDCHECKBUILD BIN
scmeth 1.18.0  (landing page)
Divy Kangeyan
git_last_commit: fffdd11
git_last_commit_date: 2022-11-01 11:17:10 -0500
nebbiolo2Linux (Ubuntu 20.04.5 LTS) / x86_64  OK    OK    OK  UNNEEDED, same version is already published
palomino4Windows Server 2022 Datacenter / x64  OK    OK    OK    OK  UNNEEDED, same version is already published
lconwaymacOS 12.5.1 Monterey / x86_64  OK    OK    OK    OK  UNNEEDED, same version is already published
Package 79/97HostnameOS / ArchINSTALLBUILDCHECKBUILD BIN
SCOPE 1.10.0  (landing page)
Rujin Wang
git_last_commit: cd8f6c9
git_last_commit_date: 2022-11-01 11:21:21 -0500
nebbiolo2Linux (Ubuntu 20.04.5 LTS) / x86_64  OK    OK    OK  UNNEEDED, same version is already published
palomino4Windows Server 2022 Datacenter / x64  OK    OK    OK    OK  UNNEEDED, same version is already published
lconwaymacOS 12.5.1 Monterey / x86_64  OK    OK    OK    OK  UNNEEDED, same version is already published
Package 80/97HostnameOS / ArchINSTALLBUILDCHECKBUILD BIN
signeR 2.0.0  (landing page)
Renan Valieris
git_last_commit: 0a496b5
git_last_commit_date: 2022-11-01 11:14:23 -0500
nebbiolo2Linux (Ubuntu 20.04.5 LTS) / x86_64  OK    OK    OK  UNNEEDED, same version is already published
palomino4Windows Server 2022 Datacenter / x64  OK    OK    OK    OK  UNNEEDED, same version is already published
lconwaymacOS 12.5.1 Monterey / x86_64  OK    OK    OK    OK  UNNEEDED, same version is already published
Package 81/97HostnameOS / ArchINSTALLBUILDCHECKBUILD BIN
SigsPack 1.12.0  (landing page)
Franziska Schumann
git_last_commit: ac1d54d
git_last_commit_date: 2022-11-01 11:20:21 -0500
nebbiolo2Linux (Ubuntu 20.04.5 LTS) / x86_64  OK    OK    OK  UNNEEDED, same version is already published
palomino4Windows Server 2022 Datacenter / x64  OK    OK    OK    OK  UNNEEDED, same version is already published
lconwaymacOS 12.5.1 Monterey / x86_64  OK    OK    OK    OK  UNNEEDED, same version is already published
Package 82/97HostnameOS / ArchINSTALLBUILDCHECKBUILD BIN
SingleMoleculeFootprinting 1.6.0  (landing page)
Guido Barzaghi
git_last_commit: e3b5f76
git_last_commit_date: 2022-11-01 11:25:08 -0500
nebbiolo2Linux (Ubuntu 20.04.5 LTS) / x86_64  OK    OK    OK  UNNEEDED, same version is already published
palomino4Windows Server 2022 Datacenter / x64  OK    OK    OK    OK  UNNEEDED, same version is already published
lconwaymacOS 12.5.1 Monterey / x86_64  OK    OK    OK    OK  UNNEEDED, same version is already published
Package 83/97HostnameOS / ArchINSTALLBUILDCHECKBUILD BIN
SparseSignatures 2.8.0  (landing page)
Luca De Sano
git_last_commit: 227242c
git_last_commit_date: 2022-11-01 11:17:34 -0500
nebbiolo2Linux (Ubuntu 20.04.5 LTS) / x86_64  OK    OK    OK  UNNEEDED, same version is already published
palomino4Windows Server 2022 Datacenter / x64  OK    OK    OK    OK  UNNEEDED, same version is already published
lconwaymacOS 12.5.1 Monterey / x86_64  OK    OK    OK    OK  UNNEEDED, same version is already published
Package 84/97HostnameOS / ArchINSTALLBUILDCHECKBUILD BIN
spatzie 1.4.0  (landing page)
Jennifer Hammelman
git_last_commit: 22a9bdb
git_last_commit_date: 2022-11-01 11:25:25 -0500
nebbiolo2Linux (Ubuntu 20.04.5 LTS) / x86_64  OK    OK    OK  UNNEEDED, same version is already published
palomino4Windows Server 2022 Datacenter / x64  OK    OK    OK    OK  UNNEEDED, same version is already published
lconwaymacOS 12.5.1 Monterey / x86_64  OK    OK    OK    OK  UNNEEDED, same version is already published
Package 85/97HostnameOS / ArchINSTALLBUILDCHECKBUILD BIN
spiky 1.4.0  (landing page)
Tim Triche
git_last_commit: ca789a4
git_last_commit_date: 2022-11-01 11:25:11 -0500
nebbiolo2Linux (Ubuntu 20.04.5 LTS) / x86_64  OK    OK    OK  UNNEEDED, same version is already published
palomino4Windows Server 2022 Datacenter / x64  OK    OK    OK    OK  UNNEEDED, same version is already published
lconwaymacOS 12.5.1 Monterey / x86_64  OK    OK    OK    OK  UNNEEDED, same version is already published
Package 86/97HostnameOS / ArchINSTALLBUILDCHECKBUILD BIN
SpliceWiz 1.0.1  (landing page)
Alex Chit Hei Wong
git_last_commit: f025925
git_last_commit_date: 2022-11-09 00:00:12 -0500
nebbiolo2Linux (Ubuntu 20.04.5 LTS) / x86_64  OK    OK    OK  UNNEEDED, same version is already published
palomino4Windows Server 2022 Datacenter / x64  OK    OK    OK    OK  UNNEEDED, same version is already published
lconwaymacOS 12.5.1 Monterey / x86_64  OK    OK    OK    OK  UNNEEDED, same version is already published
Package 87/97HostnameOS / ArchINSTALLBUILDCHECKBUILD BIN
TAPseq 1.10.0  (landing page)
Andreas R. Gschwind
git_last_commit: 9a1ac4c
git_last_commit_date: 2022-11-01 11:21:30 -0500
nebbiolo2Linux (Ubuntu 20.04.5 LTS) / x86_64  OK    OK    WARNINGS  UNNEEDED, same version is already published
palomino4Windows Server 2022 Datacenter / x64  OK    OK    WARNINGS    OK  UNNEEDED, same version is already published
lconwaymacOS 12.5.1 Monterey / x86_64  OK    OK    WARNINGS    OK  UNNEEDED, same version is already published
Package 88/97HostnameOS / ArchINSTALLBUILDCHECKBUILD BIN
TFBSTools 1.36.0  (landing page)
Ge Tan
git_last_commit: 3358c89
git_last_commit_date: 2022-11-01 11:08:54 -0500
nebbiolo2Linux (Ubuntu 20.04.5 LTS) / x86_64  OK    OK    OK  UNNEEDED, same version is already published
palomino4Windows Server 2022 Datacenter / x64  OK    OK    OK    OK  UNNEEDED, same version is already published
lconwaymacOS 12.5.1 Monterey / x86_64  OK    OK    OK    OK  UNNEEDED, same version is already published
Package 89/97HostnameOS / ArchINSTALLBUILDCHECKBUILD BIN
trena 1.20.0  (landing page)
Paul Shannon
git_last_commit: 0b1d1b9
git_last_commit_date: 2022-11-01 11:15:44 -0500
nebbiolo2Linux (Ubuntu 20.04.5 LTS) / x86_64  OK    OK    WARNINGS  UNNEEDED, same version is already published
palomino4Windows Server 2022 Datacenter / x64  OK    OK    WARNINGS    OK  UNNEEDED, same version is already published
lconwaymacOS 12.5.1 Monterey / x86_64  OK    OK    WARNINGS    OK  UNNEEDED, same version is already published
Package 90/97HostnameOS / ArchINSTALLBUILDCHECKBUILD BIN
tRNAscanImport 1.18.0  (landing page)
Felix G.M. Ernst
git_last_commit: fa73364
git_last_commit_date: 2022-11-01 11:17:15 -0500
nebbiolo2Linux (Ubuntu 20.04.5 LTS) / x86_64  OK    OK    OK  UNNEEDED, same version is already published
palomino4Windows Server 2022 Datacenter / x64  OK    OK    OK    OK  UNNEEDED, same version is already published
lconwaymacOS 12.5.1 Monterey / x86_64  OK    OK    OK    OK  UNNEEDED, same version is already published
Package 91/97HostnameOS / ArchINSTALLBUILDCHECKBUILD BIN
Ularcirc 1.16.0  (landing page)
David Humphreys
git_last_commit: c4f780d
git_last_commit_date: 2022-11-01 11:17:58 -0500
nebbiolo2Linux (Ubuntu 20.04.5 LTS) / x86_64  OK    OK    WARNINGS  UNNEEDED, same version is already published
palomino4Windows Server 2022 Datacenter / x64  OK    OK    WARNINGS    OK  UNNEEDED, same version is already published
lconwaymacOS 12.5.1 Monterey / x86_64  OK    OK    WARNINGS    OK  UNNEEDED, same version is already published
Package 92/97HostnameOS / ArchINSTALLBUILDCHECKBUILD BIN
UMI4Cats 1.8.0  (landing page)
Mireia Ramos-Rodriguez
git_last_commit: 4ad63ef
git_last_commit_date: 2022-11-01 11:22:35 -0500
nebbiolo2Linux (Ubuntu 20.04.5 LTS) / x86_64  OK    OK    OK  UNNEEDED, same version is already published
palomino4Windows Server 2022 Datacenter / x64  OK    ERROR  skippedskipped
lconwaymacOS 12.5.1 Monterey / x86_64  OK    OK    OK    OK  UNNEEDED, same version is already published
Package 93/97HostnameOS / ArchINSTALLBUILDCHECKBUILD BIN
VarCon 1.6.0  (landing page)
Johannes Ptok
git_last_commit: e5f2ffb
git_last_commit_date: 2022-11-01 11:23:29 -0500
nebbiolo2Linux (Ubuntu 20.04.5 LTS) / x86_64  OK    OK    OK  UNNEEDED, same version is already published
palomino4Windows Server 2022 Datacenter / x64  OK    OK    OK    OK  UNNEEDED, same version is already published
lconwaymacOS 12.5.1 Monterey / x86_64  OK    OK    OK    OK  UNNEEDED, same version is already published
Package 94/97HostnameOS / ArchINSTALLBUILDCHECKBUILD BIN
VariantAnnotation 1.44.0  (landing page)
Bioconductor Package Maintainer
git_last_commit: 2e7e0a3
git_last_commit_date: 2022-11-01 11:06:07 -0500
nebbiolo2Linux (Ubuntu 20.04.5 LTS) / x86_64  OK    OK    OK  UNNEEDED, same version is already published
palomino4Windows Server 2022 Datacenter / x64  OK    ERROR  skippedskipped
lconwaymacOS 12.5.1 Monterey / x86_64  OK    OK    OK    OK  UNNEEDED, same version is already published
Package 95/97HostnameOS / ArchINSTALLBUILDCHECKBUILD BIN
VariantFiltering 1.34.0  (landing page)
Robert Castelo
git_last_commit: 0a6a94d
git_last_commit_date: 2022-11-01 11:09:33 -0500
nebbiolo2Linux (Ubuntu 20.04.5 LTS) / x86_64  OK    OK    OK  UNNEEDED, same version is already published
palomino4Windows Server 2022 Datacenter / x64  OK    ERROR  skippedskipped
lconwaymacOS 12.5.1 Monterey / x86_64  OK    OK    OK    OK  UNNEEDED, same version is already published
Package 96/97HostnameOS / ArchINSTALLBUILDCHECKBUILD BIN
VariantTools 1.40.0  (landing page)
Michael Lawrence
git_last_commit: d949a03
git_last_commit_date: 2022-11-01 11:07:33 -0500
nebbiolo2Linux (Ubuntu 20.04.5 LTS) / x86_64  OK    OK    WARNINGS  UNNEEDED, same version is already published
palomino4Windows Server 2022 Datacenter / x64  OK    ERROR  skippedskipped
lconwaymacOS 12.5.1 Monterey / x86_64  OK    OK    ERROR    OK  
Package 97/97HostnameOS / ArchINSTALLBUILDCHECKBUILD BIN
XNAString 1.6.0  (landing page)
Marianna Plucinska
git_last_commit: e838451
git_last_commit_date: 2022-11-01 11:25:00 -0500
nebbiolo2Linux (Ubuntu 20.04.5 LTS) / x86_64  OK    OK    OK  UNNEEDED, same version is already published
palomino4Windows Server 2022 Datacenter / x64  OK    OK    OK    OK  UNNEEDED, same version is already published
lconwaymacOS 12.5.1 Monterey / x86_64  OK    OK    OK    OK  UNNEEDED, same version is already published