Back to Multiple platform build/check report for BioC 3.13
A[B]CDEFGHIJKLMNOPQRSTUVWXYZ

This page was generated on 2021-09-20 15:05:07 -0400 (Mon, 20 Sep 2021).

BUILD BIN results for BRGenomics on tokay2

To the developers/maintainers of the BRGenomics package:
- Please allow up to 24 hours (and sometimes 48 hours) for your latest push to git@git.bioconductor.org:packages/BRGenomics.git to
reflect on this report. See How and When does the builder pull? When will my changes propagate? here for more information.
- Make sure to use the following settings in order to reproduce any error or warning you see on this page.

raw results

Package 213/2041HostnameOS / ArchINSTALLBUILDCHECKBUILD BIN
BRGenomics 1.4.0  (landing page)
Mike DeBerardine
Snapshot Date: 2021-09-19 04:50:10 -0400 (Sun, 19 Sep 2021)
git_url: https://git.bioconductor.org/packages/BRGenomics
git_branch: RELEASE_3_13
git_last_commit: b006074
git_last_commit_date: 2021-05-19 12:50:47 -0400 (Wed, 19 May 2021)
nebbiolo1Linux (Ubuntu 20.04.2 LTS) / x86_64  OK    OK    WARNINGS  UNNEEDED, same version is already published
tokay2Windows Server 2012 R2 Standard / x64  OK    OK    WARNINGS    OK  UNNEEDED, same version is already published
machv2macOS 10.14.6 Mojave / x86_64  OK    OK    WARNINGS    OK  UNNEEDED, same version is already published

Summary

Package: BRGenomics
Version: 1.4.0
Command: rm -rf BRGenomics.buildbin-libdir && mkdir BRGenomics.buildbin-libdir && C:\Users\biocbuild\bbs-3.13-bioc\R\bin\R.exe CMD INSTALL --merge-multiarch --build --library=BRGenomics.buildbin-libdir BRGenomics_1.4.0.tar.gz
StartedAt: 2021-09-20 07:45:58 -0400 (Mon, 20 Sep 2021)
EndedAt: 2021-09-20 07:47:31 -0400 (Mon, 20 Sep 2021)
EllapsedTime: 92.9 seconds
RetCode: 0
Status:   OK  
PackageFile: BRGenomics_1.4.0.zip
PackageFileSize: 3.676 MiB

Command output

##############################################################################
##############################################################################
###
### Running command:
###
###   rm -rf BRGenomics.buildbin-libdir && mkdir BRGenomics.buildbin-libdir && C:\Users\biocbuild\bbs-3.13-bioc\R\bin\R.exe CMD INSTALL --merge-multiarch --build --library=BRGenomics.buildbin-libdir BRGenomics_1.4.0.tar.gz
###
##############################################################################
##############################################################################



install for i386

* installing *source* package 'BRGenomics' ...
** using staged installation
** R
** data
** inst
** byte-compile and prepare package for lazy loading
** help
*** installing help indices
  converting help for package 'BRGenomics'
    finding HTML links ... done
    BRGenomics-package                      html  
    PROseq-data                             html  
    applyNFsGRanges                         html  
    binNDimensions                          html  
    bootstrap-signal-by-position            html  
    genebodies                              html  
    getCountsByPositions                    html  
    getCountsByRegions                      html  
    getDESeqDataSet                         html  
    getDESeqResults                         html  
    getMaxPositionsBySignal                 html  
    getPausingIndices                       html  
    getSpikeInCounts                        html  
    getSpikeInNFs                           html  
    getStrandedCoverage                     html  
    import-functions                        html  
    import_bam                              html  
    intersectByGene                         html  
    makeGRangesBRG                          html  
    mergeGRangesData                        html  
    mergeReplicates                         html  
    subsampleBySpikeIn                      html  
    subsampleGRanges                        html  
    subsetRegionsBySignal                   html  
    tidyChromosomes                         html  
    txs_dm6_chr4                            html  
** building package indices
** installing vignettes
** testing if installed package can be loaded from temporary location
** testing if installed package can be loaded from final location
** testing if installed package keeps a record of temporary installation path

install for x64

* installing *source* package 'BRGenomics' ...
** testing if installed package can be loaded
* MD5 sums
packaged installation of 'BRGenomics' as BRGenomics_1.4.0.zip
* DONE (BRGenomics)