Back to Multiple platform build/check report for BioC 3.13
A[B]CDEFGHIJKLMNOPQRSTUVWXYZ

This page was generated on 2021-09-24 15:05:40 -0400 (Fri, 24 Sep 2021).

BUILD results for BRGenomics on nebbiolo1

To the developers/maintainers of the BRGenomics package:
- Please allow up to 24 hours (and sometimes 48 hours) for your latest push to git@git.bioconductor.org:packages/BRGenomics.git to
reflect on this report. See How and When does the builder pull? When will my changes propagate? here for more information.
- Make sure to use the following settings in order to reproduce any error or warning you see on this page.

raw results

Package 213/2041HostnameOS / ArchINSTALLBUILDCHECKBUILD BIN
BRGenomics 1.4.0  (landing page)
Mike DeBerardine
Snapshot Date: 2021-09-23 04:50:12 -0400 (Thu, 23 Sep 2021)
git_url: https://git.bioconductor.org/packages/BRGenomics
git_branch: RELEASE_3_13
git_last_commit: b006074
git_last_commit_date: 2021-05-19 12:50:47 -0400 (Wed, 19 May 2021)
nebbiolo1Linux (Ubuntu 20.04.2 LTS) / x86_64  OK    OK    WARNINGS  UNNEEDED, same version is already published
tokay2Windows Server 2012 R2 Standard / x64  OK    OK    WARNINGS    OK  UNNEEDED, same version is already published
machv2macOS 10.14.6 Mojave / x86_64  OK    OK    WARNINGS    OK  UNNEEDED, same version is already published

Summary

Package: BRGenomics
Version: 1.4.0
Command: /home/biocbuild/bbs-3.13-bioc/R/bin/R CMD build --keep-empty-dirs --no-resave-data BRGenomics
StartedAt: 2021-09-23 06:49:04 -0400 (Thu, 23 Sep 2021)
EndedAt: 2021-09-23 06:50:33 -0400 (Thu, 23 Sep 2021)
EllapsedTime: 88.6 seconds
RetCode: 0
Status:   OK  
PackageFile: BRGenomics_1.4.0.tar.gz
PackageFileSize: 3.726 MiB

Command output

##############################################################################
##############################################################################
###
### Running command:
###
###   /home/biocbuild/bbs-3.13-bioc/R/bin/R CMD build --keep-empty-dirs --no-resave-data BRGenomics
###
##############################################################################
##############################################################################


* checking for file ‘BRGenomics/DESCRIPTION’ ... OK
* preparing ‘BRGenomics’:
* checking DESCRIPTION meta-information ... OK
* installing the package to build vignettes
* creating vignettes ... OK
* checking for LF line-endings in source and make files and shell scripts
* checking for empty or unneeded directories
* looking to see if a ‘data/datalist’ file should be added
* building ‘BRGenomics_1.4.0.tar.gz’