Back to Multiple platform build/check report for BioC 3.13
A[B]CDEFGHIJKLMNOPQRSTUVWXYZ

This page was generated on 2021-09-20 15:05:07 -0400 (Mon, 20 Sep 2021).

CHECK results for BPRMeth on tokay2

To the developers/maintainers of the BPRMeth package:
- Please allow up to 24 hours (and sometimes 48 hours) for your latest push to git@git.bioconductor.org:packages/BPRMeth.git to
reflect on this report. See How and When does the builder pull? When will my changes propagate? here for more information.
- Make sure to use the following settings in order to reproduce any error or warning you see on this page.

raw results

Package 205/2041HostnameOS / ArchINSTALLBUILDCHECKBUILD BIN
BPRMeth 1.18.0  (landing page)
Chantriolnt-Andreas Kapourani
Snapshot Date: 2021-09-19 04:50:10 -0400 (Sun, 19 Sep 2021)
git_url: https://git.bioconductor.org/packages/BPRMeth
git_branch: RELEASE_3_13
git_last_commit: 2d62182
git_last_commit_date: 2021-05-19 12:24:30 -0400 (Wed, 19 May 2021)
nebbiolo1Linux (Ubuntu 20.04.2 LTS) / x86_64  OK    OK    OK  UNNEEDED, same version is already published
tokay2Windows Server 2012 R2 Standard / x64  OK    OK    OK    OK  UNNEEDED, same version is already published
machv2macOS 10.14.6 Mojave / x86_64  OK    OK    OK    OK  UNNEEDED, same version is already published

Summary

Package: BPRMeth
Version: 1.18.0
Command: C:\Users\biocbuild\bbs-3.13-bioc\R\bin\R.exe CMD check --force-multiarch --install=check:BPRMeth.install-out.txt --library=C:\Users\biocbuild\bbs-3.13-bioc\R\library --no-vignettes --timings BPRMeth_1.18.0.tar.gz
StartedAt: 2021-09-19 19:43:25 -0400 (Sun, 19 Sep 2021)
EndedAt: 2021-09-19 19:48:22 -0400 (Sun, 19 Sep 2021)
EllapsedTime: 296.9 seconds
RetCode: 0
Status:   OK  
CheckDir: BPRMeth.Rcheck
Warnings: 0

Command output

##############################################################################
##############################################################################
###
### Running command:
###
###   C:\Users\biocbuild\bbs-3.13-bioc\R\bin\R.exe CMD check --force-multiarch --install=check:BPRMeth.install-out.txt --library=C:\Users\biocbuild\bbs-3.13-bioc\R\library --no-vignettes --timings BPRMeth_1.18.0.tar.gz
###
##############################################################################
##############################################################################


* using log directory 'C:/Users/biocbuild/bbs-3.13-bioc/meat/BPRMeth.Rcheck'
* using R version 4.1.1 (2021-08-10)
* using platform: x86_64-w64-mingw32 (64-bit)
* using session charset: ISO8859-1
* using option '--no-vignettes'
* checking for file 'BPRMeth/DESCRIPTION' ... OK
* checking extension type ... Package
* this is package 'BPRMeth' version '1.18.0'
* package encoding: UTF-8
* checking package namespace information ... OK
* checking package dependencies ... OK
* checking if this is a source package ... OK
* checking if there is a namespace ... OK
* checking for hidden files and directories ... OK
* checking for portable file names ... OK
* checking whether package 'BPRMeth' can be installed ... OK
* checking installed package size ... NOTE
  installed size is  5.9Mb
  sub-directories of 1Mb or more:
    extdata   1.5Mb
    libs      2.1Mb
* checking package directory ... OK
* checking 'build' directory ... OK
* checking DESCRIPTION meta-information ... OK
* checking top-level files ... OK
* checking for left-over files ... OK
* checking index information ... OK
* checking package subdirectories ... OK
* checking R files for non-ASCII characters ... OK
* checking R files for syntax errors ... OK
* loading checks for arch 'i386'
** checking whether the package can be loaded ... OK
** checking whether the package can be loaded with stated dependencies ... OK
** checking whether the package can be unloaded cleanly ... OK
** checking whether the namespace can be loaded with stated dependencies ... OK
** checking whether the namespace can be unloaded cleanly ... OK
* loading checks for arch 'x64'
** checking whether the package can be loaded ... OK
** checking whether the package can be loaded with stated dependencies ... OK
** checking whether the package can be unloaded cleanly ... OK
** checking whether the namespace can be loaded with stated dependencies ... OK
** checking whether the namespace can be unloaded cleanly ... OK
* checking dependencies in R code ... NOTE
Namespace in Imports field not imported from: 'BiocStyle'
  All declared Imports should be used.
* checking S3 generic/method consistency ... OK
* checking replacement functions ... OK
* checking foreign function calls ... OK
* checking R code for possible problems ... OK
* checking Rd files ... OK
* checking Rd metadata ... OK
* checking Rd cross-references ... OK
* checking for missing documentation entries ... OK
* checking for code/documentation mismatches ... OK
* checking Rd \usage sections ... OK
* checking Rd contents ... OK
* checking for unstated dependencies in examples ... OK
* checking contents of 'data' directory ... OK
* checking data for non-ASCII characters ... OK
* checking LazyData ... OK
* checking data for ASCII and uncompressed saves ... OK
* checking line endings in C/C++/Fortran sources/headers ... OK
* checking line endings in Makefiles ... OK
* checking compilation flags in Makevars ... OK
* checking for GNU extensions in Makefiles ... OK
* checking for portable use of $(BLAS_LIBS) and $(LAPACK_LIBS) ... OK
* checking use of PKG_*FLAGS in Makefiles ... OK
* checking compiled code ... NOTE
Note: information on .o files for i386 is not available
Note: information on .o files for x64 is not available
File 'C:/Users/biocbuild/bbs-3.13-bioc/R/library/BPRMeth/libs/i386/BPRMeth.dll':
  Found 'abort', possibly from 'abort' (C), 'runtime' (Fortran)
  Found 'exit', possibly from 'exit' (C), 'stop' (Fortran)
  Found 'printf', possibly from 'printf' (C)
File 'C:/Users/biocbuild/bbs-3.13-bioc/R/library/BPRMeth/libs/x64/BPRMeth.dll':
  Found 'abort', possibly from 'abort' (C), 'runtime' (Fortran)
  Found 'exit', possibly from 'exit' (C), 'stop' (Fortran)
  Found 'printf', possibly from 'printf' (C)

Compiled code should not call entry points which might terminate R nor
write to stdout/stderr instead of to the console, nor use Fortran I/O
nor system RNGs. The detected symbols are linked into the code but
might come from libraries and not actually be called.

See 'Writing portable packages' in the 'Writing R Extensions' manual.
* checking files in 'vignettes' ... OK
* checking examples ...
** running examples for arch 'i386' ... OK
Examples with CPU (user + system) or elapsed time > 5s
                        user system elapsed
cluster_profiles_mle    7.44    0.0    7.44
bpr_cluster_wrap        5.83    0.0    5.83
old_boxplot_cluster_gex 5.83    0.0    5.84
cluster_profiles_vb     5.55    0.2    5.75
old_plot_cluster_prof   5.50    0.0    5.50
** running examples for arch 'x64' ... OK
Examples with CPU (user + system) or elapsed time > 5s
                        user system elapsed
cluster_profiles_mle    6.72      0    6.72
bpr_cluster_wrap        5.64      0    5.64
old_boxplot_cluster_gex 5.08      0    5.08
* checking for unstated dependencies in 'tests' ... OK
* checking tests ...
** running tests for arch 'i386' ...
  Running 'testthat.R'
 OK
** running tests for arch 'x64' ...
  Running 'testthat.R'
 OK
* checking for unstated dependencies in vignettes ... OK
* checking package vignettes in 'inst/doc' ... OK
* checking running R code from vignettes ... SKIPPED
* checking re-building of vignette outputs ... SKIPPED
* checking PDF version of manual ... OK
* DONE

Status: 3 NOTEs
See
  'C:/Users/biocbuild/bbs-3.13-bioc/meat/BPRMeth.Rcheck/00check.log'
for details.



Installation output

BPRMeth.Rcheck/00install.out

##############################################################################
##############################################################################
###
### Running command:
###
###   C:\cygwin\bin\curl.exe -O http://155.52.207.165/BBS/3.13/bioc/src/contrib/BPRMeth_1.18.0.tar.gz && rm -rf BPRMeth.buildbin-libdir && mkdir BPRMeth.buildbin-libdir && C:\Users\biocbuild\bbs-3.13-bioc\R\bin\R.exe CMD INSTALL --merge-multiarch --build --library=BPRMeth.buildbin-libdir BPRMeth_1.18.0.tar.gz && C:\Users\biocbuild\bbs-3.13-bioc\R\bin\R.exe CMD INSTALL BPRMeth_1.18.0.zip && rm BPRMeth_1.18.0.tar.gz BPRMeth_1.18.0.zip
###
##############################################################################
##############################################################################


  % Total    % Received % Xferd  Average Speed   Time    Time     Time  Current
                                 Dload  Upload   Total   Spent    Left  Speed

  0     0    0     0    0     0      0      0 --:--:-- --:--:-- --:--:--     0
 53 3346k   53 1795k    0     0  2479k      0  0:00:01 --:--:--  0:00:01 2479k
100 3346k  100 3346k    0     0  3061k      0  0:00:01  0:00:01 --:--:-- 3064k

install for i386

* installing *source* package 'BPRMeth' ...
** using staged installation
** libs
"C:/rtools40/mingw32/bin/"g++  -std=gnu++11 -I"C:/Users/BIOCBU~1/BBS-3~1.13-/R/include" -DNDEBUG  -I'C:/Users/biocbuild/bbs-3.13-bioc/R/library/Rcpp/include' -I'C:/Users/biocbuild/bbs-3.13-bioc/R/library/RcppArmadillo/include'   -I"c:/extsoft/include"  -fopenmp    -O2 -Wall  -mfpmath=sse -msse2 -mstackrealign  -c RcppExports.cpp -o RcppExports.o
"C:/rtools40/mingw32/bin/"g++  -std=gnu++11 -I"C:/Users/BIOCBU~1/BBS-3~1.13-/R/include" -DNDEBUG  -I'C:/Users/biocbuild/bbs-3.13-bioc/R/library/Rcpp/include' -I'C:/Users/biocbuild/bbs-3.13-bioc/R/library/RcppArmadillo/include'   -I"c:/extsoft/include"  -fopenmp    -O2 -Wall  -mfpmath=sse -msse2 -mstackrealign  -c model_likelihood.cpp -o model_likelihood.o
C:/rtools40/mingw32/bin/g++ -shared -s -static-libgcc -o BPRMeth.dll tmp.def RcppExports.o model_likelihood.o -fopenmp -LC:/Users/BIOCBU~1/BBS-3~1.13-/R/bin/i386 -lRlapack -LC:/Users/BIOCBU~1/BBS-3~1.13-/R/bin/i386 -lRblas -lgfortran -lm -lquadmath -Lc:/extsoft/lib/i386 -Lc:/extsoft/lib -LC:/Users/BIOCBU~1/BBS-3~1.13-/R/bin/i386 -lR
installing to C:/Users/biocbuild/bbs-3.13-bioc/meat/BPRMeth.buildbin-libdir/00LOCK-BPRMeth/00new/BPRMeth/libs/i386
** R
** data
*** moving datasets to lazyload DB
** inst
** byte-compile and prepare package for lazy loading
** help
*** installing help indices
  converting help for package 'BPRMeth'
    finding HTML links ... done
    BPRMeth                                 html  
    bernoulli_data                          html  
    beta_data                               html  
    binomial_data                           html  
    boxplot_cluster_expr                    html  
    bpr_cluster_wrap                        html  
    bpr_optimize                            html  
    bpr_predict_wrap                        html  
    cluster_profiles_mle                    html  
    cluster_profiles_vb                     html  
    create_anno_region                      html  
    create_basis                            html  
    create_region_object                    html  
    design_matrix                           html  
    encode_expr                             html  
    encode_met                              html  
    eval_functions                          html  
    gaussian_data                           html  
    gex_data                                html  
    impute_bulk_met                         html  
    infer_profiles_gibbs                    html  
    infer_profiles_mle                      html  
    infer_profiles_vb                       html  
    inner_predict_model_expr                html  
    inner_train_model_expr                  html  
    meth_data                               html  
    model_log_likelihood                    html  
    old_boxplot_cluster_gex                 html  
    old_plot_cluster_prof                   html  
    old_plot_fitted_profiles                html  
    partition_bulk_dataset                  html  
    plot_cluster_profiles                   html  
    plot_infer_profiles                     html  
    finding level-2 HTML links ... done

    plot_predicted_expr                     html  
    pool_bs_seq_rep                         html  
    predict_expr                            html  
    preprocess_bs_seq                       html  
    preprocess_final_HTS_data               html  
    process_haib_caltech_wrap               html  
    read_anno                               html  
    read_bs_encode_haib                     html  
    read_chrom_size                         html  
    read_expr                               html  
    read_met                                html  
    read_rna_encode_caltech                 html  
** building package indices
** installing vignettes
** testing if installed package can be loaded from temporary location
** testing if installed package can be loaded from final location
** testing if installed package keeps a record of temporary installation path

install for x64

* installing *source* package 'BPRMeth' ...
** libs
"C:/rtools40/mingw64/bin/"g++  -std=gnu++11 -I"C:/Users/BIOCBU~1/BBS-3~1.13-/R/include" -DNDEBUG  -I'C:/Users/biocbuild/bbs-3.13-bioc/R/library/Rcpp/include' -I'C:/Users/biocbuild/bbs-3.13-bioc/R/library/RcppArmadillo/include'   -I"C:/extsoft/include"  -fopenmp    -O2 -Wall  -mfpmath=sse -msse2 -mstackrealign  -c RcppExports.cpp -o RcppExports.o
"C:/rtools40/mingw64/bin/"g++  -std=gnu++11 -I"C:/Users/BIOCBU~1/BBS-3~1.13-/R/include" -DNDEBUG  -I'C:/Users/biocbuild/bbs-3.13-bioc/R/library/Rcpp/include' -I'C:/Users/biocbuild/bbs-3.13-bioc/R/library/RcppArmadillo/include'   -I"C:/extsoft/include"  -fopenmp    -O2 -Wall  -mfpmath=sse -msse2 -mstackrealign  -c model_likelihood.cpp -o model_likelihood.o
C:/rtools40/mingw64/bin/g++ -shared -s -static-libgcc -o BPRMeth.dll tmp.def RcppExports.o model_likelihood.o -fopenmp -LC:/Users/BIOCBU~1/BBS-3~1.13-/R/bin/x64 -lRlapack -LC:/Users/BIOCBU~1/BBS-3~1.13-/R/bin/x64 -lRblas -lgfortran -lm -lquadmath -LC:/extsoft/lib/x64 -LC:/extsoft/lib -LC:/Users/BIOCBU~1/BBS-3~1.13-/R/bin/x64 -lR
installing to C:/Users/biocbuild/bbs-3.13-bioc/meat/BPRMeth.buildbin-libdir/BPRMeth/libs/x64
** testing if installed package can be loaded
* MD5 sums
packaged installation of 'BPRMeth' as BPRMeth_1.18.0.zip
* DONE (BPRMeth)
* installing to library 'C:/Users/biocbuild/bbs-3.13-bioc/R/library'
package 'BPRMeth' successfully unpacked and MD5 sums checked

Tests output

BPRMeth.Rcheck/tests_i386/testthat.Rout


R version 4.1.1 (2021-08-10) -- "Kick Things"
Copyright (C) 2021 The R Foundation for Statistical Computing
Platform: i386-w64-mingw32/i386 (32-bit)

R is free software and comes with ABSOLUTELY NO WARRANTY.
You are welcome to redistribute it under certain conditions.
Type 'license()' or 'licence()' for distribution details.

R is a collaborative project with many contributors.
Type 'contributors()' for more information and
'citation()' on how to cite R or R packages in publications.

Type 'demo()' for some demos, 'help()' for on-line help, or
'help.start()' for an HTML browser interface to help.
Type 'q()' to quit R.

> library(testthat)
> library(BPRMeth)
Loading required package: GenomicRanges
Loading required package: stats4
Loading required package: BiocGenerics
Loading required package: parallel

Attaching package: 'BiocGenerics'

The following objects are masked from 'package:parallel':

    clusterApply, clusterApplyLB, clusterCall, clusterEvalQ,
    clusterExport, clusterMap, parApply, parCapply, parLapply,
    parLapplyLB, parRapply, parSapply, parSapplyLB

The following objects are masked from 'package:stats':

    IQR, mad, sd, var, xtabs

The following objects are masked from 'package:base':

    Filter, Find, Map, Position, Reduce, anyDuplicated, append,
    as.data.frame, basename, cbind, colnames, dirname, do.call,
    duplicated, eval, evalq, get, grep, grepl, intersect, is.unsorted,
    lapply, mapply, match, mget, order, paste, pmax, pmax.int, pmin,
    pmin.int, rank, rbind, rownames, sapply, setdiff, sort, table,
    tapply, union, unique, unsplit, which.max, which.min

Loading required package: S4Vectors

Attaching package: 'S4Vectors'

The following objects are masked from 'package:base':

    I, expand.grid, unname

Loading required package: IRanges

Attaching package: 'IRanges'

The following object is masked from 'package:grDevices':

    windows

Loading required package: GenomeInfoDb
> 
> test_check("BPRMeth")
[ FAIL 0 | WARN 0 | SKIP 0 | PASS 70 ]
> 
> proc.time()
   user  system elapsed 
   4.15    0.37    4.51 

BPRMeth.Rcheck/tests_x64/testthat.Rout


R version 4.1.1 (2021-08-10) -- "Kick Things"
Copyright (C) 2021 The R Foundation for Statistical Computing
Platform: x86_64-w64-mingw32/x64 (64-bit)

R is free software and comes with ABSOLUTELY NO WARRANTY.
You are welcome to redistribute it under certain conditions.
Type 'license()' or 'licence()' for distribution details.

R is a collaborative project with many contributors.
Type 'contributors()' for more information and
'citation()' on how to cite R or R packages in publications.

Type 'demo()' for some demos, 'help()' for on-line help, or
'help.start()' for an HTML browser interface to help.
Type 'q()' to quit R.

> library(testthat)
> library(BPRMeth)
Loading required package: GenomicRanges
Loading required package: stats4
Loading required package: BiocGenerics
Loading required package: parallel

Attaching package: 'BiocGenerics'

The following objects are masked from 'package:parallel':

    clusterApply, clusterApplyLB, clusterCall, clusterEvalQ,
    clusterExport, clusterMap, parApply, parCapply, parLapply,
    parLapplyLB, parRapply, parSapply, parSapplyLB

The following objects are masked from 'package:stats':

    IQR, mad, sd, var, xtabs

The following objects are masked from 'package:base':

    Filter, Find, Map, Position, Reduce, anyDuplicated, append,
    as.data.frame, basename, cbind, colnames, dirname, do.call,
    duplicated, eval, evalq, get, grep, grepl, intersect, is.unsorted,
    lapply, mapply, match, mget, order, paste, pmax, pmax.int, pmin,
    pmin.int, rank, rbind, rownames, sapply, setdiff, sort, table,
    tapply, union, unique, unsplit, which.max, which.min

Loading required package: S4Vectors

Attaching package: 'S4Vectors'

The following objects are masked from 'package:base':

    I, expand.grid, unname

Loading required package: IRanges

Attaching package: 'IRanges'

The following object is masked from 'package:grDevices':

    windows

Loading required package: GenomeInfoDb
> 
> test_check("BPRMeth")
[ FAIL 0 | WARN 0 | SKIP 0 | PASS 70 ]
> 
> proc.time()
   user  system elapsed 
   4.28    0.21    4.46 

Example timings

BPRMeth.Rcheck/examples_i386/BPRMeth-Ex.timings

nameusersystemelapsed
boxplot_cluster_expr4.450.194.64
bpr_cluster_wrap5.830.005.83
bpr_optimize1.300.001.29
bpr_predict_wrap0.980.000.99
cluster_profiles_mle7.440.007.44
cluster_profiles_vb5.550.205.75
create_anno_region0.090.000.09
create_basis000
create_region_object000
design_matrix000
eval_functions000
impute_bulk_met0.640.000.64
infer_profiles_gibbs2.270.002.27
infer_profiles_mle1.920.001.92
infer_profiles_vb404
inner_predict_model_expr000
inner_train_model_expr0.030.000.03
old_boxplot_cluster_gex5.830.005.84
old_plot_cluster_prof5.50.05.5
old_plot_fitted_profiles0.920.000.93
partition_bulk_dataset0.030.000.03
plot_cluster_profiles3.890.003.89
plot_infer_profiles2.570.002.56
plot_predicted_expr2.250.002.25
pool_bs_seq_rep0.450.010.58
predict_expr2.360.022.37
preprocess_bs_seq0.140.000.14
preprocess_final_HTS_data0.450.000.47
process_haib_caltech_wrap0.550.000.55
read_anno0.060.000.06
read_bs_encode_haib0.060.020.08
read_chrom_size000
read_expr000
read_met0.050.010.06
read_rna_encode_caltech0.130.000.13

BPRMeth.Rcheck/examples_x64/BPRMeth-Ex.timings

nameusersystemelapsed
boxplot_cluster_expr4.520.054.56
bpr_cluster_wrap5.640.005.64
bpr_optimize1.350.001.34
bpr_predict_wrap101
cluster_profiles_mle6.720.006.72
cluster_profiles_vb4.780.004.78
create_anno_region0.170.000.17
create_basis000
create_region_object000
design_matrix000
eval_functions000
impute_bulk_met0.830.000.83
infer_profiles_gibbs2.360.002.36
infer_profiles_mle1.590.001.59
infer_profiles_vb3.170.003.17
inner_predict_model_expr0.020.000.02
inner_train_model_expr0.010.000.01
old_boxplot_cluster_gex5.080.005.08
old_plot_cluster_prof4.990.004.98
old_plot_fitted_profiles0.900.000.91
partition_bulk_dataset0.020.000.02
plot_cluster_profiles3.660.003.65
plot_infer_profiles2.310.002.32
plot_predicted_expr2.010.002.01
pool_bs_seq_rep0.330.000.33
predict_expr2.030.002.03
preprocess_bs_seq0.110.000.11
preprocess_final_HTS_data0.280.000.28
process_haib_caltech_wrap0.330.020.34
read_anno0.040.000.05
read_bs_encode_haib0.050.000.04
read_chrom_size000
read_expr000
read_met0.030.000.03
read_rna_encode_caltech0.090.000.09