Back to Multiple platform build/check report for BioC 3.13
A[B]CDEFGHIJKLMNOPQRSTUVWXYZ

This page was generated on 2021-08-02 15:05:36 -0400 (Mon, 02 Aug 2021).

CHECK results for BLMA on machv2

To the developers/maintainers of the BLMA package:
- Please allow up to 24 hours (and sometimes 48 hours) for your latest push to git@git.bioconductor.org:packages/BLMA.git to
reflect on this report. See How and When does the builder pull? When will my changes propagate? here for more information.
- Make sure to use the following settings in order to reproduce any error or warning you see on this page.

raw results

Package 200/2041HostnameOS / ArchINSTALLBUILDCHECKBUILD BIN
BLMA 1.16.0  (landing page)
Hung Nguyen
Snapshot Date: 2021-08-01 04:50:10 -0400 (Sun, 01 Aug 2021)
URL: https://git.bioconductor.org/packages/BLMA
Branch: RELEASE_3_13
Last Commit: 9b4e0e3
Last Changed Date: 2021-05-19 12:27:28 -0400 (Wed, 19 May 2021)
nebbiolo1Linux (Ubuntu 20.04.2 LTS) / x86_64  OK    OK    OK  UNNEEDED, same version is already published
tokay2Windows Server 2012 R2 Standard / x64  OK    OK    OK    OK  UNNEEDED, same version is already published
machv2macOS 10.14.6 Mojave / x86_64  OK    OK    OK    OK  UNNEEDED, same version is already published

Summary

Package: BLMA
Version: 1.16.0
Command: /Library/Frameworks/R.framework/Versions/Current/Resources/bin/R CMD check --install=check:BLMA.install-out.txt --library=/Library/Frameworks/R.framework/Versions/Current/Resources/library --no-vignettes --timings BLMA_1.16.0.tar.gz
StartedAt: 2021-08-01 16:25:20 -0400 (Sun, 01 Aug 2021)
EndedAt: 2021-08-01 16:34:42 -0400 (Sun, 01 Aug 2021)
EllapsedTime: 562.3 seconds
RetCode: 0
Status:   OK  
CheckDir: BLMA.Rcheck
Warnings: 0

Command output

##############################################################################
##############################################################################
###
### Running command:
###
###   /Library/Frameworks/R.framework/Versions/Current/Resources/bin/R CMD check --install=check:BLMA.install-out.txt --library=/Library/Frameworks/R.framework/Versions/Current/Resources/library --no-vignettes --timings BLMA_1.16.0.tar.gz
###
##############################################################################
##############################################################################


* using log directory ‘/Users/biocbuild/bbs-3.13-bioc/meat/BLMA.Rcheck’
* using R version 4.1.0 (2021-05-18)
* using platform: x86_64-apple-darwin17.0 (64-bit)
* using session charset: UTF-8
* using option ‘--no-vignettes’
* checking for file ‘BLMA/DESCRIPTION’ ... OK
* checking extension type ... Package
* this is package ‘BLMA’ version ‘1.16.0’
* checking package namespace information ... OK
* checking package dependencies ... NOTE
Depends: includes the non-default packages:
  'ROntoTools', 'GSA', 'PADOG', 'limma', 'graph', 'parallel',
  'Biobase', 'metafor'
Adding so many packages to the search path is excessive and importing
selectively is preferable.
* checking if this is a source package ... OK
* checking if there is a namespace ... OK
* checking for hidden files and directories ... NOTE
Found the following hidden files and directories:
  .git_fetch_output.txt
  .git_merge_output.txt
These were most likely included in error. See section ‘Package
structure’ in the ‘Writing R Extensions’ manual.
* checking for portable file names ... OK
* checking for sufficient/correct file permissions ... OK
* checking whether package ‘BLMA’ can be installed ... OK
* checking installed package size ... OK
* checking package directory ... OK
* checking ‘build’ directory ... OK
* checking DESCRIPTION meta-information ... OK
* checking top-level files ... OK
* checking for left-over files ... OK
* checking index information ... OK
* checking package subdirectories ... OK
* checking R files for non-ASCII characters ... OK
* checking R files for syntax errors ... OK
* checking whether the package can be loaded ... OK
* checking whether the package can be loaded with stated dependencies ... OK
* checking whether the package can be unloaded cleanly ... OK
* checking whether the namespace can be loaded with stated dependencies ... OK
* checking whether the namespace can be unloaded cleanly ... OK
* checking dependencies in R code ... OK
* checking S3 generic/method consistency ... OK
* checking replacement functions ... OK
* checking foreign function calls ... OK
* checking R code for possible problems ... NOTE
addCLT: warning in pnorm(mean(x), 1/2, sqrt(1/(12 * n)), lower = TRUE):
  partial argument match of 'lower' to 'lower.tail'
additiveMethod: warning in pnorm(sum(x), n/2, sqrt(n/12), lower =
  TRUE): partial argument match of 'lower' to 'lower.tail'
bilevelAnalysisGeneset : <anonymous>: warning in topTable(fit2, adjust
  = "none", sort.by = "logFC", number = nrow(d) * percent, p.value =
  pCutoff): partial argument match of 'adjust' to 'adjust.method'
bilevelAnalysisPathway : <anonymous>: warning in topTable(fit2, adjust
  = "none", sort.by = "logFC", number = nrow(d) * percent, p.value =
  pCutoff): partial argument match of 'adjust' to 'adjust.method'
fisherMethod: warning in pchisq(-2 * sum(log(x)), df = 2 * length(x),
  lower = FALSE): partial argument match of 'lower' to 'lower.tail'
getStatistics: warning in topTable(fit2, adjust = "fdr", sort.by = "B",
  number = Inf): partial argument match of 'adjust' to 'adjust.method'
intraAnalysisGene : <anonymous>: warning in topTable(fit2, adjust =
  "none", sort.by = "none", number = Inf): partial argument match of
  'adjust' to 'adjust.method'
intraAnalysisGene: warning in topTable(fit2, adjust = "none", sort.by =
  "none", number = Inf): partial argument match of 'adjust' to
  'adjust.method'
calculateFC: no visible binding for global variable ‘m1i’
calculateFC: no visible binding for global variable ‘sd1i’
calculateFC: no visible binding for global variable ‘n1i’
calculateFC: no visible binding for global variable ‘m2i’
calculateFC: no visible binding for global variable ‘sd2i’
calculateFC: no visible binding for global variable ‘n2i’
calculateFC: no visible binding for global variable ‘yi’
getStatistics: no visible binding for global variable ‘d’
hierClustering: no visible binding for global variable ‘km’
hierClustering: no visible global function definition for ‘clusGap’
hierClustering: no visible global function definition for ‘maxSE’
intraAnalysisGene: no visible binding for global variable ‘d’
Undefined global functions or variables:
  clusGap d km m1i m2i maxSE n1i n2i sd1i sd2i yi
* checking Rd files ... OK
* checking Rd metadata ... OK
* checking Rd cross-references ... OK
* checking for missing documentation entries ... OK
* checking for code/documentation mismatches ... OK
* checking Rd \usage sections ... OK
* checking Rd contents ... OK
* checking for unstated dependencies in examples ... OK
* checking contents of ‘data’ directory ... OK
* checking data for non-ASCII characters ... OK
* checking data for ASCII and uncompressed saves ... OK
* checking sizes of PDF files under ‘inst/doc’ ... OK
* checking files in ‘vignettes’ ... OK
* checking examples ... OK
Examples with CPU (user + system) or elapsed time > 5s
                          user system elapsed
bilevelAnalysisGeneset 116.698  7.137 123.953
getStatistics          106.493  1.214 107.803
bilevelAnalysisPathway  96.610  1.170  97.919
* checking for unstated dependencies in ‘tests’ ... OK
* checking tests ...
  Running ‘runTests.R’
 OK
* checking for unstated dependencies in vignettes ... OK
* checking package vignettes in ‘inst/doc’ ... OK
* checking running R code from vignettes ... SKIPPED
* checking re-building of vignette outputs ... SKIPPED
* checking PDF version of manual ... OK
* DONE

Status: 3 NOTEs
See
  ‘/Users/biocbuild/bbs-3.13-bioc/meat/BLMA.Rcheck/00check.log’
for details.



Installation output

BLMA.Rcheck/00install.out

##############################################################################
##############################################################################
###
### Running command:
###
###   /Library/Frameworks/R.framework/Versions/Current/Resources/bin/R CMD INSTALL BLMA
###
##############################################################################
##############################################################################


* installing to library ‘/Library/Frameworks/R.framework/Versions/4.1/Resources/library’
* installing *source* package ‘BLMA’ ...
** using staged installation
** R
** data
** inst
** byte-compile and prepare package for lazy loading
** help
*** installing help indices
** building package indices
** installing vignettes
** testing if installed package can be loaded from temporary location
** testing if installed package can be loaded from final location
** testing if installed package keeps a record of temporary installation path
* DONE (BLMA)

Tests output

BLMA.Rcheck/tests/runTests.Rout


R version 4.1.0 (2021-05-18) -- "Camp Pontanezen"
Copyright (C) 2021 The R Foundation for Statistical Computing
Platform: x86_64-apple-darwin17.0 (64-bit)

R is free software and comes with ABSOLUTELY NO WARRANTY.
You are welcome to redistribute it under certain conditions.
Type 'license()' or 'licence()' for distribution details.

R is a collaborative project with many contributors.
Type 'contributors()' for more information and
'citation()' on how to cite R or R packages in publications.

Type 'demo()' for some demos, 'help()' for on-line help, or
'help.start()' for an HTML browser interface to help.
Type 'q()' to quit R.

> BiocGenerics:::testPackage("BLMA")

Attaching package: 'BiocGenerics'

The following objects are masked from 'package:parallel':

    clusterApply, clusterApplyLB, clusterCall, clusterEvalQ,
    clusterExport, clusterMap, parApply, parCapply, parLapply,
    parLapplyLB, parRapply, parSapply, parSapplyLB

The following objects are masked from 'package:stats':

    IQR, mad, sd, var, xtabs

The following objects are masked from 'package:base':

    Filter, Find, Map, Position, Reduce, anyDuplicated, append,
    as.data.frame, basename, cbind, colnames, dirname, do.call,
    duplicated, eval, evalq, get, grep, grepl, intersect, is.unsorted,
    lapply, mapply, match, mget, order, paste, pmax, pmax.int, pmin,
    pmin.int, rank, rbind, rownames, sapply, setdiff, sort, table,
    tapply, union, unique, unsplit, which.max, which.min


Attaching package: 'KEGGgraph'

The following object is masked from 'package:graphics':

    plot

The following object is masked from 'package:base':

    plot

Welcome to Bioconductor

    Vignettes contain introductory material; view with
    'browseVignettes()'. To cite Bioconductor, see
    'citation("Biobase")', and for packages 'citation("pkgname")'.




Attaching package: 'limma'

The following object is masked from 'package:BiocGenerics':

    plotMA


Loading the 'metafor' package (version 3.0-2). For an
introduction to the package please type: help(metafor)

Working on dataset GSE17054, 9 samples 
Using cached pathway data. Database info:
pathway          KEGG Pathway Database
path             Release 73.0+/01-03, Jan 15
                 Kanehisa Laboratories
                 343,170 entries
Default parameters detected. Using pre-parsed data.
Working on dataset GSE17054, 9 samples 
GSM426404, GSM426405, GSM426406, GSM426407, GSM426412
Working on dataset GSE17054, 9 samples 
GSM426404, GSM426405, GSM426406, GSM426407, GSM426412
Working on dataset GSE17054, 9 samples 
GSM426404, GSM426405, GSM426406, GSM426407, GSM426412
Using cached pathway data. Database info:
pathway          KEGG Pathway Database
path             Release 73.0+/01-03, Jan 15
                 Kanehisa Laboratories
                 343,170 entries
Default parameters detected. Using pre-parsed data.
Working on dataset GSE17054, 9 samples 
GSM426404, GSM426405, GSM426406, GSM426407, GSM426412
Using cached pathway data. Database info:
pathway          KEGG Pathway Database
path             Release 73.0+/01-03, Jan 15
                 Kanehisa Laboratories
                 343,170 entries
Default parameters detected. Using pre-parsed data.


RUNIT TEST PROTOCOL -- Sun Aug  1 16:34:35 2021 
*********************************************** 
Number of test functions: 10 
Number of errors: 0 
Number of failures: 0 

 
1 Test Suite : 
BLMA RUnit Tests - 10 test functions, 0 errors, 0 failures
Number of test functions: 10 
Number of errors: 0 
Number of failures: 0 
> 
> proc.time()
   user  system elapsed 
 39.598   1.401  41.014 

Example timings

BLMA.Rcheck/BLMA-Ex.timings

nameusersystemelapsed
addCLT0.0010.0010.001
bilevelAnalysisClassic0.0200.0010.020
bilevelAnalysisGene4.4290.1244.555
bilevelAnalysisGeneset116.698 7.137123.953
bilevelAnalysisPathway96.610 1.17097.919
fisherMethod0.0000.0000.001
getStatistics106.493 1.214107.803
intraAnalysisClassic0.0100.0010.011
intraAnalysisGene0.9560.0130.995
loadKEGGPathways3.3380.0183.361
stoufferMethod0.0000.0010.001