Back to Multiple platform build/check report for BioC 3.13
[A]BCDEFGHIJKLMNOPQRSTUVWXYZ

This page was generated on 2021-09-17 15:05:58 -0400 (Fri, 17 Sep 2021).

CHECK results for Autotuner on tokay2

To the developers/maintainers of the Autotuner package:
- Please allow up to 24 hours (and sometimes 48 hours) for your latest push to git@git.bioconductor.org:packages/Autotuner.git to
reflect on this report. See How and When does the builder pull? When will my changes propagate? here for more information.
- Make sure to use the following settings in order to reproduce any error or warning you see on this page.

raw results

Package 103/2041HostnameOS / ArchINSTALLBUILDCHECKBUILD BIN
Autotuner 1.6.0  (landing page)
Craig McLean
Snapshot Date: 2021-09-16 04:50:11 -0400 (Thu, 16 Sep 2021)
git_url: https://git.bioconductor.org/packages/Autotuner
git_branch: RELEASE_3_13
git_last_commit: f373bec
git_last_commit_date: 2021-05-19 12:45:03 -0400 (Wed, 19 May 2021)
nebbiolo1Linux (Ubuntu 20.04.2 LTS) / x86_64  OK    OK    OK  UNNEEDED, same version is already published
tokay2Windows Server 2012 R2 Standard / x64  OK    OK    OK    OK  UNNEEDED, same version is already published
machv2macOS 10.14.6 Mojave / x86_64  OK    OK    OK    OK  UNNEEDED, same version is already published

Summary

Package: Autotuner
Version: 1.6.0
Command: C:\Users\biocbuild\bbs-3.13-bioc\R\bin\R.exe CMD check --force-multiarch --install=check:Autotuner.install-out.txt --library=C:\Users\biocbuild\bbs-3.13-bioc\R\library --no-vignettes --timings Autotuner_1.6.0.tar.gz
StartedAt: 2021-09-16 19:46:02 -0400 (Thu, 16 Sep 2021)
EndedAt: 2021-09-16 19:51:34 -0400 (Thu, 16 Sep 2021)
EllapsedTime: 332.0 seconds
RetCode: 0
Status:   OK  
CheckDir: Autotuner.Rcheck
Warnings: 0

Command output

##############################################################################
##############################################################################
###
### Running command:
###
###   C:\Users\biocbuild\bbs-3.13-bioc\R\bin\R.exe CMD check --force-multiarch --install=check:Autotuner.install-out.txt --library=C:\Users\biocbuild\bbs-3.13-bioc\R\library --no-vignettes --timings Autotuner_1.6.0.tar.gz
###
##############################################################################
##############################################################################


* using log directory 'C:/Users/biocbuild/bbs-3.13-bioc/meat/Autotuner.Rcheck'
* using R version 4.1.1 (2021-08-10)
* using platform: x86_64-w64-mingw32 (64-bit)
* using session charset: ISO8859-1
* using option '--no-vignettes'
* checking for file 'Autotuner/DESCRIPTION' ... OK
* checking extension type ... Package
* this is package 'Autotuner' version '1.6.0'
* package encoding: UTF-8
* checking package namespace information ... OK
* checking package dependencies ... OK
* checking if this is a source package ... OK
* checking if there is a namespace ... OK
* checking for hidden files and directories ... OK
* checking for portable file names ... OK
* checking whether package 'Autotuner' can be installed ... OK
* checking installed package size ... OK
* checking package directory ... OK
* checking 'build' directory ... OK
* checking DESCRIPTION meta-information ... OK
* checking top-level files ... OK
* checking for left-over files ... OK
* checking index information ... OK
* checking package subdirectories ... OK
* checking R files for non-ASCII characters ... OK
* checking R files for syntax errors ... OK
* loading checks for arch 'i386'
** checking whether the package can be loaded ... OK
** checking whether the package can be loaded with stated dependencies ... OK
** checking whether the package can be unloaded cleanly ... OK
** checking whether the namespace can be loaded with stated dependencies ... OK
** checking whether the namespace can be unloaded cleanly ... OK
* loading checks for arch 'x64'
** checking whether the package can be loaded ... OK
** checking whether the package can be loaded with stated dependencies ... OK
** checking whether the package can be unloaded cleanly ... OK
** checking whether the namespace can be loaded with stated dependencies ... OK
** checking whether the namespace can be unloaded cleanly ... OK
* checking dependencies in R code ... OK
* checking S3 generic/method consistency ... OK
* checking replacement functions ... OK
* checking foreign function calls ... OK
* checking R code for possible problems ... OK
* checking Rd files ... OK
* checking Rd metadata ... OK
* checking Rd cross-references ... OK
* checking for missing documentation entries ... OK
* checking for code/documentation mismatches ... OK
* checking Rd \usage sections ... OK
* checking Rd contents ... OK
* checking for unstated dependencies in examples ... OK
* checking contents of 'data' directory ... OK
* checking data for non-ASCII characters ... OK
* checking LazyData ... OK
* checking data for ASCII and uncompressed saves ... OK
* checking files in 'vignettes' ... OK
* checking examples ...
** running examples for arch 'i386' ... OK
Examples with CPU (user + system) or elapsed time > 5s
                user system elapsed
createAutotuner 7.63   1.11   18.79
** running examples for arch 'x64' ... OK
Examples with CPU (user + system) or elapsed time > 5s
                user system elapsed
createAutotuner    6   0.63    6.59
* checking for unstated dependencies in 'tests' ... OK
* checking tests ...
** running tests for arch 'i386' ...
  Running 'testthat.R'
 OK
** running tests for arch 'x64' ...
  Running 'testthat.R'
 OK
* checking for unstated dependencies in vignettes ... OK
* checking package vignettes in 'inst/doc' ... OK
* checking running R code from vignettes ... SKIPPED
* checking re-building of vignette outputs ... SKIPPED
* checking PDF version of manual ... OK
* DONE

Status: OK


Installation output

Autotuner.Rcheck/00install.out

##############################################################################
##############################################################################
###
### Running command:
###
###   C:\cygwin\bin\curl.exe -O http://155.52.207.165/BBS/3.13/bioc/src/contrib/Autotuner_1.6.0.tar.gz && rm -rf Autotuner.buildbin-libdir && mkdir Autotuner.buildbin-libdir && C:\Users\biocbuild\bbs-3.13-bioc\R\bin\R.exe CMD INSTALL --merge-multiarch --build --library=Autotuner.buildbin-libdir Autotuner_1.6.0.tar.gz && C:\Users\biocbuild\bbs-3.13-bioc\R\bin\R.exe CMD INSTALL Autotuner_1.6.0.zip && rm Autotuner_1.6.0.tar.gz Autotuner_1.6.0.zip
###
##############################################################################
##############################################################################


  % Total    % Received % Xferd  Average Speed   Time    Time     Time  Current
                                 Dload  Upload   Total   Spent    Left  Speed

  0     0    0     0    0     0      0      0 --:--:-- --:--:-- --:--:--     0
 16 3761k   16  618k    0     0  1503k      0  0:00:02 --:--:--  0:00:02 1504k
 94 3761k   94 3548k    0     0  2464k      0  0:00:01  0:00:01 --:--:-- 2464k
100 3761k  100 3761k    0     0  2535k      0  0:00:01  0:00:01 --:--:-- 2534k

install for i386

* installing *source* package 'Autotuner' ...
** using staged installation
** R
** data
*** moving datasets to lazyload DB
** inst
** byte-compile and prepare package for lazy loading
** help
*** installing help indices
  converting help for package 'Autotuner'
    finding HTML links ... done
    Autotuner-class                         html  
    EICparams                               html  
    TIC_params                              html  
    ThresholdingAlgo                        html  
    checkBounds                             html  
    checkEICPeaks                           html  
    createAutotuner                         html  
    dissectScans                            html  
    eicParamsEsts                           html  
    estimatePPM                             html  
    estimateSNThresh                        html  
    extract_peaks                           html  
    filterPeaksfromNoise                    html  
    filterPpmError                          html  
    findPeakWidth                           html  
    findTruePeaks                           html  
    getAutoFactorCol                        html  
    getAutoFile_col                         html  
    getAutoFile_paths                       html  
    getAutoIntensity                        html  
    getAutoMetadata                         html  
    getAutoPeak_difference                  html  
    getAutoPeak_table                       html  
    getAutoPeaks                            html  
    getAutoTime                             html  
    initialize-Autotuner-method             html  
    isolatePeaks                            html  
    mzDb                                    html  
    observedPeak                            html  
    peak_time_difference                    html  
    peakwidth_est                           html  
    peakwidth_table                         html  
    plot_peaks                              html  
    plot_signals                            html  
    returnParams                            html  
    setAutoFactorCol                        html  
    setAutoFile_col                         html  
    setAutoFile_paths                       html  
    setAutoIntensity                        html  
    setAutoMetadata                         html  
    setAutoPeak_difference                  html  
    setAutoPeak_table                       html  
    setAutoPeaks                            html  
    setAutoTime                             html  
** building package indices
** installing vignettes
** testing if installed package can be loaded from temporary location
** testing if installed package can be loaded from final location
** testing if installed package keeps a record of temporary installation path

install for x64

* installing *source* package 'Autotuner' ...
** testing if installed package can be loaded
* MD5 sums
packaged installation of 'Autotuner' as Autotuner_1.6.0.zip
* DONE (Autotuner)
* installing to library 'C:/Users/biocbuild/bbs-3.13-bioc/R/library'
package 'Autotuner' successfully unpacked and MD5 sums checked

Tests output

Autotuner.Rcheck/tests_i386/testthat.Rout


R version 4.1.1 (2021-08-10) -- "Kick Things"
Copyright (C) 2021 The R Foundation for Statistical Computing
Platform: i386-w64-mingw32/i386 (32-bit)

R is free software and comes with ABSOLUTELY NO WARRANTY.
You are welcome to redistribute it under certain conditions.
Type 'license()' or 'licence()' for distribution details.

R is a collaborative project with many contributors.
Type 'contributors()' for more information and
'citation()' on how to cite R or R packages in publications.

Type 'demo()' for some demos, 'help()' for on-line help, or
'help.start()' for an HTML browser interface to help.
Type 'q()' to quit R.

> library(testthat)
> 
> 
> test_check("Autotuner")
Loading required package: Autotuner
Loading required package: Biobase
Loading required package: BiocGenerics
Loading required package: parallel

Attaching package: 'BiocGenerics'

The following objects are masked from 'package:parallel':

    clusterApply, clusterApplyLB, clusterCall, clusterEvalQ,
    clusterExport, clusterMap, parApply, parCapply, parLapply,
    parLapplyLB, parRapply, parSapply, parSapplyLB

The following objects are masked from 'package:stats':

    IQR, mad, sd, var, xtabs

The following objects are masked from 'package:base':

    Filter, Find, Map, Position, Reduce, anyDuplicated, append,
    as.data.frame, basename, cbind, colnames, dirname, do.call,
    duplicated, eval, evalq, get, grep, grepl, intersect, is.unsorted,
    lapply, mapply, match, mget, order, paste, pmax, pmax.int, pmin,
    pmin.int, rank, rbind, rownames, sapply, setdiff, sort, table,
    tapply, union, unique, unsplit, which.max, which.min

Welcome to Bioconductor

    Vignettes contain introductory material; view with
    'browseVignettes()'. To cite Bioconductor, see
    'citation("Biobase")', and for packages 'citation("pkgname")'.

Loading required package: MSnbase
Loading required package: mzR
Loading required package: Rcpp
Loading required package: S4Vectors
Loading required package: stats4

Attaching package: 'S4Vectors'

The following objects are masked from 'package:base':

    I, expand.grid, unname

Loading required package: ProtGenerics

Attaching package: 'ProtGenerics'

The following object is masked from 'package:stats':

    smooth


This is MSnbase version 2.18.0 
  Visit https://lgatto.github.io/MSnbase/ to get started.


Attaching package: 'MSnbase'

The following object is masked from 'package:base':

    trimws

     ____________________________________________________________
    / __  / / / /__  __/ _   /__  __/ / / /\     / / ____/ __   / 
   / / / / / / /  / / / / / /  / / / / / /  \   / / /___/ /_/  /  
  / /_/ / / / /  / / / / / /  / / / / / / /\ \ / / ____/  _   \ 
 / __  / /_/ /  / / / /_/ /  / / / /_/ / /  \   /  /__/  / /  /
/_/ /_/_____/  /_/ /_____/  /_/ /_____/_/    \ /_____/__/ /__/   v.1.6.0
https://github.com/crmclean/autotuner

[ FAIL 0 | WARN 0 | SKIP 0 | PASS 69 ]
> 
> proc.time()
   user  system elapsed 
  49.67    2.37   66.42 

Autotuner.Rcheck/tests_x64/testthat.Rout


R version 4.1.1 (2021-08-10) -- "Kick Things"
Copyright (C) 2021 The R Foundation for Statistical Computing
Platform: x86_64-w64-mingw32/x64 (64-bit)

R is free software and comes with ABSOLUTELY NO WARRANTY.
You are welcome to redistribute it under certain conditions.
Type 'license()' or 'licence()' for distribution details.

R is a collaborative project with many contributors.
Type 'contributors()' for more information and
'citation()' on how to cite R or R packages in publications.

Type 'demo()' for some demos, 'help()' for on-line help, or
'help.start()' for an HTML browser interface to help.
Type 'q()' to quit R.

> library(testthat)
> 
> 
> test_check("Autotuner")
Loading required package: Autotuner
Loading required package: Biobase
Loading required package: BiocGenerics
Loading required package: parallel

Attaching package: 'BiocGenerics'

The following objects are masked from 'package:parallel':

    clusterApply, clusterApplyLB, clusterCall, clusterEvalQ,
    clusterExport, clusterMap, parApply, parCapply, parLapply,
    parLapplyLB, parRapply, parSapply, parSapplyLB

The following objects are masked from 'package:stats':

    IQR, mad, sd, var, xtabs

The following objects are masked from 'package:base':

    Filter, Find, Map, Position, Reduce, anyDuplicated, append,
    as.data.frame, basename, cbind, colnames, dirname, do.call,
    duplicated, eval, evalq, get, grep, grepl, intersect, is.unsorted,
    lapply, mapply, match, mget, order, paste, pmax, pmax.int, pmin,
    pmin.int, rank, rbind, rownames, sapply, setdiff, sort, table,
    tapply, union, unique, unsplit, which.max, which.min

Welcome to Bioconductor

    Vignettes contain introductory material; view with
    'browseVignettes()'. To cite Bioconductor, see
    'citation("Biobase")', and for packages 'citation("pkgname")'.

Loading required package: MSnbase
Loading required package: mzR
Loading required package: Rcpp
Loading required package: S4Vectors
Loading required package: stats4

Attaching package: 'S4Vectors'

The following objects are masked from 'package:base':

    I, expand.grid, unname

Loading required package: ProtGenerics

Attaching package: 'ProtGenerics'

The following object is masked from 'package:stats':

    smooth


This is MSnbase version 2.18.0 
  Visit https://lgatto.github.io/MSnbase/ to get started.


Attaching package: 'MSnbase'

The following object is masked from 'package:base':

    trimws

     ____________________________________________________________
    / __  / / / /__  __/ _   /__  __/ / / /\     / / ____/ __   / 
   / / / / / / /  / / / / / /  / / / / / /  \   / / /___/ /_/  /  
  / /_/ / / / /  / / / / / /  / / / / / / /\ \ / / ____/  _   \ 
 / __  / /_/ /  / / / /_/ /  / / / /_/ / /  \   /  /__/  / /  /
/_/ /_/_____/  /_/ /_____/  /_/ /_____/_/    \ /_____/__/ /__/   v.1.6.0
https://github.com/crmclean/autotuner

[ FAIL 0 | WARN 0 | SKIP 0 | PASS 69 ]
> 
> proc.time()
   user  system elapsed 
  55.48    1.93   57.32 

Example timings

Autotuner.Rcheck/examples_i386/Autotuner-Ex.timings

nameusersystemelapsed
ThresholdingAlgo0.190.000.24
createAutotuner 7.63 1.1118.79
getAutoFactorCol0.020.000.01
getAutoFile_col000
getAutoFile_paths000
getAutoIntensity0.000.020.02
getAutoMetadata000
getAutoPeak_difference000
getAutoPeak_table0.010.000.02
getAutoPeaks000
getAutoTime000
isolatePeaks0.380.030.40
plot_peaks000
plot_signals0.150.000.15
returnParams000
setAutoFactorCol0.020.000.02
setAutoFile_col000
setAutoFile_paths000
setAutoIntensity000
setAutoMetadata0.010.000.02
setAutoPeak_difference000
setAutoPeak_table000
setAutoPeaks0.020.000.01
setAutoTime000

Autotuner.Rcheck/examples_x64/Autotuner-Ex.timings

nameusersystemelapsed
ThresholdingAlgo0.110.000.11
createAutotuner6.000.636.59
getAutoFactorCol000
getAutoFile_col000
getAutoFile_paths000
getAutoIntensity0.010.000.02
getAutoMetadata000
getAutoPeak_difference000
getAutoPeak_table000
getAutoPeaks0.020.000.01
getAutoTime000
isolatePeaks0.330.030.36
plot_peaks0.010.000.02
plot_signals0.200.010.22
returnParams0.020.000.01
setAutoFactorCol000
setAutoFile_col000
setAutoFile_paths000
setAutoIntensity000
setAutoMetadata000
setAutoPeak_difference000
setAutoPeak_table000
setAutoPeaks000
setAutoTime0.010.000.01