Index of /checkResults/release/bioc-LATEST/ArrayExpress/raw-results/nebbiolo1

[ICO]NameLast modifiedSizeDescription

[DIR]Parent Directory  -  
[TXT]buildsrc-out.txt17-Jul-2024 06:38 826  
[   ]buildsrc-summary.dcf17-Jul-2024 06:38 433  
[TXT]checksrc-out.txt17-Jul-2024 06:38 3.1K 
[   ]checksrc-summary.dcf17-Jul-2024 06:38 434  
[TXT]install-out.txt17-Jul-2024 06:38 967  
[   ]install-summary.dcf17-Jul-2024 06:38 269