Back to Multiple platform build/check report for BioC 3.19:   simplified   long
[A]BCDEFGHIJKLMNOPQRSTUVWXYZ

This page was generated on 2024-06-18 17:58 -0400 (Tue, 18 Jun 2024).

HostnameOSArch (*)R versionInstalled pkgs
nebbiolo1Linux (Ubuntu 22.04.3 LTS)x86_644.4.0 (2024-04-24) -- "Puppy Cup" 4758
palomino3Windows Server 2022 Datacenterx644.4.0 (2024-04-24 ucrt) -- "Puppy Cup" 4492
merida1macOS 12.7.4 Montereyx86_644.4.0 (2024-04-24) -- "Puppy Cup" 4464
kjohnson1macOS 13.6.6 Venturaarm644.4.0 (2024-04-24) -- "Puppy Cup" 4464
Click on any hostname to see more info about the system (e.g. compilers)      (*) as reported by 'uname -p', except on Windows and Mac OS X

Package 90/2300HostnameOS / ArchINSTALLBUILDCHECKBUILD BIN
ArrayExpress 1.64.0  (landing page)
Jose Marugan
Snapshot Date: 2024-06-16 14:00 -0400 (Sun, 16 Jun 2024)
git_url: https://git.bioconductor.org/packages/ArrayExpress
git_branch: RELEASE_3_19
git_last_commit: d95a2bf
git_last_commit_date: 2024-04-30 10:18:48 -0400 (Tue, 30 Apr 2024)
nebbiolo1Linux (Ubuntu 22.04.3 LTS) / x86_64  OK    OK    OK  UNNEEDED, same version is already published
palomino3Windows Server 2022 Datacenter / x64  OK    OK    OK    OK  UNNEEDED, same version is already published
merida1macOS 12.7.4 Monterey / x86_64  OK    OK    OK    OK  UNNEEDED, same version is already published
kjohnson1macOS 13.6.6 Ventura / arm64  OK    OK    OK    OK  UNNEEDED, same version is already published


BUILD BIN results for ArrayExpress on palomino3

To the developers/maintainers of the ArrayExpress package:
- Allow up to 24 hours (and sometimes 48 hours) for your latest push to git@git.bioconductor.org:packages/ArrayExpress.git to reflect on this report. See Troubleshooting Build Report for more information.
- Use the following Renviron settings to reproduce errors and warnings.
- If 'R CMD check' started to fail recently on the Linux builder(s) over a missing dependency, add the missing dependency to 'Suggests:' in your DESCRIPTION file. See Renviron.bioc for more information.

raw results


Summary

Package: ArrayExpress
Version: 1.64.0
Command: rm -rf ArrayExpress.buildbin-libdir && mkdir ArrayExpress.buildbin-libdir && F:\biocbuild\bbs-3.19-bioc\R\bin\R.exe CMD INSTALL --build --library=ArrayExpress.buildbin-libdir ArrayExpress_1.64.0.tar.gz
StartedAt: 2024-06-17 15:19:16 -0400 (Mon, 17 Jun 2024)
EndedAt: 2024-06-17 15:20:45 -0400 (Mon, 17 Jun 2024)
EllapsedTime: 89.1 seconds
RetCode: 0
Status:   OK  
PackageFile: ArrayExpress_1.64.0.zip
PackageFileSize: 186.4 KiB

Command output

##############################################################################
##############################################################################
###
### Running command:
###
###   rm -rf ArrayExpress.buildbin-libdir && mkdir ArrayExpress.buildbin-libdir && F:\biocbuild\bbs-3.19-bioc\R\bin\R.exe CMD INSTALL --build --library=ArrayExpress.buildbin-libdir ArrayExpress_1.64.0.tar.gz
###
##############################################################################
##############################################################################


* installing *source* package 'ArrayExpress' ...
** using staged installation
** R
** inst
** byte-compile and prepare package for lazy loading
** help
*** installing help indices
** building package indices
** installing vignettes
** testing if installed package can be loaded from temporary location
** testing if installed package can be loaded from final location
** testing if installed package keeps a record of temporary installation path
* MD5 sums
packaged installation of 'ArrayExpress' as ArrayExpress_1.64.0.zip
* DONE (ArrayExpress)