Index of /checkResults/release/bioc-LATEST/AnnotationHubData/raw-results

[ICO]NameLast modifiedSizeDescription

[DIR]Parent Directory  -  
[   ]info.dcf21-Sep-2021 04:05 317  
[DIR]machv2/21-Sep-2021 04:05 -  
[DIR]nebbiolo1/21-Sep-2021 04:04 -  
[DIR]tokay2/21-Sep-2021 04:05 -