Back to Multiple platform build/check report for BioC 3.13
[A]BCDEFGHIJKLMNOPQRSTUVWXYZ

This page was generated on 2021-08-02 15:05:35 -0400 (Mon, 02 Aug 2021).

BUILD results for AnnotationHubData on machv2

To the developers/maintainers of the AnnotationHubData package:
- Please allow up to 24 hours (and sometimes 48 hours) for your latest push to git@git.bioconductor.org:packages/AnnotationHubData.git to
reflect on this report. See How and When does the builder pull? When will my changes propagate? here for more information.
- Make sure to use the following settings in order to reproduce any error or warning you see on this page.

raw results

Package 67/2041HostnameOS / ArchINSTALLBUILDCHECKBUILD BIN
AnnotationHubData 1.22.0  (landing page)
Bioconductor Package Maintainer
Snapshot Date: 2021-08-01 04:50:10 -0400 (Sun, 01 Aug 2021)
URL: https://git.bioconductor.org/packages/AnnotationHubData
Branch: RELEASE_3_13
Last Commit: c2a76fb
Last Changed Date: 2021-05-19 12:15:21 -0400 (Wed, 19 May 2021)
nebbiolo1Linux (Ubuntu 20.04.2 LTS) / x86_64  OK    OK    WARNINGS  UNNEEDED, same version is already published
tokay2Windows Server 2012 R2 Standard / x64  OK    OK    ERROR    OK  
machv2macOS 10.14.6 Mojave / x86_64  OK    OK    WARNINGS    OK  UNNEEDED, same version is already published

Summary

Package: AnnotationHubData
Version: 1.22.0
Command: /Library/Frameworks/R.framework/Versions/Current/Resources/bin/R CMD build --keep-empty-dirs --no-resave-data AnnotationHubData
StartedAt: 2021-08-01 10:13:23 -0400 (Sun, 01 Aug 2021)
EndedAt: 2021-08-01 10:14:23 -0400 (Sun, 01 Aug 2021)
EllapsedTime: 59.0 seconds
RetCode: 0
Status:   OK  
PackageFile: AnnotationHubData_1.22.0.tar.gz
PackageFileSize: 399.5 KiB

Command output

##############################################################################
##############################################################################
###
### Running command:
###
###   /Library/Frameworks/R.framework/Versions/Current/Resources/bin/R CMD build --keep-empty-dirs --no-resave-data AnnotationHubData
###
##############################################################################
##############################################################################


* checking for file ‘AnnotationHubData/DESCRIPTION’ ... OK
* preparing ‘AnnotationHubData’:
* checking DESCRIPTION meta-information ... OK
* installing the package to build vignettes
* creating vignettes ... OK
* checking for LF line-endings in source and make files and shell scripts
* checking for empty or unneeded directories
* building ‘AnnotationHubData_1.22.0.tar.gz’