Back to Multiple platform build/check report for BioC 3.13
[A]BCDEFGHIJKLMNOPQRSTUVWXYZ

This page was generated on 2021-09-24 15:06:02 -0400 (Fri, 24 Sep 2021).

INSTALL results for AnnotationForge on tokay2

To the developers/maintainers of the AnnotationForge package:
- Please allow up to 24 hours (and sometimes 48 hours) for your latest push to git@git.bioconductor.org:packages/AnnotationForge.git to
reflect on this report. See How and When does the builder pull? When will my changes propagate? here for more information.
- Make sure to use the following settings in order to reproduce any error or warning you see on this page.

raw results

Package 64/2041HostnameOS / ArchINSTALLBUILDCHECKBUILD BIN
AnnotationForge 1.34.0  (landing page)
Bioconductor Package Maintainer
Snapshot Date: 2021-09-23 04:50:12 -0400 (Thu, 23 Sep 2021)
git_url: https://git.bioconductor.org/packages/AnnotationForge
git_branch: RELEASE_3_13
git_last_commit: ca11ffe
git_last_commit_date: 2021-05-19 11:52:48 -0400 (Wed, 19 May 2021)
nebbiolo1Linux (Ubuntu 20.04.2 LTS) / x86_64  OK    OK    OK  UNNEEDED, same version is already published
tokay2Windows Server 2012 R2 Standard / x64  OK    OK    OK    OK  UNNEEDED, same version is already published
machv2macOS 10.14.6 Mojave / x86_64  OK    OK    OK    OK  UNNEEDED, same version is already published

Summary

Package: AnnotationForge
Version: 1.34.0
Command: C:\cygwin\bin\curl.exe -O http://155.52.207.165/BBS/3.13/bioc/src/contrib/AnnotationForge_1.34.0.tar.gz && rm -rf AnnotationForge.buildbin-libdir && mkdir AnnotationForge.buildbin-libdir && C:\Users\biocbuild\bbs-3.13-bioc\R\bin\R.exe CMD INSTALL --merge-multiarch --build --library=AnnotationForge.buildbin-libdir AnnotationForge_1.34.0.tar.gz && C:\Users\biocbuild\bbs-3.13-bioc\R\bin\R.exe CMD INSTALL AnnotationForge_1.34.0.zip && rm AnnotationForge_1.34.0.tar.gz AnnotationForge_1.34.0.zip
StartedAt: 2021-09-23 07:53:29 -0400 (Thu, 23 Sep 2021)
EndedAt: 2021-09-23 07:54:52 -0400 (Thu, 23 Sep 2021)
EllapsedTime: 82.8 seconds
RetCode: 0
Status:   OK  

Command output

##############################################################################
##############################################################################
###
### Running command:
###
###   C:\cygwin\bin\curl.exe -O http://155.52.207.165/BBS/3.13/bioc/src/contrib/AnnotationForge_1.34.0.tar.gz && rm -rf AnnotationForge.buildbin-libdir && mkdir AnnotationForge.buildbin-libdir && C:\Users\biocbuild\bbs-3.13-bioc\R\bin\R.exe CMD INSTALL --merge-multiarch --build --library=AnnotationForge.buildbin-libdir AnnotationForge_1.34.0.tar.gz && C:\Users\biocbuild\bbs-3.13-bioc\R\bin\R.exe CMD INSTALL AnnotationForge_1.34.0.zip && rm AnnotationForge_1.34.0.tar.gz AnnotationForge_1.34.0.zip
###
##############################################################################
##############################################################################


  % Total    % Received % Xferd  Average Speed   Time    Time     Time  Current
                                 Dload  Upload   Total   Spent    Left  Speed

  0     0    0     0    0     0      0      0 --:--:-- --:--:-- --:--:--     0
 24 3285k   24  798k    0     0  1633k      0  0:00:02 --:--:--  0:00:02 1633k
100 3285k  100 3285k    0     0  2488k      0  0:00:01  0:00:01 --:--:-- 2490k

install for i386

* installing *source* package 'AnnotationForge' ...
** using staged installation
** R
** inst
** byte-compile and prepare package for lazy loading
** help
*** installing help indices
  converting help for package 'AnnotationForge'
    finding HTML links ... done
    AnnDbPkg-maker                          html  
    finding level-2 HTML links ... done

    available.db0pkgs                       html  
    generateSeqnames_db                     html  
    getProbeDataAffy                        html  
    getProbeData_1lq                        html  
    makeChipPackageFromDataFrames           html  
    makeInpDb                               html  
    makeOrgPackage                          html  
    makeOrgPackageFromNCBI                  html  
    makeProbePackage                        html  
    sqlForge-makeCHIPDB                     html  
    sqlForge-popDB                          html  
    sqlForge-wrapDBPackages                 html  
** building package indices
** installing vignettes
** testing if installed package can be loaded from temporary location
** testing if installed package can be loaded from final location
** testing if installed package keeps a record of temporary installation path

install for x64

* installing *source* package 'AnnotationForge' ...
** testing if installed package can be loaded
* MD5 sums
packaged installation of 'AnnotationForge' as AnnotationForge_1.34.0.zip
* DONE (AnnotationForge)
* installing to library 'C:/Users/biocbuild/bbs-3.13-bioc/R/library'
package 'AnnotationForge' successfully unpacked and MD5 sums checked