Back to Multiple platform build/check report for BioC 3.13
[A]BCDEFGHIJKLMNOPQRSTUVWXYZ

This page was generated on 2021-09-24 15:06:33 -0400 (Fri, 24 Sep 2021).

BUILD results for AnnotationDbi on machv2

To the developers/maintainers of the AnnotationDbi package:
- Please allow up to 24 hours (and sometimes 48 hours) for your latest push to git@git.bioconductor.org:packages/AnnotationDbi.git to
reflect on this report. See How and When does the builder pull? When will my changes propagate? here for more information.
- Make sure to use the following settings in order to reproduce any error or warning you see on this page.

raw results

Package 62/2041HostnameOS / ArchINSTALLBUILDCHECKBUILD BIN
AnnotationDbi 1.54.1  (landing page)
Bioconductor Package Maintainer
Snapshot Date: 2021-09-23 04:50:12 -0400 (Thu, 23 Sep 2021)
git_url: https://git.bioconductor.org/packages/AnnotationDbi
git_branch: RELEASE_3_13
git_last_commit: 0040118
git_last_commit_date: 2021-06-07 12:36:06 -0400 (Mon, 07 Jun 2021)
nebbiolo1Linux (Ubuntu 20.04.2 LTS) / x86_64  OK    OK    OK  UNNEEDED, same version is already published
tokay2Windows Server 2012 R2 Standard / x64  OK    OK    OK    OK  UNNEEDED, same version is already published
machv2macOS 10.14.6 Mojave / x86_64  OK    OK    OK    OK  UNNEEDED, same version is already published

Summary

Package: AnnotationDbi
Version: 1.54.1
Command: /Library/Frameworks/R.framework/Versions/Current/Resources/bin/R CMD build --keep-empty-dirs --no-resave-data AnnotationDbi
StartedAt: 2021-09-23 10:35:34 -0400 (Thu, 23 Sep 2021)
EndedAt: 2021-09-23 10:36:51 -0400 (Thu, 23 Sep 2021)
EllapsedTime: 77.0 seconds
RetCode: 0
Status:   OK  
PackageFile: AnnotationDbi_1.54.1.tar.gz
PackageFileSize: 4.142 MiB

Command output

##############################################################################
##############################################################################
###
### Running command:
###
###   /Library/Frameworks/R.framework/Versions/Current/Resources/bin/R CMD build --keep-empty-dirs --no-resave-data AnnotationDbi
###
##############################################################################
##############################################################################


* checking for file ‘AnnotationDbi/DESCRIPTION’ ... OK
* preparing ‘AnnotationDbi’:
* checking DESCRIPTION meta-information ... OK
* installing the package to build vignettes
* creating vignettes ... OK
* checking for LF line-endings in source and make files and shell scripts
* checking for empty or unneeded directories
* building ‘AnnotationDbi_1.54.1.tar.gz’