Back to Multiple platform build/check report for BioC 3.13
[A]BCDEFGHIJKLMNOPQRSTUVWXYZ

This page was generated on 2021-09-22 15:05:08 -0400 (Wed, 22 Sep 2021).

BUILD results for AlpsNMR on tokay2

To the developers/maintainers of the AlpsNMR package:
- Please allow up to 24 hours (and sometimes 48 hours) for your latest push to git@git.bioconductor.org:packages/AlpsNMR.git to
reflect on this report. See How and When does the builder pull? When will my changes propagate? here for more information.
- Make sure to use the following settings in order to reproduce any error or warning you see on this page.

raw results

Package 48/2041HostnameOS / ArchINSTALLBUILDCHECKBUILD BIN
AlpsNMR 3.2.3  (landing page)
Luis Fernandez
Snapshot Date: 2021-09-21 04:50:12 -0400 (Tue, 21 Sep 2021)
git_url: https://git.bioconductor.org/packages/AlpsNMR
git_branch: RELEASE_3_13
git_last_commit: 92db448
git_last_commit_date: 2021-09-16 08:28:27 -0400 (Thu, 16 Sep 2021)
nebbiolo1Linux (Ubuntu 20.04.2 LTS) / x86_64  OK    OK    OK  UNNEEDED, same version is already published
tokay2Windows Server 2012 R2 Standard / x64  OK    OK    OK    OK  UNNEEDED, same version is already published
machv2macOS 10.14.6 Mojave / x86_64  OK    OK    OK    OK  UNNEEDED, same version is already published

Summary

Package: AlpsNMR
Version: 3.2.3
Command: chmod a+r AlpsNMR -R && C:\Users\biocbuild\bbs-3.13-bioc\R\bin\R.exe CMD build --keep-empty-dirs --no-resave-data AlpsNMR
StartedAt: 2021-09-21 11:25:45 -0400 (Tue, 21 Sep 2021)
EndedAt: 2021-09-21 11:27:55 -0400 (Tue, 21 Sep 2021)
EllapsedTime: 130.1 seconds
RetCode: 0
Status:   OK  
PackageFile: AlpsNMR_3.2.3.tar.gz
PackageFileSize: 3.328 MiB

Command output

##############################################################################
##############################################################################
###
### Running command:
###
###   chmod a+r AlpsNMR -R && C:\Users\biocbuild\bbs-3.13-bioc\R\bin\R.exe CMD build --keep-empty-dirs --no-resave-data AlpsNMR
###
##############################################################################
##############################################################################


* checking for file 'AlpsNMR/DESCRIPTION' ... OK
* preparing 'AlpsNMR':
* checking DESCRIPTION meta-information ... OK
* installing the package to build vignettes
* creating vignettes ... OK
* checking for LF line-endings in source and make files and shell scripts
* checking for empty or unneeded directories
* looking to see if a 'data/datalist' file should be added
* building 'AlpsNMR_3.2.3.tar.gz'