Back to Multiple platform build/check report for BioC 3.13
[A]BCDEFGHIJKLMNOPQRSTUVWXYZ

This page was generated on 2021-09-17 15:05:04 -0400 (Fri, 17 Sep 2021).

All results for package AlpsNMR

To the developers/maintainers of the AlpsNMR package:
- Please allow up to 24 hours (and sometimes 48 hours) for your latest push to git@git.bioconductor.org:packages/AlpsNMR.git to
reflect on this report. See How and When does the builder pull? When will my changes propagate? here for more information.
- Make sure to use the following settings in order to reproduce any error or warning you see on this page.

raw results

Package 48/2041HostnameOS / ArchINSTALLBUILDCHECKBUILD BIN
AlpsNMR 3.2.2  (landing page)
Luis Fernandez
Snapshot Date: 2021-09-16 04:50:11 -0400 (Thu, 16 Sep 2021)
git_url: https://git.bioconductor.org/packages/AlpsNMR
git_branch: RELEASE_3_13
git_last_commit: 76023c7
git_last_commit_date: 2021-08-26 15:56:13 -0400 (Thu, 26 Aug 2021)
nebbiolo1Linux (Ubuntu 20.04.2 LTS) / x86_64  OK    OK    OK  UNNEEDED, same version is already published
tokay2Windows Server 2012 R2 Standard / x64  OK    OK    OK    OK  UNNEEDED, same version is already published
machv2macOS 10.14.6 Mojave / x86_64  OK    OK    OK    OK  UNNEEDED, same version is already published