Back to Multiple platform build/check report for BioC 3.13
[A]BCDEFGHIJKLMNOPQRSTUVWXYZ

This page was generated on 2021-09-22 15:05:08 -0400 (Wed, 22 Sep 2021).

CHECK results for AllelicImbalance on tokay2

To the developers/maintainers of the AllelicImbalance package:
- Please allow up to 24 hours (and sometimes 48 hours) for your latest push to git@git.bioconductor.org:packages/AllelicImbalance.git to
reflect on this report. See How and When does the builder pull? When will my changes propagate? here for more information.
- Make sure to use the following settings in order to reproduce any error or warning you see on this page.

raw results

Package 44/2041HostnameOS / ArchINSTALLBUILDCHECKBUILD BIN
AllelicImbalance 1.30.0  (landing page)
Jesper R Gadin
Snapshot Date: 2021-09-21 04:50:12 -0400 (Tue, 21 Sep 2021)
git_url: https://git.bioconductor.org/packages/AllelicImbalance
git_branch: RELEASE_3_13
git_last_commit: 5e00a1f
git_last_commit_date: 2021-05-19 12:00:58 -0400 (Wed, 19 May 2021)
nebbiolo1Linux (Ubuntu 20.04.2 LTS) / x86_64  OK    OK    OK  UNNEEDED, same version is already published
tokay2Windows Server 2012 R2 Standard / x64  OK    OK    OK    OK  UNNEEDED, same version is already published
machv2macOS 10.14.6 Mojave / x86_64  OK    OK    OK    OK  UNNEEDED, same version is already published

Summary

Package: AllelicImbalance
Version: 1.30.0
Command: C:\Users\biocbuild\bbs-3.13-bioc\R\bin\R.exe CMD check --force-multiarch --install=check:AllelicImbalance.install-out.txt --library=C:\Users\biocbuild\bbs-3.13-bioc\R\library --no-vignettes --timings AllelicImbalance_1.30.0.tar.gz
StartedAt: 2021-09-21 19:03:51 -0400 (Tue, 21 Sep 2021)
EndedAt: 2021-09-21 19:19:43 -0400 (Tue, 21 Sep 2021)
EllapsedTime: 951.9 seconds
RetCode: 0
Status:   OK  
CheckDir: AllelicImbalance.Rcheck
Warnings: 0

Command output

##############################################################################
##############################################################################
###
### Running command:
###
###   C:\Users\biocbuild\bbs-3.13-bioc\R\bin\R.exe CMD check --force-multiarch --install=check:AllelicImbalance.install-out.txt --library=C:\Users\biocbuild\bbs-3.13-bioc\R\library --no-vignettes --timings AllelicImbalance_1.30.0.tar.gz
###
##############################################################################
##############################################################################


* using log directory 'C:/Users/biocbuild/bbs-3.13-bioc/meat/AllelicImbalance.Rcheck'
* using R version 4.1.1 (2021-08-10)
* using platform: x86_64-w64-mingw32 (64-bit)
* using session charset: ISO8859-1
* using option '--no-vignettes'
* checking for file 'AllelicImbalance/DESCRIPTION' ... OK
* checking extension type ... Package
* this is package 'AllelicImbalance' version '1.30.0'
* package encoding: UTF-8
* checking package namespace information ... OK
* checking package dependencies ... OK
* checking if this is a source package ... OK
* checking if there is a namespace ... OK
* checking for hidden files and directories ... OK
* checking for portable file names ... OK
* checking whether package 'AllelicImbalance' can be installed ... OK
* checking installed package size ... OK
* checking package directory ... OK
* checking 'build' directory ... OK
* checking DESCRIPTION meta-information ... OK
* checking top-level files ... OK
* checking for left-over files ... OK
* checking index information ... OK
* checking package subdirectories ... OK
* checking R files for non-ASCII characters ... OK
* checking R files for syntax errors ... OK
* loading checks for arch 'i386'
** checking whether the package can be loaded ... OK
** checking whether the package can be loaded with stated dependencies ... OK
** checking whether the package can be unloaded cleanly ... OK
** checking whether the namespace can be loaded with stated dependencies ... OK
** checking whether the namespace can be unloaded cleanly ... OK
* loading checks for arch 'x64'
** checking whether the package can be loaded ... OK
** checking whether the package can be loaded with stated dependencies ... OK
** checking whether the package can be unloaded cleanly ... OK
** checking whether the namespace can be loaded with stated dependencies ... OK
** checking whether the namespace can be unloaded cleanly ... OK
* checking dependencies in R code ... OK
* checking S3 generic/method consistency ... OK
* checking replacement functions ... OK
* checking foreign function calls ... OK
* checking R code for possible problems ... OK
* checking Rd files ... OK
* checking Rd metadata ... OK
* checking Rd cross-references ... OK
* checking for missing documentation entries ... OK
* checking for code/documentation mismatches ... OK
* checking Rd \usage sections ... OK
* checking Rd contents ... OK
* checking for unstated dependencies in examples ... OK
* checking contents of 'data' directory ... OK
* checking data for non-ASCII characters ... OK
* checking LazyData ... OK
* checking data for ASCII and uncompressed saves ... OK
* checking files in 'vignettes' ... OK
* checking examples ...
** running examples for arch 'i386' ... OK
Examples with CPU (user + system) or elapsed time > 5s
                           user system elapsed
lva                      124.18   0.00  124.23
LinkVariantAlmlof-plot    28.95   0.00   28.95
import-bam                21.08   0.08   21.48
ASEset-glocationplot       5.32   0.49    5.79
annotation-wrappers        5.48   0.33    6.22
scanForHeterozygotes-old   5.60   0.00    5.60
** running examples for arch 'x64' ... OK
Examples with CPU (user + system) or elapsed time > 5s
                           user system elapsed
lva                      144.60   0.02  144.61
LinkVariantAlmlof-plot    32.13   0.01   32.14
import-bam                25.28   0.36   25.65
getSnpIdFromLocation      19.59   1.02   20.70
scanForHeterozygotes-old   5.99   0.02    6.00
annotation-wrappers        5.20   0.21    5.41
* checking for unstated dependencies in 'tests' ... OK
* checking tests ...
** running tests for arch 'i386' ...
  Running 'test-all.R'
 OK
** running tests for arch 'x64' ...
  Running 'test-all.R'
 OK
* checking for unstated dependencies in vignettes ... OK
* checking package vignettes in 'inst/doc' ... OK
* checking running R code from vignettes ... SKIPPED
* checking re-building of vignette outputs ... SKIPPED
* checking PDF version of manual ... OK
* DONE

Status: OK


Installation output

AllelicImbalance.Rcheck/00install.out

##############################################################################
##############################################################################
###
### Running command:
###
###   C:\cygwin\bin\curl.exe -O http://155.52.207.165/BBS/3.13/bioc/src/contrib/AllelicImbalance_1.30.0.tar.gz && rm -rf AllelicImbalance.buildbin-libdir && mkdir AllelicImbalance.buildbin-libdir && C:\Users\biocbuild\bbs-3.13-bioc\R\bin\R.exe CMD INSTALL --merge-multiarch --build --library=AllelicImbalance.buildbin-libdir AllelicImbalance_1.30.0.tar.gz && C:\Users\biocbuild\bbs-3.13-bioc\R\bin\R.exe CMD INSTALL AllelicImbalance_1.30.0.zip && rm AllelicImbalance_1.30.0.tar.gz AllelicImbalance_1.30.0.zip
###
##############################################################################
##############################################################################


  % Total    % Received % Xferd  Average Speed   Time    Time     Time  Current
                                 Dload  Upload   Total   Spent    Left  Speed

  0     0    0     0    0     0      0      0 --:--:-- --:--:-- --:--:--     0
100  570k  100  570k    0     0  1480k      0 --:--:-- --:--:-- --:--:-- 1482k

install for i386

* installing *source* package 'AllelicImbalance' ...
** using staged installation
** R
** data
*** moving datasets to lazyload DB
** inst
** byte-compile and prepare package for lazy loading
Creating a generic function for 'chisq.test' from package 'stats' in package 'AllelicImbalance'
Creating a generic function for 'binom.test' from package 'stats' in package 'AllelicImbalance'
** help
*** installing help indices
  converting help for package 'AllelicImbalance'
    finding HTML links ... done
    ASEset-barplot                          html  
    ASEset-class                            html  
    ASEset-filters                          html  
    ASEset-gbarplot                         html  
    ASEset-glocationplot                    html  
    ASEset-gviztrack                        html  
    ASEset-scanForHeterozygotes             html  
    ASEset.old                              html  
    ASEset.sim                              html  
    ASEsetFromBam                           html  
    AllelicImbalance-package                html  
    DetectedAI-class                        html  
    DetectedAI-plot                         html  
    DetectedAI-summary                      html  
    GRvariants                              html  
    GlobalAnalysis-class                    html  
    LinkVariantAlmlof-class                 html  
    LinkVariantAlmlof-plot                  html  
    RegionSummary-class                     html  
    RiskVariant-class                       html  
    annotation-wrappers                     html  
    annotationBarplot                       html  
    barplot-lattice-support                 html  
    binom.test                              html  
    chisq.test                              html  
    cigar-utilities                         html  
    countAllelesFromBam                     html  
    coverageMatrixListFromGAL               html  
    decorateWithExons                       html  
    decorateWithGenes                       html  
    defaultMapBias                          html  
    defaultPhase                            html  
    detectAI                                html  
    fractionPlotDf                          html  
    gba                                     html  
    genomatrix                              html  
    genotype2phase                          html  
    getAlleleCounts                         html  
    getAlleleQuality                        html  
    getAreaFromGeneNames                    html  
    getDefaultMapBiasExpMean                html  
    getSnpIdFromLocation                    html  
    histplot                                html  
    implodeList-old                         html  
    import-bam-2                            html  
    import-bam                              html  
    import-bcf                              html  
    inferAlleles                            html  
    inferAltAllele                          html  
    inferGenotypes                          html  
    initialize-ASEset                       html  
    initialize-DetectedAI                   html  
    initialize-GlobalAnalysis               html  
    initialize-RiskVariant                  html  
    legendBarplot                           html  
    locationplot                            html  
    lva                                     html  
    lva.internal                            html  
    makeMaskedFasta                         html  
    mapBiasRef                              html  
    minCountFilt                            html  
    minFreqFilt                             html  
REDIRECT:topic	 Previous alias or file overwritten by alias: C:/Users/biocbuild/bbs-3.13-bioc/meat/AllelicImbalance.buildbin-libdir/00LOCK-AllelicImbalance/00new/AllelicImbalance/help/minfreqFilt.html
    multiAllelicFilt                        html  
    phase2genotype                          html  
    phaseArray2phaseMatrix                  html  
    phaseMatrix2Array                       html  
    randomRef                               html  
    reads                                   html  
    refAllele                               html  
    regionSummary                           html  
REDIRECT:topic	 Previous alias or file overwritten by alias: C:/Users/biocbuild/bbs-3.13-bioc/meat/AllelicImbalance.buildbin-libdir/00LOCK-AllelicImbalance/00new/AllelicImbalance/help/regionSummary.html
    scanForHeterozygotes-old                html  
** building package indices
** installing vignettes
** testing if installed package can be loaded from temporary location
** testing if installed package can be loaded from final location
** testing if installed package keeps a record of temporary installation path

install for x64

* installing *source* package 'AllelicImbalance' ...
** testing if installed package can be loaded
* MD5 sums
packaged installation of 'AllelicImbalance' as AllelicImbalance_1.30.0.zip
* DONE (AllelicImbalance)
* installing to library 'C:/Users/biocbuild/bbs-3.13-bioc/R/library'
package 'AllelicImbalance' successfully unpacked and MD5 sums checked

Tests output

AllelicImbalance.Rcheck/tests_i386/test-all.Rout


R version 4.1.1 (2021-08-10) -- "Kick Things"
Copyright (C) 2021 The R Foundation for Statistical Computing
Platform: i386-w64-mingw32/i386 (32-bit)

R is free software and comes with ABSOLUTELY NO WARRANTY.
You are welcome to redistribute it under certain conditions.
Type 'license()' or 'licence()' for distribution details.

R is a collaborative project with many contributors.
Type 'contributors()' for more information and
'citation()' on how to cite R or R packages in publications.

Type 'demo()' for some demos, 'help()' for on-line help, or
'help.start()' for an HTML browser interface to help.
Type 'q()' to quit R.

> library(testthat)
> test_check("AllelicImbalance")
Loading required package: AllelicImbalance
Loading required package: grid
Loading required package: GenomicRanges
Loading required package: stats4
Loading required package: BiocGenerics
Loading required package: parallel

Attaching package: 'BiocGenerics'

The following objects are masked from 'package:parallel':

    clusterApply, clusterApplyLB, clusterCall, clusterEvalQ,
    clusterExport, clusterMap, parApply, parCapply, parLapply,
    parLapplyLB, parRapply, parSapply, parSapplyLB

The following objects are masked from 'package:stats':

    IQR, mad, sd, var, xtabs

The following objects are masked from 'package:base':

    Filter, Find, Map, Position, Reduce, anyDuplicated, append,
    as.data.frame, basename, cbind, colnames, dirname, do.call,
    duplicated, eval, evalq, get, grep, grepl, intersect, is.unsorted,
    lapply, mapply, match, mget, order, paste, pmax, pmax.int, pmin,
    pmin.int, rank, rbind, rownames, sapply, setdiff, sort, table,
    tapply, union, unique, unsplit, which.max, which.min

Loading required package: S4Vectors

Attaching package: 'S4Vectors'

The following objects are masked from 'package:base':

    I, expand.grid, unname

Loading required package: IRanges

Attaching package: 'IRanges'

The following object is masked from 'package:grDevices':

    windows

Loading required package: GenomeInfoDb
Loading required package: SummarizedExperiment
Loading required package: MatrixGenerics
Loading required package: matrixStats

Attaching package: 'MatrixGenerics'

The following objects are masked from 'package:matrixStats':

    colAlls, colAnyNAs, colAnys, colAvgsPerRowSet, colCollapse,
    colCounts, colCummaxs, colCummins, colCumprods, colCumsums,
    colDiffs, colIQRDiffs, colIQRs, colLogSumExps, colMadDiffs,
    colMads, colMaxs, colMeans2, colMedians, colMins, colOrderStats,
    colProds, colQuantiles, colRanges, colRanks, colSdDiffs, colSds,
    colSums2, colTabulates, colVarDiffs, colVars, colWeightedMads,
    colWeightedMeans, colWeightedMedians, colWeightedSds,
    colWeightedVars, rowAlls, rowAnyNAs, rowAnys, rowAvgsPerColSet,
    rowCollapse, rowCounts, rowCummaxs, rowCummins, rowCumprods,
    rowCumsums, rowDiffs, rowIQRDiffs, rowIQRs, rowLogSumExps,
    rowMadDiffs, rowMads, rowMaxs, rowMeans2, rowMedians, rowMins,
    rowOrderStats, rowProds, rowQuantiles, rowRanges, rowRanks,
    rowSdDiffs, rowSds, rowSums2, rowTabulates, rowVarDiffs, rowVars,
    rowWeightedMads, rowWeightedMeans, rowWeightedMedians,
    rowWeightedSds, rowWeightedVars

Loading required package: Biobase
Welcome to Bioconductor

    Vignettes contain introductory material; view with
    'browseVignettes()'. To cite Bioconductor, see
    'citation("Biobase")', and for packages 'citation("pkgname")'.


Attaching package: 'Biobase'

The following object is masked from 'package:MatrixGenerics':

    rowMedians

The following objects are masked from 'package:matrixStats':

    anyMissing, rowMedians

Loading required package: GenomicAlignments
Loading required package: Biostrings
Loading required package: XVector

Attaching package: 'Biostrings'

The following object is masked from 'package:grid':

    pattern

The following object is masked from 'package:base':

    strsplit

Loading required package: Rsamtools
== Skipped tests ===============================================================
* empty test (1)

[ FAIL 0 | WARN 0 | SKIP 1 | PASS 96 ]
> 
> 
> 
> proc.time()
   user  system elapsed 
  17.12    1.54   18.64 

AllelicImbalance.Rcheck/tests_x64/test-all.Rout


R version 4.1.1 (2021-08-10) -- "Kick Things"
Copyright (C) 2021 The R Foundation for Statistical Computing
Platform: x86_64-w64-mingw32/x64 (64-bit)

R is free software and comes with ABSOLUTELY NO WARRANTY.
You are welcome to redistribute it under certain conditions.
Type 'license()' or 'licence()' for distribution details.

R is a collaborative project with many contributors.
Type 'contributors()' for more information and
'citation()' on how to cite R or R packages in publications.

Type 'demo()' for some demos, 'help()' for on-line help, or
'help.start()' for an HTML browser interface to help.
Type 'q()' to quit R.

> library(testthat)
> test_check("AllelicImbalance")
Loading required package: AllelicImbalance
Loading required package: grid
Loading required package: GenomicRanges
Loading required package: stats4
Loading required package: BiocGenerics
Loading required package: parallel

Attaching package: 'BiocGenerics'

The following objects are masked from 'package:parallel':

    clusterApply, clusterApplyLB, clusterCall, clusterEvalQ,
    clusterExport, clusterMap, parApply, parCapply, parLapply,
    parLapplyLB, parRapply, parSapply, parSapplyLB

The following objects are masked from 'package:stats':

    IQR, mad, sd, var, xtabs

The following objects are masked from 'package:base':

    Filter, Find, Map, Position, Reduce, anyDuplicated, append,
    as.data.frame, basename, cbind, colnames, dirname, do.call,
    duplicated, eval, evalq, get, grep, grepl, intersect, is.unsorted,
    lapply, mapply, match, mget, order, paste, pmax, pmax.int, pmin,
    pmin.int, rank, rbind, rownames, sapply, setdiff, sort, table,
    tapply, union, unique, unsplit, which.max, which.min

Loading required package: S4Vectors

Attaching package: 'S4Vectors'

The following objects are masked from 'package:base':

    I, expand.grid, unname

Loading required package: IRanges

Attaching package: 'IRanges'

The following object is masked from 'package:grDevices':

    windows

Loading required package: GenomeInfoDb
Loading required package: SummarizedExperiment
Loading required package: MatrixGenerics
Loading required package: matrixStats

Attaching package: 'MatrixGenerics'

The following objects are masked from 'package:matrixStats':

    colAlls, colAnyNAs, colAnys, colAvgsPerRowSet, colCollapse,
    colCounts, colCummaxs, colCummins, colCumprods, colCumsums,
    colDiffs, colIQRDiffs, colIQRs, colLogSumExps, colMadDiffs,
    colMads, colMaxs, colMeans2, colMedians, colMins, colOrderStats,
    colProds, colQuantiles, colRanges, colRanks, colSdDiffs, colSds,
    colSums2, colTabulates, colVarDiffs, colVars, colWeightedMads,
    colWeightedMeans, colWeightedMedians, colWeightedSds,
    colWeightedVars, rowAlls, rowAnyNAs, rowAnys, rowAvgsPerColSet,
    rowCollapse, rowCounts, rowCummaxs, rowCummins, rowCumprods,
    rowCumsums, rowDiffs, rowIQRDiffs, rowIQRs, rowLogSumExps,
    rowMadDiffs, rowMads, rowMaxs, rowMeans2, rowMedians, rowMins,
    rowOrderStats, rowProds, rowQuantiles, rowRanges, rowRanks,
    rowSdDiffs, rowSds, rowSums2, rowTabulates, rowVarDiffs, rowVars,
    rowWeightedMads, rowWeightedMeans, rowWeightedMedians,
    rowWeightedSds, rowWeightedVars

Loading required package: Biobase
Welcome to Bioconductor

    Vignettes contain introductory material; view with
    'browseVignettes()'. To cite Bioconductor, see
    'citation("Biobase")', and for packages 'citation("pkgname")'.


Attaching package: 'Biobase'

The following object is masked from 'package:MatrixGenerics':

    rowMedians

The following objects are masked from 'package:matrixStats':

    anyMissing, rowMedians

Loading required package: GenomicAlignments
Loading required package: Biostrings
Loading required package: XVector

Attaching package: 'Biostrings'

The following object is masked from 'package:grid':

    pattern

The following object is masked from 'package:base':

    strsplit

Loading required package: Rsamtools
== Skipped tests ===============================================================
* empty test (1)

[ FAIL 0 | WARN 0 | SKIP 1 | PASS 96 ]
> 
> 
> 
> proc.time()
   user  system elapsed 
  17.96    0.65   18.60 

Example timings

AllelicImbalance.Rcheck/examples_i386/AllelicImbalance-Ex.timings

nameusersystemelapsed
ASEset-barplot0.290.010.32
ASEset-class0.600.110.70
ASEset-filters0.10.00.1
ASEset-gbarplot0.070.000.08
ASEset-glocationplot5.320.495.79
ASEset-gviztrack0.760.311.08
ASEset-scanForHeterozygotes1.890.071.95
ASEset.old000
ASEset.sim000
ASEsetFromBam0.020.000.02
DetectedAI-class0.360.010.37
DetectedAI-plot2.080.032.11
DetectedAI-summary0.260.000.27
GRvariants000
GlobalAnalysis-class0.020.000.01
LinkVariantAlmlof-class000
LinkVariantAlmlof-plot28.95 0.0028.95
RegionSummary-class000
RiskVariant-class000
annotation-wrappers5.480.336.22
annotationBarplot000
barplot-lattice-support0.180.000.19
binom.test0.130.000.13
chisq.test0.250.020.26
cigar-utilities0.010.000.02
countAllelesFromBam000
coverageMatrixListFromGAL0.970.000.97
decorateWithExons000
decorateWithGenes000
defaultMapBias0.080.010.10
defaultPhase000
detectAI0.220.000.22
fractionPlotDf0.060.020.07
gba000
genomatrix000
genotype2phase0.030.010.05
getAlleleCounts3.980.044.02
getAlleleQuality4.020.014.03
getAreaFromGeneNames0.470.020.48
getDefaultMapBiasExpMean0.080.000.08
getSnpIdFromLocation000
histplot000
implodeList-old000
import-bam-20.030.000.03
import-bam21.08 0.0821.48
import-bcf1.170.031.20
inferAlleles0.020.010.04
inferAltAllele0.030.000.03
inferGenotypes0.050.020.06
initialize-ASEset0.110.000.11
initialize-DetectedAI0.180.010.20
initialize-GlobalAnalysis0.020.000.02
initialize-RiskVariant000
legendBarplot000
locationplot1.870.001.88
lva124.18 0.00124.23
lva.internal0.930.000.94
makeMaskedFasta101
mapBiasRef0.050.000.05
minCountFilt0.110.000.11
minFreqFilt0.090.010.11
multiAllelicFilt0.020.020.03
phase2genotype0.060.020.07
phaseArray2phaseMatrix0.030.000.04
phaseMatrix2Array0.030.000.03
randomRef0.050.000.04
reads000
refAllele0.030.000.04
regionSummary1.470.001.46
scanForHeterozygotes-old5.60.05.6

AllelicImbalance.Rcheck/examples_x64/AllelicImbalance-Ex.timings

nameusersystemelapsed
ASEset-barplot0.590.030.63
ASEset-class0.610.020.62
ASEset-filters0.100.020.11
ASEset-gbarplot0.060.030.09
ASEset-glocationplot4.860.034.89
ASEset-gviztrack0.580.090.67
ASEset-scanForHeterozygotes1.960.032.00
ASEset.old000
ASEset.sim000
ASEsetFromBam000
DetectedAI-class0.250.020.27
DetectedAI-plot1.570.031.59
DetectedAI-summary0.230.000.24
GRvariants0.000.020.01
GlobalAnalysis-class000
LinkVariantAlmlof-class000
LinkVariantAlmlof-plot32.13 0.0132.14
RegionSummary-class000
RiskVariant-class000
annotation-wrappers5.200.215.41
annotationBarplot000
barplot-lattice-support0.20.00.2
binom.test0.140.000.14
chisq.test0.270.000.26
cigar-utilities0.010.000.02
countAllelesFromBam000
coverageMatrixListFromGAL0.990.031.01
decorateWithExons0.000.020.02
decorateWithGenes0.010.000.02
defaultMapBias0.110.000.11
defaultPhase000
detectAI0.350.010.35
fractionPlotDf0.090.000.10
gba000
genomatrix000
genotype2phase0.050.020.06
getAlleleCounts4.640.004.64
getAlleleQuality4.280.004.28
getAreaFromGeneNames0.360.020.38
getDefaultMapBiasExpMean0.050.010.06
getSnpIdFromLocation19.59 1.0220.70
histplot000
implodeList-old0.020.000.02
import-bam-20.010.000.01
import-bam25.28 0.3625.65
import-bcf1.270.011.28
inferAlleles0.010.020.03
inferAltAllele0.020.010.03
inferGenotypes0.070.000.07
initialize-ASEset0.110.000.11
initialize-DetectedAI0.260.000.26
initialize-GlobalAnalysis0.020.000.02
initialize-RiskVariant000
legendBarplot000
locationplot2.590.002.59
lva144.60 0.02144.61
lva.internal0.810.010.84
makeMaskedFasta1.280.021.30
mapBiasRef0.050.000.05
minCountFilt0.110.000.11
minFreqFilt0.100.020.12
multiAllelicFilt0.020.010.03
phase2genotype0.030.020.05
phaseArray2phaseMatrix0.020.010.03
phaseMatrix2Array0.010.020.03
randomRef0.030.010.05
reads000
refAllele0.040.000.03
regionSummary1.350.001.36
scanForHeterozygotes-old5.990.026.00