Back to Multiple platform build/check report for BioC 3.13
[A]BCDEFGHIJKLMNOPQRSTUVWXYZ

This page was generated on 2021-09-20 15:05:06 -0400 (Mon, 20 Sep 2021).

CHECK results for AUCell on tokay2

To the developers/maintainers of the AUCell package:
- Please allow up to 24 hours (and sometimes 48 hours) for your latest push to git@git.bioconductor.org:packages/AUCell.git to
reflect on this report. See How and When does the builder pull? When will my changes propagate? here for more information.
- Make sure to use the following settings in order to reproduce any error or warning you see on this page.

raw results

Package 101/2041HostnameOS / ArchINSTALLBUILDCHECKBUILD BIN
AUCell 1.14.0  (landing page)
Sara Aibar
Snapshot Date: 2021-09-19 04:50:10 -0400 (Sun, 19 Sep 2021)
git_url: https://git.bioconductor.org/packages/AUCell
git_branch: RELEASE_3_13
git_last_commit: 8849265
git_last_commit_date: 2021-05-19 12:30:20 -0400 (Wed, 19 May 2021)
nebbiolo1Linux (Ubuntu 20.04.2 LTS) / x86_64  OK    OK    OK  UNNEEDED, same version is already published
tokay2Windows Server 2012 R2 Standard / x64  OK    OK    OK    OK  UNNEEDED, same version is already published
machv2macOS 10.14.6 Mojave / x86_64  OK    OK    OK    OK  UNNEEDED, same version is already published

Summary

Package: AUCell
Version: 1.14.0
Command: C:\Users\biocbuild\bbs-3.13-bioc\R\bin\R.exe CMD check --force-multiarch --install=check:AUCell.install-out.txt --library=C:\Users\biocbuild\bbs-3.13-bioc\R\library --no-vignettes --timings AUCell_1.14.0.tar.gz
StartedAt: 2021-09-19 19:01:43 -0400 (Sun, 19 Sep 2021)
EndedAt: 2021-09-19 19:08:35 -0400 (Sun, 19 Sep 2021)
EllapsedTime: 412.0 seconds
RetCode: 0
Status:   OK  
CheckDir: AUCell.Rcheck
Warnings: 0

Command output

##############################################################################
##############################################################################
###
### Running command:
###
###   C:\Users\biocbuild\bbs-3.13-bioc\R\bin\R.exe CMD check --force-multiarch --install=check:AUCell.install-out.txt --library=C:\Users\biocbuild\bbs-3.13-bioc\R\library --no-vignettes --timings AUCell_1.14.0.tar.gz
###
##############################################################################
##############################################################################


* using log directory 'C:/Users/biocbuild/bbs-3.13-bioc/meat/AUCell.Rcheck'
* using R version 4.1.1 (2021-08-10)
* using platform: x86_64-w64-mingw32 (64-bit)
* using session charset: ISO8859-1
* using option '--no-vignettes'
* checking for file 'AUCell/DESCRIPTION' ... OK
* checking extension type ... Package
* this is package 'AUCell' version '1.14.0'
* checking package namespace information ... OK
* checking package dependencies ... NOTE
Package which this enhances but not available for checking: 'doMC'
* checking if this is a source package ... OK
* checking if there is a namespace ... OK
* checking for hidden files and directories ... OK
* checking for portable file names ... OK
* checking whether package 'AUCell' can be installed ... OK
* checking installed package size ... NOTE
  installed size is  5.2Mb
  sub-directories of 1Mb or more:
    doc   4.3Mb
* checking package directory ... OK
* checking 'build' directory ... OK
* checking DESCRIPTION meta-information ... OK
* checking top-level files ... OK
* checking for left-over files ... OK
* checking index information ... OK
* checking package subdirectories ... OK
* checking R files for non-ASCII characters ... OK
* checking R files for syntax errors ... OK
* loading checks for arch 'i386'
** checking whether the package can be loaded ... OK
** checking whether the package can be loaded with stated dependencies ... OK
** checking whether the package can be unloaded cleanly ... OK
** checking whether the namespace can be loaded with stated dependencies ... OK
** checking whether the namespace can be unloaded cleanly ... OK
* loading checks for arch 'x64'
** checking whether the package can be loaded ... OK
** checking whether the package can be loaded with stated dependencies ... OK
** checking whether the package can be unloaded cleanly ... OK
** checking whether the namespace can be loaded with stated dependencies ... OK
** checking whether the namespace can be unloaded cleanly ... OK
* checking dependencies in R code ... NOTE
Namespace in Imports field not imported from: 'S4Vectors'
  All declared Imports should be used.
* checking S3 generic/method consistency ... OK
* checking replacement functions ... OK
* checking foreign function calls ... OK
* checking R code for possible problems ... NOTE
AUCell_createViewerApp : <anonymous>: no visible global function
  definition for '%>%'
AUCell_createViewerApp : <anonymous>: no visible binding for global
  variable 'tsne1'
AUCell_createViewerApp : <anonymous>: no visible binding for global
  variable 'tsne2'
AUCell_createViewerApp : <anonymous>: no visible binding for global
  variable 'cell'
plotEmb_rgb : <anonymous>: no visible global function definition for
  'rgb'
Undefined global functions or variables:
  %>% cell rgb tsne1 tsne2
Consider adding
  importFrom("grDevices", "rgb")
to your NAMESPACE file.
* checking Rd files ... OK
* checking Rd metadata ... OK
* checking Rd cross-references ... OK
* checking for missing documentation entries ... OK
* checking for code/documentation mismatches ... OK
* checking Rd \usage sections ... OK
* checking Rd contents ... OK
* checking for unstated dependencies in examples ... OK
* checking installed files from 'inst/doc' ... OK
* checking files in 'vignettes' ... OK
* checking examples ...
** running examples for arch 'i386' ... OK
Examples with CPU (user + system) or elapsed time > 5s
                       user system elapsed
AUCell_createViewerApp 3.18   1.01    6.78
** running examples for arch 'x64' ... OK
* checking for unstated dependencies in 'tests' ... OK
* checking tests ...
** running tests for arch 'i386' ...
  Running 'testthat.R'
 OK
** running tests for arch 'x64' ...
  Running 'testthat.R'
 OK
* checking for unstated dependencies in vignettes ... OK
* checking package vignettes in 'inst/doc' ... OK
* checking running R code from vignettes ... SKIPPED
* checking re-building of vignette outputs ... SKIPPED
* checking PDF version of manual ... OK
* DONE

Status: 4 NOTEs
See
  'C:/Users/biocbuild/bbs-3.13-bioc/meat/AUCell.Rcheck/00check.log'
for details.



Installation output

AUCell.Rcheck/00install.out

##############################################################################
##############################################################################
###
### Running command:
###
###   C:\cygwin\bin\curl.exe -O http://155.52.207.165/BBS/3.13/bioc/src/contrib/AUCell_1.14.0.tar.gz && rm -rf AUCell.buildbin-libdir && mkdir AUCell.buildbin-libdir && C:\Users\biocbuild\bbs-3.13-bioc\R\bin\R.exe CMD INSTALL --merge-multiarch --build --library=AUCell.buildbin-libdir AUCell_1.14.0.tar.gz && C:\Users\biocbuild\bbs-3.13-bioc\R\bin\R.exe CMD INSTALL AUCell_1.14.0.zip && rm AUCell_1.14.0.tar.gz AUCell_1.14.0.zip
###
##############################################################################
##############################################################################


  % Total    % Received % Xferd  Average Speed   Time    Time     Time  Current
                                 Dload  Upload   Total   Spent    Left  Speed

  0     0    0     0    0     0      0      0 --:--:-- --:--:-- --:--:--     0
 73 2997k   73 2206k    0     0  2480k      0  0:00:01 --:--:--  0:00:01 2479k
100 2997k  100 2997k    0     0  2696k      0  0:00:01  0:00:01 --:--:-- 2700k

install for i386

* installing *source* package 'AUCell' ...
** using staged installation
** R
** inst
** byte-compile and prepare package for lazy loading
** help
*** installing help indices
  converting help for package 'AUCell'
    finding HTML links ... done
    AUCell_buildRankings                    html  
    finding level-2 HTML links ... done

    AUCell_calcAUC                          html  
    AUCell_createViewerApp                  html  
    AUCell_exploreThresholds                html  
    AUCell_plotHist                         html  
    AUCell_plotTSNE                         html  
    GeneSet-methods                         html  
    aucellResults-class                     html  
    getSetNames                             html  
    orderAUC                                html  
    plotEmb_rgb                             html  
    plotGeneCount                           html  
    plotTsne_cellProps                      html  
    updateAucellResults                     html  
** building package indices
** installing vignettes
   'AUCell.Rmd' using 'UTF-8' 
** testing if installed package can be loaded from temporary location
** testing if installed package can be loaded from final location
** testing if installed package keeps a record of temporary installation path

install for x64

* installing *source* package 'AUCell' ...
** testing if installed package can be loaded
* MD5 sums
packaged installation of 'AUCell' as AUCell_1.14.0.zip
* DONE (AUCell)
* installing to library 'C:/Users/biocbuild/bbs-3.13-bioc/R/library'
package 'AUCell' successfully unpacked and MD5 sums checked

Tests output

AUCell.Rcheck/tests_i386/testthat.Rout


R version 4.1.1 (2021-08-10) -- "Kick Things"
Copyright (C) 2021 The R Foundation for Statistical Computing
Platform: i386-w64-mingw32/i386 (32-bit)

R is free software and comes with ABSOLUTELY NO WARRANTY.
You are welcome to redistribute it under certain conditions.
Type 'license()' or 'licence()' for distribution details.

R is a collaborative project with many contributors.
Type 'contributors()' for more information and
'citation()' on how to cite R or R packages in publications.

Type 'demo()' for some demos, 'help()' for on-line help, or
'help.start()' for an HTML browser interface to help.
Type 'q()' to quit R.

> library(testthat)
> library(AUCell)
> 
> test_check("AUCell")
 min   1%   5%  10%  50% 100% 
   3    5    6    7   10   16 
 min   1%   5%  10%  50% 100% 
   3    5    6    7   10   16 
[ FAIL 0 | WARN 0 | SKIP 0 | PASS 42 ]
> 
> proc.time()
   user  system elapsed 
  16.89    2.26   19.14 

AUCell.Rcheck/tests_x64/testthat.Rout


R version 4.1.1 (2021-08-10) -- "Kick Things"
Copyright (C) 2021 The R Foundation for Statistical Computing
Platform: x86_64-w64-mingw32/x64 (64-bit)

R is free software and comes with ABSOLUTELY NO WARRANTY.
You are welcome to redistribute it under certain conditions.
Type 'license()' or 'licence()' for distribution details.

R is a collaborative project with many contributors.
Type 'contributors()' for more information and
'citation()' on how to cite R or R packages in publications.

Type 'demo()' for some demos, 'help()' for on-line help, or
'help.start()' for an HTML browser interface to help.
Type 'q()' to quit R.

> library(testthat)
> library(AUCell)
> 
> test_check("AUCell")
 min   1%   5%  10%  50% 100% 
   3    5    6    7   10   16 
 min   1%   5%  10%  50% 100% 
   3    5    6    7   10   16 
[ FAIL 0 | WARN 0 | SKIP 0 | PASS 42 ]
> 
> proc.time()
   user  system elapsed 
  17.81    1.09   18.89 

Example timings

AUCell.Rcheck/examples_i386/AUCell-Ex.timings

nameusersystemelapsed
AUCell_buildRankings0.520.150.68
AUCell_calcAUC1.090.161.25
AUCell_createViewerApp3.181.016.78
AUCell_exploreThresholds3.240.113.38
AUCell_plotHist0.590.000.59
AUCell_plotTSNE0.880.080.96
GeneSet-methods0.150.000.15
aucellResults-class0.780.020.80
orderAUC000
plotGeneCount0.000.010.01
plotTsne_cellProps0.930.101.02
updateAucellResults0.040.000.05

AUCell.Rcheck/examples_x64/AUCell-Ex.timings

nameusersystemelapsed
AUCell_buildRankings0.620.030.66
AUCell_calcAUC1.140.101.23
AUCell_createViewerApp3.780.784.56
AUCell_exploreThresholds2.390.042.44
AUCell_plotHist0.600.000.59
AUCell_plotTSNE0.900.000.91
GeneSet-methods0.100.040.12
aucellResults-class0.810.000.81
orderAUC000
plotGeneCount0.020.000.01
plotTsne_cellProps0.870.010.90
updateAucellResults0.050.000.04