Back to Multiple platform build/check report for BioC 3.13
[A]BCDEFGHIJKLMNOPQRSTUVWXYZ

This page was generated on 2021-09-24 15:06:33 -0400 (Fri, 24 Sep 2021).

BUILD BIN results for AUCell on machv2

To the developers/maintainers of the AUCell package:
- Please allow up to 24 hours (and sometimes 48 hours) for your latest push to git@git.bioconductor.org:packages/AUCell.git to
reflect on this report. See How and When does the builder pull? When will my changes propagate? here for more information.
- Make sure to use the following settings in order to reproduce any error or warning you see on this page.

raw results

Package 101/2041HostnameOS / ArchINSTALLBUILDCHECKBUILD BIN
AUCell 1.14.0  (landing page)
Sara Aibar
Snapshot Date: 2021-09-23 04:50:12 -0400 (Thu, 23 Sep 2021)
git_url: https://git.bioconductor.org/packages/AUCell
git_branch: RELEASE_3_13
git_last_commit: 8849265
git_last_commit_date: 2021-05-19 12:30:20 -0400 (Wed, 19 May 2021)
nebbiolo1Linux (Ubuntu 20.04.2 LTS) / x86_64  OK    OK    OK  UNNEEDED, same version is already published
tokay2Windows Server 2012 R2 Standard / x64  OK    OK    OK    OK  UNNEEDED, same version is already published
machv2macOS 10.14.6 Mojave / x86_64  OK    OK    OK    OK  UNNEEDED, same version is already published

Summary

Package: AUCell
Version: 1.14.0
Command: rm -rf AUCell.buildbin-libdir && mkdir AUCell.buildbin-libdir && /Users/biocbuild/BBS/utils/build-universal.sh AUCell_1.14.0.tar.gz /Library/Frameworks/R.framework/Versions/Current/Resources/bin/R AUCell.buildbin-libdir
StartedAt: 2021-09-24 01:17:41 -0400 (Fri, 24 Sep 2021)
EndedAt: 2021-09-24 01:18:52 -0400 (Fri, 24 Sep 2021)
EllapsedTime: 71.3 seconds
RetCode: 0
Status:   OK  
PackageFile: AUCell_1.14.0.tgz
PackageFileSize: 2.101 MiB

Command output

##############################################################################
##############################################################################
###
### Running command:
###
###   rm -rf AUCell.buildbin-libdir && mkdir AUCell.buildbin-libdir && /Users/biocbuild/BBS/utils/build-universal.sh AUCell_1.14.0.tar.gz /Library/Frameworks/R.framework/Versions/Current/Resources/bin/R AUCell.buildbin-libdir
###
##############################################################################
##############################################################################


>>>>>>> 
>>>>>>> INSTALLATION WITH 'R CMD INSTALL --preclean --no-multiarch --library=AUCell.buildbin-libdir AUCell_1.14.0.tar.gz'
>>>>>>> 

* installing *source* package ‘AUCell’ ...
** using staged installation
** R
** inst
** byte-compile and prepare package for lazy loading
** help
*** installing help indices
** building package indices
** installing vignettes
** testing if installed package can be loaded from temporary location
** testing if installed package can be loaded from final location
** testing if installed package keeps a record of temporary installation path
* DONE (AUCell)