Back to Multiple platform build/check report for BioC 3.13
[A]BCDEFGHIJKLMNOPQRSTUVWXYZ

This page was generated on 2021-09-22 15:04:46 -0400 (Wed, 22 Sep 2021).

BUILD results for ATACseqQC on nebbiolo1

To the developers/maintainers of the ATACseqQC package:
- Please allow up to 24 hours (and sometimes 48 hours) for your latest push to git@git.bioconductor.org:packages/ATACseqQC.git to
reflect on this report. See How and When does the builder pull? When will my changes propagate? here for more information.
- Make sure to use the following settings in order to reproduce any error or warning you see on this page.

raw results

Package 98/2041HostnameOS / ArchINSTALLBUILDCHECKBUILD BIN
ATACseqQC 1.16.0  (landing page)
Jianhong Ou
Snapshot Date: 2021-09-21 04:50:12 -0400 (Tue, 21 Sep 2021)
git_url: https://git.bioconductor.org/packages/ATACseqQC
git_branch: RELEASE_3_13
git_last_commit: e345154
git_last_commit_date: 2021-05-19 12:27:43 -0400 (Wed, 19 May 2021)
nebbiolo1Linux (Ubuntu 20.04.2 LTS) / x86_64  OK    OK    OK  UNNEEDED, same version is already published
tokay2Windows Server 2012 R2 Standard / x64  OK    OK    OK    OK  UNNEEDED, same version is already published
machv2macOS 10.14.6 Mojave / x86_64  OK    OK    OK    OK  UNNEEDED, same version is already published

Summary

Package: ATACseqQC
Version: 1.16.0
Command: /home/biocbuild/bbs-3.13-bioc/R/bin/R CMD build --keep-empty-dirs --no-resave-data ATACseqQC
StartedAt: 2021-09-21 06:43:39 -0400 (Tue, 21 Sep 2021)
EndedAt: 2021-09-21 06:47:21 -0400 (Tue, 21 Sep 2021)
EllapsedTime: 222.3 seconds
RetCode: 0
Status:   OK  
PackageFile: ATACseqQC_1.16.0.tar.gz
PackageFileSize: 13.07 MiB

Command output

##############################################################################
##############################################################################
###
### Running command:
###
###   /home/biocbuild/bbs-3.13-bioc/R/bin/R CMD build --keep-empty-dirs --no-resave-data ATACseqQC
###
##############################################################################
##############################################################################


* checking for file ‘ATACseqQC/DESCRIPTION’ ... OK
* preparing ‘ATACseqQC’:
* checking DESCRIPTION meta-information ... OK
* installing the package to build vignettes
* creating vignettes ... OK
* checking for LF line-endings in source and make files and shell scripts
* checking for empty or unneeded directories
Omitted ‘LazyData’ from DESCRIPTION
* building ‘ATACseqQC_1.16.0.tar.gz’