Back to Multiple platform build/check report for BioC 3.13
[A]BCDEFGHIJKLMNOPQRSTUVWXYZ

This page was generated on 2021-09-20 15:04:44 -0400 (Mon, 20 Sep 2021).

CHECK results for ASpli on nebbiolo1

To the developers/maintainers of the ASpli package:
- Please allow up to 24 hours (and sometimes 48 hours) for your latest push to git@git.bioconductor.org:packages/ASpli.git to
reflect on this report. See How and When does the builder pull? When will my changes propagate? here for more information.
- Make sure to use the following settings in order to reproduce any error or warning you see on this page.

raw results

Package 94/2041HostnameOS / ArchINSTALLBUILDCHECKBUILD BIN
ASpli 2.2.0  (landing page)
Estefania Mancini
Snapshot Date: 2021-09-19 04:50:10 -0400 (Sun, 19 Sep 2021)
git_url: https://git.bioconductor.org/packages/ASpli
git_branch: RELEASE_3_13
git_last_commit: 6dddfb0
git_last_commit_date: 2021-05-19 12:22:07 -0400 (Wed, 19 May 2021)
nebbiolo1Linux (Ubuntu 20.04.2 LTS) / x86_64  OK    OK    OK  UNNEEDED, same version is already published
tokay2Windows Server 2012 R2 Standard / x64  OK    OK    OK    OK  UNNEEDED, same version is already published
machv2macOS 10.14.6 Mojave / x86_64  OK    OK    OK    OK  UNNEEDED, same version is already published

Summary

Package: ASpli
Version: 2.2.0
Command: /home/biocbuild/bbs-3.13-bioc/R/bin/R CMD check --install=check:ASpli.install-out.txt --library=/home/biocbuild/bbs-3.13-bioc/R/library --no-vignettes --timings ASpli_2.2.0.tar.gz
StartedAt: 2021-09-19 08:51:58 -0400 (Sun, 19 Sep 2021)
EndedAt: 2021-09-19 09:08:32 -0400 (Sun, 19 Sep 2021)
EllapsedTime: 994.1 seconds
RetCode: 0
Status:   OK  
CheckDir: ASpli.Rcheck
Warnings: 0

Command output

##############################################################################
##############################################################################
###
### Running command:
###
###   /home/biocbuild/bbs-3.13-bioc/R/bin/R CMD check --install=check:ASpli.install-out.txt --library=/home/biocbuild/bbs-3.13-bioc/R/library --no-vignettes --timings ASpli_2.2.0.tar.gz
###
##############################################################################
##############################################################################


* using log directory ‘/home/biocbuild/bbs-3.13-bioc/meat/ASpli.Rcheck’
* using R version 4.1.1 (2021-08-10)
* using platform: x86_64-pc-linux-gnu (64-bit)
* using session charset: UTF-8
* using option ‘--no-vignettes’
* checking for file ‘ASpli/DESCRIPTION’ ... OK
* checking extension type ... Package
* this is package ‘ASpli’ version ‘2.2.0’
* checking package namespace information ... OK
* checking package dependencies ... OK
* checking if this is a source package ... OK
* checking if there is a namespace ... OK
* checking for hidden files and directories ... OK
* checking for portable file names ... OK
* checking for sufficient/correct file permissions ... OK
* checking whether package ‘ASpli’ can be installed ... OK
* checking installed package size ... OK
* checking package directory ... OK
* checking ‘build’ directory ... OK
* checking DESCRIPTION meta-information ... OK
* checking top-level files ... OK
* checking for left-over files ... OK
* checking index information ... OK
* checking package subdirectories ... OK
* checking R files for non-ASCII characters ... OK
* checking R files for syntax errors ... OK
* checking whether the package can be loaded ... OK
* checking whether the package can be loaded with stated dependencies ... OK
* checking whether the package can be unloaded cleanly ... OK
* checking whether the namespace can be loaded with stated dependencies ... OK
* checking whether the namespace can be unloaded cleanly ... OK
* checking dependencies in R code ... OK
* checking S3 generic/method consistency ... OK
* checking replacement functions ... OK
* checking foreign function calls ... OK
* checking R code for possible problems ... OK
* checking Rd files ... OK
* checking Rd metadata ... OK
* checking Rd cross-references ... OK
* checking for missing documentation entries ... OK
* checking for code/documentation mismatches ... OK
* checking Rd \usage sections ... OK
* checking Rd contents ... OK
* checking for unstated dependencies in examples ... OK
* checking installed files from ‘inst/doc’ ... OK
* checking files in ‘vignettes’ ... OK
* checking examples ... OK
Examples with CPU (user + system) or elapsed time > 5s
                           user system elapsed
ASpli-package           140.993  1.744 142.572
jCounts-methods          74.876  0.296  75.085
jDUreport                74.182  0.252  74.345
exportIntegratedSignals  72.611  0.391  72.975
splicingReport           72.471  0.288  72.675
integrateSignals         70.577  0.334  70.889
exportSplicingReports    69.021  0.325  69.337
gbCounts                 65.296  0.269  65.505
gbDUreport-method        63.876  0.248  64.035
* checking for unstated dependencies in vignettes ... OK
* checking package vignettes in ‘inst/doc’ ... OK
* checking running R code from vignettes ... SKIPPED
* checking re-building of vignette outputs ... SKIPPED
* checking PDF version of manual ... OK
* DONE

Status: OK


Installation output

ASpli.Rcheck/00install.out

##############################################################################
##############################################################################
###
### Running command:
###
###   /home/biocbuild/bbs-3.13-bioc/R/bin/R CMD INSTALL ASpli
###
##############################################################################
##############################################################################


* installing to library ‘/home/biocbuild/bbs-3.13-bioc/R/library’
* installing *source* package ‘ASpli’ ...
** using staged installation
** R
** inst
** byte-compile and prepare package for lazy loading
** help
*** installing help indices
** building package indices
** installing vignettes
** testing if installed package can be loaded from temporary location
** testing if installed package can be loaded from final location
** testing if installed package keeps a record of temporary installation path
* DONE (ASpli)

Tests output


Example timings

ASpli.Rcheck/ASpli-Ex.timings

nameusersystemelapsed
ASpli-package140.993 1.744142.572
DUreport000
DUreport.norm000
DUreport.offset000
DUreportBinSplice-method0.0010.0000.000
acc_AS0.0010.0000.000
acc_DU000
acc_counts0.0000.0010.000
acc_features0.2310.0020.233
binGenome3.7680.0083.777
containsJunctions-function0.0010.0000.001
example_data0.0000.0000.001
exportIntegratedSignals72.611 0.39172.975
exportSplicingReports69.021 0.32569.337
filterDU-method0.0010.0000.000
filterSignals000
gbCounts65.296 0.26965.505
gbDUreport-method63.876 0.24864.035
getConditions-function0.0000.0000.001
integrateSignals70.577 0.33470.889
jCounts-methods74.876 0.29675.085
jDUreport74.182 0.25274.345
junctionDUreport0.0000.0000.001
loadBAM0.0000.0000.001
mergeBinDUAS-method0.0000.0010.001
plotBins0.0000.0010.001
plotGenomicRegions0.0000.0010.001
rds000
splicingReport72.471 0.28872.675
subset-methods000