Back to Multiple platform build/check report for BioC 3.13
[A]BCDEFGHIJKLMNOPQRSTUVWXYZ

This page was generated on 2021-09-24 15:06:02 -0400 (Fri, 24 Sep 2021).

CHECK results for ASpediaFI on tokay2

To the developers/maintainers of the ASpediaFI package:
- Please allow up to 24 hours (and sometimes 48 hours) for your latest push to git@git.bioconductor.org:packages/ASpediaFI.git to
reflect on this report. See How and When does the builder pull? When will my changes propagate? here for more information.
- Make sure to use the following settings in order to reproduce any error or warning you see on this page.

raw results

Package 93/2041HostnameOS / ArchINSTALLBUILDCHECKBUILD BIN
ASpediaFI 1.6.0  (landing page)
Doyeong Yu
Snapshot Date: 2021-09-23 04:50:12 -0400 (Thu, 23 Sep 2021)
git_url: https://git.bioconductor.org/packages/ASpediaFI
git_branch: RELEASE_3_13
git_last_commit: a36105f
git_last_commit_date: 2021-05-19 12:47:16 -0400 (Wed, 19 May 2021)
nebbiolo1Linux (Ubuntu 20.04.2 LTS) / x86_64  OK    OK    OK  UNNEEDED, same version is already published
tokay2Windows Server 2012 R2 Standard / x64  OK    OK    OK    OK  UNNEEDED, same version is already published
machv2macOS 10.14.6 Mojave / x86_64  OK    OK    OK    OK  UNNEEDED, same version is already published

Summary

Package: ASpediaFI
Version: 1.6.0
Command: C:\Users\biocbuild\bbs-3.13-bioc\R\bin\R.exe CMD check --force-multiarch --install=check:ASpediaFI.install-out.txt --library=C:\Users\biocbuild\bbs-3.13-bioc\R\library --no-vignettes --timings ASpediaFI_1.6.0.tar.gz
StartedAt: 2021-09-23 19:02:55 -0400 (Thu, 23 Sep 2021)
EndedAt: 2021-09-23 19:11:29 -0400 (Thu, 23 Sep 2021)
EllapsedTime: 514.8 seconds
RetCode: 0
Status:   OK  
CheckDir: ASpediaFI.Rcheck
Warnings: 0

Command output

##############################################################################
##############################################################################
###
### Running command:
###
###   C:\Users\biocbuild\bbs-3.13-bioc\R\bin\R.exe CMD check --force-multiarch --install=check:ASpediaFI.install-out.txt --library=C:\Users\biocbuild\bbs-3.13-bioc\R\library --no-vignettes --timings ASpediaFI_1.6.0.tar.gz
###
##############################################################################
##############################################################################


* using log directory 'C:/Users/biocbuild/bbs-3.13-bioc/meat/ASpediaFI.Rcheck'
* using R version 4.1.1 (2021-08-10)
* using platform: x86_64-w64-mingw32 (64-bit)
* using session charset: ISO8859-1
* using option '--no-vignettes'
* checking for file 'ASpediaFI/DESCRIPTION' ... OK
* checking extension type ... Package
* this is package 'ASpediaFI' version '1.6.0'
* package encoding: UTF-8
* checking package namespace information ... OK
* checking package dependencies ... OK
* checking if this is a source package ... OK
* checking if there is a namespace ... OK
* checking for hidden files and directories ... OK
* checking for portable file names ... OK
* checking whether package 'ASpediaFI' can be installed ... OK
* checking installed package size ... OK
* checking package directory ... OK
* checking 'build' directory ... OK
* checking DESCRIPTION meta-information ... OK
* checking top-level files ... OK
* checking for left-over files ... OK
* checking index information ... OK
* checking package subdirectories ... OK
* checking R files for non-ASCII characters ... OK
* checking R files for syntax errors ... OK
* loading checks for arch 'i386'
** checking whether the package can be loaded ... OK
** checking whether the package can be loaded with stated dependencies ... OK
** checking whether the package can be unloaded cleanly ... OK
** checking whether the namespace can be loaded with stated dependencies ... OK
** checking whether the namespace can be unloaded cleanly ... OK
* loading checks for arch 'x64'
** checking whether the package can be loaded ... OK
** checking whether the package can be loaded with stated dependencies ... OK
** checking whether the package can be unloaded cleanly ... OK
** checking whether the namespace can be loaded with stated dependencies ... OK
** checking whether the namespace can be unloaded cleanly ... OK
* checking dependencies in R code ... OK
* checking S3 generic/method consistency ... OK
* checking replacement functions ... OK
* checking foreign function calls ... OK
* checking R code for possible problems ... OK
* checking Rd files ... OK
* checking Rd metadata ... OK
* checking Rd cross-references ... OK
* checking for missing documentation entries ... OK
* checking for code/documentation mismatches ... OK
* checking Rd \usage sections ... OK
* checking Rd contents ... OK
* checking for unstated dependencies in examples ... OK
* checking contents of 'data' directory ... OK
* checking data for non-ASCII characters ... OK
* checking data for ASCII and uncompressed saves ... OK
* checking R/sysdata.rda ... OK
* checking files in 'vignettes' ... OK
* checking examples ...
** running examples for arch 'i386' ... OK
Examples with CPU (user + system) or elapsed time > 5s
                  user system elapsed
annotateASevents 41.11   1.72   42.88
** running examples for arch 'x64' ... OK
Examples with CPU (user + system) or elapsed time > 5s
                  user system elapsed
annotateASevents 37.27   0.11   37.37
* checking for unstated dependencies in vignettes ... OK
* checking package vignettes in 'inst/doc' ... OK
* checking running R code from vignettes ... SKIPPED
* checking re-building of vignette outputs ... SKIPPED
* checking PDF version of manual ... OK
* DONE

Status: OK


Installation output

ASpediaFI.Rcheck/00install.out

##############################################################################
##############################################################################
###
### Running command:
###
###   C:\cygwin\bin\curl.exe -O http://155.52.207.165/BBS/3.13/bioc/src/contrib/ASpediaFI_1.6.0.tar.gz && rm -rf ASpediaFI.buildbin-libdir && mkdir ASpediaFI.buildbin-libdir && C:\Users\biocbuild\bbs-3.13-bioc\R\bin\R.exe CMD INSTALL --merge-multiarch --build --library=ASpediaFI.buildbin-libdir ASpediaFI_1.6.0.tar.gz && C:\Users\biocbuild\bbs-3.13-bioc\R\bin\R.exe CMD INSTALL ASpediaFI_1.6.0.zip && rm ASpediaFI_1.6.0.tar.gz ASpediaFI_1.6.0.zip
###
##############################################################################
##############################################################################


  % Total    % Received % Xferd  Average Speed   Time    Time     Time  Current
                                 Dload  Upload   Total   Spent    Left  Speed

  0     0    0     0    0     0      0      0 --:--:-- --:--:-- --:--:--     0
 17 2089k   17  358k    0     0  1011k      0  0:00:02 --:--:--  0:00:02 1010k
100 2089k  100 2089k    0     0  1824k      0  0:00:01  0:00:01 --:--:-- 1826k

install for i386

* installing *source* package 'ASpediaFI' ...
** using staged installation
** R
** data
** inst
** byte-compile and prepare package for lazy loading
Creating a new generic function for 'as.table' in package 'ASpediaFI'
** help
*** installing help indices
  converting help for package 'ASpediaFI'
    finding HTML links ... done
    ASpediaFI-accessor                      html  
    ASpediaFI-class                         html  
    GSE114922.fpkm                          html  
    GSE114922.psi                           html  
    analyzeFI                               html  
    annotateASevents                        html  
    exportNetwork                           html  
    quantifyPSI                             html  
    visualize                               html  
** building package indices
** installing vignettes
** testing if installed package can be loaded from temporary location
** testing if installed package can be loaded from final location
** testing if installed package keeps a record of temporary installation path

install for x64

* installing *source* package 'ASpediaFI' ...
** testing if installed package can be loaded
* MD5 sums
packaged installation of 'ASpediaFI' as ASpediaFI_1.6.0.zip
* DONE (ASpediaFI)
* installing to library 'C:/Users/biocbuild/bbs-3.13-bioc/R/library'
package 'ASpediaFI' successfully unpacked and MD5 sums checked

Tests output


Example timings

ASpediaFI.Rcheck/examples_i386/ASpediaFI-Ex.timings

nameusersystemelapsed
ASpediaFI-accessor0.170.020.19
ASpediaFI-class0.050.000.04
GSE114922.fpkm0.070.000.06
GSE114922.psi0.150.010.17
analyzeFI0.530.000.53
annotateASevents41.11 1.7242.88
exportNetwork0.020.000.02
quantifyPSI0.030.000.03
visualize000

ASpediaFI.Rcheck/examples_x64/ASpediaFI-Ex.timings

nameusersystemelapsed
ASpediaFI-accessor0.110.000.11
ASpediaFI-class0.050.000.05
GSE114922.fpkm0.030.000.03
GSE114922.psi0.080.000.08
analyzeFI0.200.030.24
annotateASevents37.27 0.1137.37
exportNetwork0.010.000.02
quantifyPSI0.020.000.01
visualize000