Back to Multiple platform build/check report for BioC 3.13
[A]BCDEFGHIJKLMNOPQRSTUVWXYZ

This page was generated on 2021-09-24 15:06:02 -0400 (Fri, 24 Sep 2021).

BUILD BIN results for ASpediaFI on tokay2

To the developers/maintainers of the ASpediaFI package:
- Please allow up to 24 hours (and sometimes 48 hours) for your latest push to git@git.bioconductor.org:packages/ASpediaFI.git to
reflect on this report. See How and When does the builder pull? When will my changes propagate? here for more information.
- Make sure to use the following settings in order to reproduce any error or warning you see on this page.

raw results

Package 93/2041HostnameOS / ArchINSTALLBUILDCHECKBUILD BIN
ASpediaFI 1.6.0  (landing page)
Doyeong Yu
Snapshot Date: 2021-09-23 04:50:12 -0400 (Thu, 23 Sep 2021)
git_url: https://git.bioconductor.org/packages/ASpediaFI
git_branch: RELEASE_3_13
git_last_commit: a36105f
git_last_commit_date: 2021-05-19 12:47:16 -0400 (Wed, 19 May 2021)
nebbiolo1Linux (Ubuntu 20.04.2 LTS) / x86_64  OK    OK    OK  UNNEEDED, same version is already published
tokay2Windows Server 2012 R2 Standard / x64  OK    OK    OK    OK  UNNEEDED, same version is already published
machv2macOS 10.14.6 Mojave / x86_64  OK    OK    OK    OK  UNNEEDED, same version is already published

Summary

Package: ASpediaFI
Version: 1.6.0
Command: rm -rf ASpediaFI.buildbin-libdir && mkdir ASpediaFI.buildbin-libdir && C:\Users\biocbuild\bbs-3.13-bioc\R\bin\R.exe CMD INSTALL --merge-multiarch --build --library=ASpediaFI.buildbin-libdir ASpediaFI_1.6.0.tar.gz
StartedAt: 2021-09-24 07:12:36 -0400 (Fri, 24 Sep 2021)
EndedAt: 2021-09-24 07:14:10 -0400 (Fri, 24 Sep 2021)
EllapsedTime: 94.7 seconds
RetCode: 0
Status:   OK  
PackageFile: ASpediaFI_1.6.0.zip
PackageFileSize: 3.375 MiB

Command output

##############################################################################
##############################################################################
###
### Running command:
###
###   rm -rf ASpediaFI.buildbin-libdir && mkdir ASpediaFI.buildbin-libdir && C:\Users\biocbuild\bbs-3.13-bioc\R\bin\R.exe CMD INSTALL --merge-multiarch --build --library=ASpediaFI.buildbin-libdir ASpediaFI_1.6.0.tar.gz
###
##############################################################################
##############################################################################



install for i386

* installing *source* package 'ASpediaFI' ...
** using staged installation
** R
** data
** inst
** byte-compile and prepare package for lazy loading
Creating a new generic function for 'as.table' in package 'ASpediaFI'
** help
*** installing help indices
  converting help for package 'ASpediaFI'
    finding HTML links ... done
    ASpediaFI-accessor                      html  
    ASpediaFI-class                         html  
    GSE114922.fpkm                          html  
    GSE114922.psi                           html  
    analyzeFI                               html  
    annotateASevents                        html  
    exportNetwork                           html  
    quantifyPSI                             html  
    visualize                               html  
** building package indices
** installing vignettes
** testing if installed package can be loaded from temporary location
** testing if installed package can be loaded from final location
** testing if installed package keeps a record of temporary installation path

install for x64

* installing *source* package 'ASpediaFI' ...
** testing if installed package can be loaded
* MD5 sums
packaged installation of 'ASpediaFI' as ASpediaFI_1.6.0.zip
* DONE (ASpediaFI)