Back to Multiple platform build/check report for BioC 3.19:   simplified   long
[A]BCDEFGHIJKLMNOPQRSTUVWXYZ

This page was generated on 2024-06-11 14:40 -0400 (Tue, 11 Jun 2024).

HostnameOSArch (*)R versionInstalled pkgs
nebbiolo1Linux (Ubuntu 22.04.3 LTS)x86_644.4.0 (2024-04-24) -- "Puppy Cup" 4757
palomino3Windows Server 2022 Datacenterx644.4.0 (2024-04-24 ucrt) -- "Puppy Cup" 4491
lconwaymacOS 12.7.1 Montereyx86_644.4.0 (2024-04-24) -- "Puppy Cup" 4522
kjohnson3macOS 13.6.5 Venturaarm644.4.0 (2024-04-24) -- "Puppy Cup" 4468
Click on any hostname to see more info about the system (e.g. compilers)      (*) as reported by 'uname -p', except on Windows and Mac OS X

Package 103/2300HostnameOS / ArchINSTALLBUILDCHECKBUILD BIN
ASSIGN 1.40.0  (landing page)
Ying Shen , W. Evan Johnson
Snapshot Date: 2024-06-09 14:00 -0400 (Sun, 09 Jun 2024)
git_url: https://git.bioconductor.org/packages/ASSIGN
git_branch: RELEASE_3_19
git_last_commit: 857753f
git_last_commit_date: 2024-04-30 10:35:49 -0400 (Tue, 30 Apr 2024)
nebbiolo1Linux (Ubuntu 22.04.3 LTS) / x86_64  OK    OK    OK  UNNEEDED, same version is already published
palomino3Windows Server 2022 Datacenter / x64  OK    OK    OK    OK  UNNEEDED, same version is already published
lconwaymacOS 12.7.1 Monterey / x86_64  OK    OK    OK    OK  UNNEEDED, same version is already published
kjohnson3macOS 13.6.5 Ventura / arm64  OK    OK    OK    OK  UNNEEDED, same version is already published


BUILD BIN results for ASSIGN on palomino3

To the developers/maintainers of the ASSIGN package:
- Allow up to 24 hours (and sometimes 48 hours) for your latest push to git@git.bioconductor.org:packages/ASSIGN.git to reflect on this report. See Troubleshooting Build Report for more information.
- Use the following Renviron settings to reproduce errors and warnings.
- If 'R CMD check' started to fail recently on the Linux builder(s) over a missing dependency, add the missing dependency to 'Suggests:' in your DESCRIPTION file. See Renviron.bioc for more information.

raw results


Summary

Package: ASSIGN
Version: 1.40.0
Command: rm -rf ASSIGN.buildbin-libdir && mkdir ASSIGN.buildbin-libdir && F:\biocbuild\bbs-3.19-bioc\R\bin\R.exe CMD INSTALL --build --library=ASSIGN.buildbin-libdir ASSIGN_1.40.0.tar.gz
StartedAt: 2024-06-10 14:42:30 -0400 (Mon, 10 Jun 2024)
EndedAt: 2024-06-10 14:43:14 -0400 (Mon, 10 Jun 2024)
EllapsedTime: 44.4 seconds
RetCode: 0
Status:   OK  
PackageFile: ASSIGN_1.40.0.zip
PackageFileSize: 1.676 MiB

Command output

##############################################################################
##############################################################################
###
### Running command:
###
###   rm -rf ASSIGN.buildbin-libdir && mkdir ASSIGN.buildbin-libdir && F:\biocbuild\bbs-3.19-bioc\R\bin\R.exe CMD INSTALL --build --library=ASSIGN.buildbin-libdir ASSIGN_1.40.0.tar.gz
###
##############################################################################
##############################################################################


* installing *source* package 'ASSIGN' ...
** using staged installation
** R
** data
*** moving datasets to lazyload DB
** inst
** byte-compile and prepare package for lazy loading
** help
*** installing help indices
** building package indices
** installing vignettes
** testing if installed package can be loaded from temporary location
** testing if installed package can be loaded from final location
** testing if installed package keeps a record of temporary installation path
* MD5 sums
packaged installation of 'ASSIGN' as ASSIGN_1.40.0.zip
* DONE (ASSIGN)