Back to Multiple platform build/check report for BioC 3.13
[A]BCDEFGHIJKLMNOPQRSTUVWXYZ

This page was generated on 2021-09-24 15:06:02 -0400 (Fri, 24 Sep 2021).

INSTALL results for ASICS on tokay2

To the developers/maintainers of the ASICS package:
- Please allow up to 24 hours (and sometimes 48 hours) for your latest push to git@git.bioconductor.org:packages/ASICS.git to
reflect on this report. See How and When does the builder pull? When will my changes propagate? here for more information.
- Make sure to use the following settings in order to reproduce any error or warning you see on this page.

raw results

Package 92/2041HostnameOS / ArchINSTALLBUILDCHECKBUILD BIN
ASICS 2.8.0  (landing page)
Gaƫlle Lefort
Snapshot Date: 2021-09-23 04:50:12 -0400 (Thu, 23 Sep 2021)
git_url: https://git.bioconductor.org/packages/ASICS
git_branch: RELEASE_3_13
git_last_commit: 3169aa8
git_last_commit_date: 2021-05-19 12:34:32 -0400 (Wed, 19 May 2021)
nebbiolo1Linux (Ubuntu 20.04.2 LTS) / x86_64  OK    OK    OK  UNNEEDED, same version is already published
tokay2Windows Server 2012 R2 Standard / x64  OK    OK    OK    OK  UNNEEDED, same version is already published
machv2macOS 10.14.6 Mojave / x86_64  OK    OK    OK    OK  UNNEEDED, same version is already published

Summary

Package: ASICS
Version: 2.8.0
Command: C:\cygwin\bin\curl.exe -O http://155.52.207.165/BBS/3.13/bioc/src/contrib/ASICS_2.8.0.tar.gz && rm -rf ASICS.buildbin-libdir && mkdir ASICS.buildbin-libdir && C:\Users\biocbuild\bbs-3.13-bioc\R\bin\R.exe CMD INSTALL --merge-multiarch --build --library=ASICS.buildbin-libdir ASICS_2.8.0.tar.gz && C:\Users\biocbuild\bbs-3.13-bioc\R\bin\R.exe CMD INSTALL ASICS_2.8.0.zip && rm ASICS_2.8.0.tar.gz ASICS_2.8.0.zip
StartedAt: 2021-09-23 09:12:29 -0400 (Thu, 23 Sep 2021)
EndedAt: 2021-09-23 09:14:13 -0400 (Thu, 23 Sep 2021)
EllapsedTime: 103.7 seconds
RetCode: 0
Status:   OK  

Command output

##############################################################################
##############################################################################
###
### Running command:
###
###   C:\cygwin\bin\curl.exe -O http://155.52.207.165/BBS/3.13/bioc/src/contrib/ASICS_2.8.0.tar.gz && rm -rf ASICS.buildbin-libdir && mkdir ASICS.buildbin-libdir && C:\Users\biocbuild\bbs-3.13-bioc\R\bin\R.exe CMD INSTALL --merge-multiarch --build --library=ASICS.buildbin-libdir ASICS_2.8.0.tar.gz && C:\Users\biocbuild\bbs-3.13-bioc\R\bin\R.exe CMD INSTALL ASICS_2.8.0.zip && rm ASICS_2.8.0.tar.gz ASICS_2.8.0.zip
###
##############################################################################
##############################################################################


  % Total    % Received % Xferd  Average Speed   Time    Time     Time  Current
                                 Dload  Upload   Total   Spent    Left  Speed

  0     0    0     0    0     0      0      0 --:--:-- --:--:-- --:--:--     0
  3 3260k    3   98k    0     0   461k      0  0:00:07 --:--:--  0:00:07  462k
100 3260k  100 3260k    0     0  2923k      0  0:00:01  0:00:01 --:--:-- 2926k

install for i386

* installing *source* package 'ASICS' ...
** using staged installation
** R
** data
*** moving datasets to lazyload DB
** inst
** byte-compile and prepare package for lazy loading
** help
*** installing help indices
  converting help for package 'ASICS'
    finding HTML links ... done
    ASICS                                   html  
    ASICSResults-class                      html  
    ASICSUsersGuide                         html  
    AnalysisResults-class                   html  
    finding level-2 HTML links ... done

    PureLibrary-class                       html  
    Spectra-class                           html  
    accessors-methods                       html  
    alignSpectra                            html  
    binning                                 html  
    combineAndSubset-methods                html  
    createPureLibrary                       html  
    createSpectra                           html  
    formatForAnalysis                       html  
    importSpectra                           html  
    importSpectraBruker                     html  
    kruskalWallis                           html  
    normaliseSpectra                        html  
    oplsda                                  html  
    pca                                     html  
    plotAlignment                           html  
    pure_library                            html  
    simulate_spectra                        html  
    summary-methods                         html  
    visualisation-methods-analyses          html  
    visualisation-methods-spectra           html  
** building package indices
** installing vignettes
   'ASICS.Rmd' using 'UTF-8' 
   'ASICSUsersGuide.Rmd' using 'UTF-8' 
** testing if installed package can be loaded from temporary location
** testing if installed package can be loaded from final location
** testing if installed package keeps a record of temporary installation path

install for x64

* installing *source* package 'ASICS' ...
** testing if installed package can be loaded
* MD5 sums
packaged installation of 'ASICS' as ASICS_2.8.0.zip
* DONE (ASICS)
* installing to library 'C:/Users/biocbuild/bbs-3.13-bioc/R/library'
package 'ASICS' successfully unpacked and MD5 sums checked