Back to Multiple platform build/check report for BioC 3.13
[A]BCDEFGHIJKLMNOPQRSTUVWXYZ

This page was generated on 2021-09-24 15:06:02 -0400 (Fri, 24 Sep 2021).

BUILD results for ASICS on tokay2

To the developers/maintainers of the ASICS package:
- Please allow up to 24 hours (and sometimes 48 hours) for your latest push to git@git.bioconductor.org:packages/ASICS.git to
reflect on this report. See How and When does the builder pull? When will my changes propagate? here for more information.
- Make sure to use the following settings in order to reproduce any error or warning you see on this page.

raw results

Package 92/2041HostnameOS / ArchINSTALLBUILDCHECKBUILD BIN
ASICS 2.8.0  (landing page)
Gaƫlle Lefort
Snapshot Date: 2021-09-23 04:50:12 -0400 (Thu, 23 Sep 2021)
git_url: https://git.bioconductor.org/packages/ASICS
git_branch: RELEASE_3_13
git_last_commit: 3169aa8
git_last_commit_date: 2021-05-19 12:34:32 -0400 (Wed, 19 May 2021)
nebbiolo1Linux (Ubuntu 20.04.2 LTS) / x86_64  OK    OK    OK  UNNEEDED, same version is already published
tokay2Windows Server 2012 R2 Standard / x64  OK    OK    OK    OK  UNNEEDED, same version is already published
machv2macOS 10.14.6 Mojave / x86_64  OK    OK    OK    OK  UNNEEDED, same version is already published

Summary

Package: ASICS
Version: 2.8.0
Command: chmod a+r ASICS -R && C:\Users\biocbuild\bbs-3.13-bioc\R\bin\R.exe CMD build --keep-empty-dirs --no-resave-data ASICS
StartedAt: 2021-09-23 11:20:10 -0400 (Thu, 23 Sep 2021)
EndedAt: 2021-09-23 11:23:04 -0400 (Thu, 23 Sep 2021)
EllapsedTime: 173.7 seconds
RetCode: 0
Status:   OK  
PackageFile: ASICS_2.8.0.tar.gz
PackageFileSize: 3.191 MiB

Command output

##############################################################################
##############################################################################
###
### Running command:
###
###   chmod a+r ASICS -R && C:\Users\biocbuild\bbs-3.13-bioc\R\bin\R.exe CMD build --keep-empty-dirs --no-resave-data ASICS
###
##############################################################################
##############################################################################


* checking for file 'ASICS/DESCRIPTION' ... OK
* preparing 'ASICS':
* checking DESCRIPTION meta-information ... OK
* installing the package to build vignettes
* creating vignettes ... OK
* checking for LF line-endings in source and make files and shell scripts
* checking for empty or unneeded directories
* building 'ASICS_2.8.0.tar.gz'