Back to Multiple platform build/check report for BioC 3.13
[A]BCDEFGHIJKLMNOPQRSTUVWXYZ

This page was generated on 2021-09-17 15:06:29 -0400 (Fri, 17 Sep 2021).

BUILD BIN results for ASICS on machv2

To the developers/maintainers of the ASICS package:
- Please allow up to 24 hours (and sometimes 48 hours) for your latest push to git@git.bioconductor.org:packages/ASICS.git to
reflect on this report. See How and When does the builder pull? When will my changes propagate? here for more information.
- Make sure to use the following settings in order to reproduce any error or warning you see on this page.

raw results

Package 92/2041HostnameOS / ArchINSTALLBUILDCHECKBUILD BIN
ASICS 2.8.0  (landing page)
Gaëlle Lefort
Snapshot Date: 2021-09-16 04:50:11 -0400 (Thu, 16 Sep 2021)
git_url: https://git.bioconductor.org/packages/ASICS
git_branch: RELEASE_3_13
git_last_commit: 3169aa8
git_last_commit_date: 2021-05-19 12:34:32 -0400 (Wed, 19 May 2021)
nebbiolo1Linux (Ubuntu 20.04.2 LTS) / x86_64  OK    OK    OK  UNNEEDED, same version is already published
tokay2Windows Server 2012 R2 Standard / x64  OK    OK    OK    OK  UNNEEDED, same version is already published
machv2macOS 10.14.6 Mojave / x86_64  OK    OK    OK    OK  UNNEEDED, same version is already published

Summary

Package: ASICS
Version: 2.8.0
Command: rm -rf ASICS.buildbin-libdir && mkdir ASICS.buildbin-libdir && /Users/biocbuild/BBS/utils/build-universal.sh ASICS_2.8.0.tar.gz /Library/Frameworks/R.framework/Versions/Current/Resources/bin/R ASICS.buildbin-libdir
StartedAt: 2021-09-17 01:44:31 -0400 (Fri, 17 Sep 2021)
EndedAt: 2021-09-17 01:45:34 -0400 (Fri, 17 Sep 2021)
EllapsedTime: 63.0 seconds
RetCode: 0
Status:   OK  
PackageFile: ASICS_2.8.0.tgz
PackageFileSize: 3.839 MiB

Command output

##############################################################################
##############################################################################
###
### Running command:
###
###   rm -rf ASICS.buildbin-libdir && mkdir ASICS.buildbin-libdir && /Users/biocbuild/BBS/utils/build-universal.sh ASICS_2.8.0.tar.gz /Library/Frameworks/R.framework/Versions/Current/Resources/bin/R ASICS.buildbin-libdir
###
##############################################################################
##############################################################################


>>>>>>> 
>>>>>>> INSTALLATION WITH 'R CMD INSTALL --preclean --no-multiarch --library=ASICS.buildbin-libdir ASICS_2.8.0.tar.gz'
>>>>>>> 

* installing *source* package ‘ASICS’ ...
** using staged installation
** R
** data
*** moving datasets to lazyload DB
** inst
** byte-compile and prepare package for lazy loading
** help
*** installing help indices
** building package indices
** installing vignettes
** testing if installed package can be loaded from temporary location
** testing if installed package can be loaded from final location
** testing if installed package keeps a record of temporary installation path
* DONE (ASICS)