Index of /checkResults/release/bioc-LATEST/ALDEx2/raw-results/tokay2

[ICO]NameLast modifiedSizeDescription

[DIR]Parent Directory  -  
[TXT]buildbin-out.txt02-Dec-2021 07:17 2.8K 
[   ]buildbin-summary.dcf02-Dec-2021 07:17 533  
[TXT]buildsrc-out.txt02-Dec-2021 07:17 900  
[   ]buildsrc-summary.dcf02-Dec-2021 07:17 454  
[TXT]checksrc-out.txt02-Dec-2021 07:17 3.9K 
[   ]checksrc-summary.dcf02-Dec-2021 07:17 458  
[TXT]install-out.txt02-Dec-2021 07:17 3.5K 
[   ]install-summary.dcf02-Dec-2021 07:17 631