Index of /checkResults/release/bioc-LATEST/ALDEx2/raw-results/nebbiolo2

[ICO]NameLast modifiedSizeDescription

[DIR]Parent Directory  -  
[TXT]buildsrc-out.txt15-Jan-2022 03:04 865  
[   ]buildsrc-summary.dcf15-Jan-2022 03:04 414  
[TXT]checksrc-out.txt15-Jan-2022 03:04 3.2K 
[   ]checksrc-summary.dcf15-Jan-2022 03:04 420  
[TXT]install-out.txt15-Jan-2022 03:04 952  
[   ]install-summary.dcf15-Jan-2022 03:04 257