Index of /checkResults/release/bioc-LATEST/ALDEx2/raw-results

[ICO]NameLast modifiedSizeDescription

[DIR]Parent Directory  -  
[   ]info.dcf04-Dec-2021 03:05 260  
[DIR]machv2/04-Dec-2021 03:05 -  
[DIR]nebbiolo2/04-Dec-2021 03:04 -  
[DIR]tokay2/04-Dec-2021 03:05 -